BEGIN:VCALENDAR
VERSION:2.0
PRODID:-//evangelisationsteam.de - ECPv6.15.20//NONSGML v1.0//EN
CALSCALE:GREGORIAN
METHOD:PUBLISH
X-WR-CALNAME:evangelisationsteam.de
X-ORIGINAL-URL:https://www.evangelisationsteam.de
X-WR-CALDESC:Veranstaltungen für evangelisationsteam.de
REFRESH-INTERVAL;VALUE=DURATION:PT1H
X-Robots-Tag:noindex
X-PUBLISHED-TTL:PT1H
BEGIN:VTIMEZONE
TZID:Europe/Berlin
BEGIN:DAYLIGHT
TZOFFSETFROM:+0100
TZOFFSETTO:+0200
TZNAME:CEST
DTSTART:20220327T010000
END:DAYLIGHT
BEGIN:STANDARD
TZOFFSETFROM:+0200
TZOFFSETTO:+0100
TZNAME:CET
DTSTART:20221030T010000
END:STANDARD
BEGIN:DAYLIGHT
TZOFFSETFROM:+0100
TZOFFSETTO:+0200
TZNAME:CEST
DTSTART:20230326T010000
END:DAYLIGHT
BEGIN:STANDARD
TZOFFSETFROM:+0200
TZOFFSETTO:+0100
TZNAME:CET
DTSTART:20231029T010000
END:STANDARD
BEGIN:DAYLIGHT
TZOFFSETFROM:+0100
TZOFFSETTO:+0200
TZNAME:CEST
DTSTART:20240331T010000
END:DAYLIGHT
BEGIN:STANDARD
TZOFFSETFROM:+0200
TZOFFSETTO:+0100
TZNAME:CET
DTSTART:20241027T010000
END:STANDARD
END:VTIMEZONE
BEGIN:VEVENT
DTSTART;VALUE=DATE:20230611
DTEND;VALUE=DATE:20230619
DTSTAMP:20260422T135842
CREATED:20230302T110803Z
LAST-MODIFIED:20230302T110803Z
UID:10003300-1686441600-1687132799@www.evangelisationsteam.de
SUMMARY:Jugendwoche in Löbau
DESCRIPTION:
URL:https://www.evangelisationsteam.de/termin/jugendwoche-in-loebau/
LOCATION:Sachsen
ATTACH;FMTTYPE=image/jpeg:https://www.evangelisationsteam.de/wp-content/uploads/2019/08/IMG_2501-scaled-e1717053615171.jpg
END:VEVENT
BEGIN:VEVENT
DTSTART;TZID=Europe/Berlin:20230618T143000
DTEND;TZID=Europe/Berlin:20230618T160000
DTSTAMP:20260422T135842
CREATED:20230125T124621Z
LAST-MODIFIED:20230529T145804Z
UID:10002913-1687098600-1687104000@www.evangelisationsteam.de
SUMMARY:PARKGOTTESDIENST
DESCRIPTION:LUTZ SCHEUFLER
URL:https://www.evangelisationsteam.de/termin/freiluftgottesdienst/
LOCATION:NETZSCHKAU\, Schlosspark\, NETZSCHKAU\, 08491
ATTACH;FMTTYPE=image/jpeg:https://www.evangelisationsteam.de/wp-content/uploads/2023/01/parkgodi-flyer-vorderseite-2022-05-22-1146x1590-1.jpg
END:VEVENT
END:VCALENDAR