BEGIN:VCALENDAR
VERSION:2.0
PRODID:-//evangelisationsteam.de - ECPv6.15.20//NONSGML v1.0//EN
CALSCALE:GREGORIAN
METHOD:PUBLISH
X-ORIGINAL-URL:https://www.evangelisationsteam.de
X-WR-CALDESC:Veranstaltungen für evangelisationsteam.de
REFRESH-INTERVAL;VALUE=DURATION:PT1H
X-Robots-Tag:noindex
X-PUBLISHED-TTL:PT1H
BEGIN:VTIMEZONE
TZID:Europe/Berlin
BEGIN:DAYLIGHT
TZOFFSETFROM:+0100
TZOFFSETTO:+0200
TZNAME:CEST
DTSTART:20240331T010000
END:DAYLIGHT
BEGIN:STANDARD
TZOFFSETFROM:+0200
TZOFFSETTO:+0100
TZNAME:CET
DTSTART:20241027T010000
END:STANDARD
BEGIN:DAYLIGHT
TZOFFSETFROM:+0100
TZOFFSETTO:+0200
TZNAME:CEST
DTSTART:20250330T010000
END:DAYLIGHT
BEGIN:STANDARD
TZOFFSETFROM:+0200
TZOFFSETTO:+0100
TZNAME:CET
DTSTART:20251026T010000
END:STANDARD
BEGIN:DAYLIGHT
TZOFFSETFROM:+0100
TZOFFSETTO:+0200
TZNAME:CEST
DTSTART:20260329T010000
END:DAYLIGHT
BEGIN:STANDARD
TZOFFSETFROM:+0200
TZOFFSETTO:+0100
TZNAME:CET
DTSTART:20261025T010000
END:STANDARD
END:VTIMEZONE
BEGIN:VEVENT
DTSTART;TZID=Europe/Berlin:20250316T100000
DTEND;TZID=Europe/Berlin:20250316T113000
DTSTAMP:20260422T123925
CREATED:20241127T124230Z
LAST-MODIFIED:20241127T124230Z
UID:10005933-1742119200-1742124600@www.evangelisationsteam.de
SUMMARY:GOTTESDIENST
DESCRIPTION:GUNTRAM WURST
URL:https://www.evangelisationsteam.de/termin/gottesdienst-247/
LOCATION:St. Ro­chus­kir­che Schönau\, Dorfplatz 9\, Wildenfels OT Schönau\, 08134
ATTACH;FMTTYPE=image/jpeg:https://www.evangelisationsteam.de/wp-content/uploads/2023/03/IMG_1234-scaled.jpg
ORGANIZER;CN="Ev.-Luth. St. Rochus Kirchgemeinde Sch%C3%B6nau":MAILTO:kg.schoenau@evlks.de
END:VEVENT
BEGIN:VEVENT
DTSTART;TZID=Europe/Berlin:20250316T170000
DTEND;TZID=Europe/Berlin:20250316T180000
DTSTAMP:20260422T123925
CREATED:20241127T124450Z
LAST-MODIFIED:20241127T124640Z
UID:10005934-1742144400-1742148000@www.evangelisationsteam.de
SUMMARY:EVANGELISATION
DESCRIPTION:GUNTRAM WURST
URL:https://www.evangelisationsteam.de/termin/evabgelisation/
LOCATION:Lan­des­kirch­li­che Ge­mein­schaft Werdau\, Sidonienstraße 16\, Werdau\, 08412
ATTACH;FMTTYPE=image/jpeg:https://www.evangelisationsteam.de/wp-content/uploads/2024/03/Guntram-Wurst-1.jpg
ORGANIZER;CN="Landeskirchliche Gemeinschaft Werdau":MAILTO:info@lkg-werdau.de
END:VEVENT
END:VCALENDAR