BEGIN:VCALENDAR
VERSION:2.0
PRODID:-//evangelisationsteam.de - ECPv6.15.20//NONSGML v1.0//EN
CALSCALE:GREGORIAN
METHOD:PUBLISH
X-WR-CALNAME:evangelisationsteam.de
X-ORIGINAL-URL:https://www.evangelisationsteam.de
X-WR-CALDESC:Veranstaltungen für evangelisationsteam.de
REFRESH-INTERVAL;VALUE=DURATION:PT1H
X-Robots-Tag:noindex
X-PUBLISHED-TTL:PT1H
BEGIN:VTIMEZONE
TZID:Europe/Berlin
BEGIN:DAYLIGHT
TZOFFSETFROM:+0100
TZOFFSETTO:+0200
TZNAME:CEST
DTSTART:20240331T010000
END:DAYLIGHT
BEGIN:STANDARD
TZOFFSETFROM:+0200
TZOFFSETTO:+0100
TZNAME:CET
DTSTART:20241027T010000
END:STANDARD
BEGIN:DAYLIGHT
TZOFFSETFROM:+0100
TZOFFSETTO:+0200
TZNAME:CEST
DTSTART:20250330T010000
END:DAYLIGHT
BEGIN:STANDARD
TZOFFSETFROM:+0200
TZOFFSETTO:+0100
TZNAME:CET
DTSTART:20251026T010000
END:STANDARD
BEGIN:DAYLIGHT
TZOFFSETFROM:+0100
TZOFFSETTO:+0200
TZNAME:CEST
DTSTART:20260329T010000
END:DAYLIGHT
BEGIN:STANDARD
TZOFFSETFROM:+0200
TZOFFSETTO:+0100
TZNAME:CET
DTSTART:20261025T010000
END:STANDARD
END:VTIMEZONE
BEGIN:VEVENT
DTSTART;TZID=Europe/Berlin:20250325T143000
DTEND;TZID=Europe/Berlin:20250325T153000
DTSTAMP:20260424T200920
CREATED:20250107T160037Z
LAST-MODIFIED:20250107T160037Z
UID:10005954-1742913000-1742916600@www.evangelisationsteam.de
SUMMARY:Frauennachmittag in Härtensdorf
DESCRIPTION:
URL:https://www.evangelisationsteam.de/termin/frauennachmittag-in-haertensdorf/
LOCATION:Pfarr­haus Härtensdorf\, Karl-Marx-Str. 49\, Wildenfels OT Härtensdorf\, 08134\, Deutschland
ATTACH;FMTTYPE=image/jpeg:https://www.evangelisationsteam.de/wp-content/uploads/2025/01/Verkuendigung_012-scaled.jpg
END:VEVENT
BEGIN:VEVENT
DTSTART;TZID=Europe/Berlin:20250325T190000
DTEND;TZID=Europe/Berlin:20250325T203000
DTSTAMP:20260424T200920
CREATED:20250107T160418Z
LAST-MODIFIED:20250107T160418Z
UID:10005955-1742929200-1742934600@www.evangelisationsteam.de
SUMMARY:Bibelabend in Jahnsdorf
DESCRIPTION:
URL:https://www.evangelisationsteam.de/termin/bibelabend-in-jahnsdorf-2/
LOCATION:Lan­des­kirch­li­che Ge­mein­schaft Jahnsdorf\, Bergstraße 1a\, Jahnsdorf\, 09387
ATTACH;FMTTYPE=image/jpeg:https://www.evangelisationsteam.de/wp-content/uploads/2024/04/Verkuendigung-006-Kopie.jpeg
END:VEVENT
END:VCALENDAR