BEGIN:VCALENDAR
VERSION:2.0
PRODID:-//evangelisationsteam.de - ECPv6.15.20//NONSGML v1.0//EN
CALSCALE:GREGORIAN
METHOD:PUBLISH
X-WR-CALNAME:evangelisationsteam.de
X-ORIGINAL-URL:https://www.evangelisationsteam.de
X-WR-CALDESC:Veranstaltungen für evangelisationsteam.de
REFRESH-INTERVAL;VALUE=DURATION:PT1H
X-Robots-Tag:noindex
X-PUBLISHED-TTL:PT1H
BEGIN:VTIMEZONE
TZID:Europe/Berlin
BEGIN:DAYLIGHT
TZOFFSETFROM:+0100
TZOFFSETTO:+0200
TZNAME:CEST
DTSTART:20240331T010000
END:DAYLIGHT
BEGIN:STANDARD
TZOFFSETFROM:+0200
TZOFFSETTO:+0100
TZNAME:CET
DTSTART:20241027T010000
END:STANDARD
BEGIN:DAYLIGHT
TZOFFSETFROM:+0100
TZOFFSETTO:+0200
TZNAME:CEST
DTSTART:20250330T010000
END:DAYLIGHT
BEGIN:STANDARD
TZOFFSETFROM:+0200
TZOFFSETTO:+0100
TZNAME:CET
DTSTART:20251026T010000
END:STANDARD
BEGIN:DAYLIGHT
TZOFFSETFROM:+0100
TZOFFSETTO:+0200
TZNAME:CEST
DTSTART:20260329T010000
END:DAYLIGHT
BEGIN:STANDARD
TZOFFSETFROM:+0200
TZOFFSETTO:+0100
TZNAME:CET
DTSTART:20261025T010000
END:STANDARD
END:VTIMEZONE
BEGIN:VEVENT
DTSTART;VALUE=DATE:20250403
DTEND;VALUE=DATE:20250406
DTSTAMP:20260425T130203
CREATED:20250324T153013Z
LAST-MODIFIED:20250324T153013Z
UID:10006408-1743638400-1743897599@www.evangelisationsteam.de
SUMMARY:Lego Tage
DESCRIPTION:Mi­cha­el Kaufmann
URL:https://www.evangelisationsteam.de/termin/lego-tage-52/
LOCATION:Kir­che Stenn
ATTACH;FMTTYPE=image/jpeg:https://www.evangelisationsteam.de/wp-content/uploads/2025/03/IMG_20220406_145815-scaled.jpg
END:VEVENT
BEGIN:VEVENT
DTSTART;TZID=Europe/Berlin:20250405T090000
DTEND;TZID=Europe/Berlin:20250405T120000
DTSTAMP:20260425T130203
CREATED:20241127T131623Z
LAST-MODIFIED:20241127T131623Z
UID:10005942-1743843600-1743854400@www.evangelisationsteam.de
SUMMARY:MITARBEITERSCHULUNG BLAUES KREUZ
DESCRIPTION:GUNTRAM WURST
URL:https://www.evangelisationsteam.de/termin/mitarbeiterschulung-blaues-kreuz-2/
LOCATION:Ev. Frei­zeit­haus Röhrs­dor­fer Park\, Rehgartenweg 1\, Chemnitz OT Röhrsdorf\, 09247
ATTACH;FMTTYPE=image/jpeg:https://www.evangelisationsteam.de/wp-content/uploads/2024/06/IMG_9844-scaled.jpg
ORGANIZER;CN="Blaues Kreuz Deutschland Landesverband Sachsen":MAILTO:landesverband@bksachsen.de
END:VEVENT
BEGIN:VEVENT
DTSTART;TZID=Europe/Berlin:20250405T200000
DTEND;TZID=Europe/Berlin:20250405T213000
DTSTAMP:20260425T130203
CREATED:20241122T180039Z
LAST-MODIFIED:20250221T112054Z
UID:10005925-1743883200-1743888600@www.evangelisationsteam.de
SUMMARY:Evangelisation
DESCRIPTION:LUTZ SCHEUFLER
URL:https://www.evangelisationsteam.de/termin/evangelisation-90/2025-04-05/
LOCATION:FEG BERN\, Zeughausgasse 35\, Bern\, 3011\, Switzerland
ATTACH;FMTTYPE=image/jpeg:https://www.evangelisationsteam.de/wp-content/uploads/2019/11/LutzScheuflerLIVE_GregorPQ.jpg
END:VEVENT
END:VCALENDAR