BEGIN:VCALENDAR
VERSION:2.0
PRODID:-//evangelisationsteam.de - ECPv6.15.20//NONSGML v1.0//EN
CALSCALE:GREGORIAN
METHOD:PUBLISH
X-WR-CALNAME:evangelisationsteam.de
X-ORIGINAL-URL:https://www.evangelisationsteam.de
X-WR-CALDESC:Veranstaltungen für evangelisationsteam.de
REFRESH-INTERVAL;VALUE=DURATION:PT1H
X-Robots-Tag:noindex
X-PUBLISHED-TTL:PT1H
BEGIN:VTIMEZONE
TZID:Europe/Berlin
BEGIN:DAYLIGHT
TZOFFSETFROM:+0100
TZOFFSETTO:+0200
TZNAME:CEST
DTSTART:20240331T010000
END:DAYLIGHT
BEGIN:STANDARD
TZOFFSETFROM:+0200
TZOFFSETTO:+0100
TZNAME:CET
DTSTART:20241027T010000
END:STANDARD
BEGIN:DAYLIGHT
TZOFFSETFROM:+0100
TZOFFSETTO:+0200
TZNAME:CEST
DTSTART:20250330T010000
END:DAYLIGHT
BEGIN:STANDARD
TZOFFSETFROM:+0200
TZOFFSETTO:+0100
TZNAME:CET
DTSTART:20251026T010000
END:STANDARD
BEGIN:DAYLIGHT
TZOFFSETFROM:+0100
TZOFFSETTO:+0200
TZNAME:CEST
DTSTART:20260329T010000
END:DAYLIGHT
BEGIN:STANDARD
TZOFFSETFROM:+0200
TZOFFSETTO:+0100
TZNAME:CET
DTSTART:20261025T010000
END:STANDARD
END:VTIMEZONE
BEGIN:VEVENT
DTSTART;TZID=Europe/Berlin:20250413T093000
DTEND;TZID=Europe/Berlin:20250413T110000
DTSTAMP:20260425T130058
CREATED:20241127T131930Z
LAST-MODIFIED:20241127T131930Z
UID:10005943-1744536600-1744542000@www.evangelisationsteam.de
SUMMARY:NEU LEBEN LIGHT GOTTESDIENST
DESCRIPTION:GTUNTRAM WURST
URL:https://www.evangelisationsteam.de/termin/neu-leben-light-gottesdienst-19/
LOCATION:Stadt­kir­che Limbach-Oberfrohna\, An der Stadtkirche 5\, Limbach-Oberfrohna\, 09212
ATTACH;FMTTYPE=image/jpeg:https://www.evangelisationsteam.de/wp-content/uploads/2023/03/IMG_1234-scaled.jpg
ORGANIZER;CN="Ev.-Luth. Kirchgemeinde Limbach-K%C3%A4ndler":MAILTO:kg.limbach_kaendler@evlks.de
END:VEVENT
BEGIN:VEVENT
DTSTART;TZID=Europe/Berlin:20250413T170000
DTEND;TZID=Europe/Berlin:20250413T183000
DTSTAMP:20260425T130058
CREATED:20250218T141709Z
LAST-MODIFIED:20250317T100711Z
UID:10006018-1744563600-1744569000@www.evangelisationsteam.de
SUMMARY:GOTTESDIENST
DESCRIPTION:GUNTRAM WURST
URL:https://www.evangelisationsteam.de/termin/gottesdienst-252/
LOCATION:Lan­des­kirch­li­che Ge­mein­schaft Markneukirchen\, Roter Markt 15\, Markneukirchen\, 08258
ATTACH;FMTTYPE=image/jpeg:https://www.evangelisationsteam.de/wp-content/uploads/2025/02/IMG_0598aa-scaled.jpg
ORGANIZER;CN="Landeskirchliche Gemeinschaft Markneukirchen":MAILTO:info@landeskirchliche-gemeinschaft-markneukirchen.de
END:VEVENT
END:VCALENDAR