BEGIN:VCALENDAR
VERSION:2.0
PRODID:-//evangelisationsteam.de - ECPv6.15.20//NONSGML v1.0//EN
CALSCALE:GREGORIAN
METHOD:PUBLISH
X-WR-CALNAME:evangelisationsteam.de
X-ORIGINAL-URL:https://www.evangelisationsteam.de
X-WR-CALDESC:Veranstaltungen für evangelisationsteam.de
REFRESH-INTERVAL;VALUE=DURATION:PT1H
X-Robots-Tag:noindex
X-PUBLISHED-TTL:PT1H
BEGIN:VTIMEZONE
TZID:Europe/Berlin
BEGIN:DAYLIGHT
TZOFFSETFROM:+0100
TZOFFSETTO:+0200
TZNAME:CEST
DTSTART:20240331T010000
END:DAYLIGHT
BEGIN:STANDARD
TZOFFSETFROM:+0200
TZOFFSETTO:+0100
TZNAME:CET
DTSTART:20241027T010000
END:STANDARD
BEGIN:DAYLIGHT
TZOFFSETFROM:+0100
TZOFFSETTO:+0200
TZNAME:CEST
DTSTART:20250330T010000
END:DAYLIGHT
BEGIN:STANDARD
TZOFFSETFROM:+0200
TZOFFSETTO:+0100
TZNAME:CET
DTSTART:20251026T010000
END:STANDARD
BEGIN:DAYLIGHT
TZOFFSETFROM:+0100
TZOFFSETTO:+0200
TZNAME:CEST
DTSTART:20260329T010000
END:DAYLIGHT
BEGIN:STANDARD
TZOFFSETFROM:+0200
TZOFFSETTO:+0100
TZNAME:CET
DTSTART:20261025T010000
END:STANDARD
END:VTIMEZONE
BEGIN:VEVENT
DTSTART;VALUE=DATE:20250423
DTEND;VALUE=DATE:20250428
DTSTAMP:20260425T130256
CREATED:20250324T154745Z
LAST-MODIFIED:20250324T154745Z
UID:10006411-1745366400-1745798399@www.evangelisationsteam.de
SUMMARY:Lego Tage
DESCRIPTION:Mi­cha­el Kaufmann
URL:https://www.evangelisationsteam.de/termin/lego-tage-54/
LOCATION:Men­no­ni­ten­ge­mein­de Elmshorn\, Robert-Bosch-Str. 22\, Elmshorn\, 25335
ATTACH;FMTTYPE=image/jpeg:https://www.evangelisationsteam.de/wp-content/uploads/2025/03/IMG_20220406_145815-scaled.jpg
END:VEVENT
BEGIN:VEVENT
DTSTART;TZID=Europe/Berlin:20250427T100000
DTEND;TZID=Europe/Berlin:20250427T113000
DTSTAMP:20260425T130256
CREATED:20250107T162744Z
LAST-MODIFIED:20250107T162744Z
UID:10005962-1745748000-1745753400@www.evangelisationsteam.de
SUMMARY:Gottesdienst in Annaberg
DESCRIPTION:
URL:https://www.evangelisationsteam.de/termin/gottesdienst-in-annaberg-2/
LOCATION:Grün­der­zen­trum Annaberg-Buchholz\, Adam-Ries-Str. 16\, Annaberg-Buchholz\, 09456
ATTACH;FMTTYPE=image/jpeg:https://www.evangelisationsteam.de/wp-content/uploads/2024/04/Verkuendigung-001-Kopie-e1717055212515.jpeg
END:VEVENT
BEGIN:VEVENT
DTSTART;TZID=Europe/Berlin:20250427T100000
DTEND;TZID=Europe/Berlin:20250427T113000
DTSTAMP:20260425T130256
CREATED:20250120T163123Z
LAST-MODIFIED:20250221T111905Z
UID:10005984-1745748000-1745753400@www.evangelisationsteam.de
SUMMARY:Gottesdienst
DESCRIPTION:LUTZ SCHEUFLER
URL:https://www.evangelisationsteam.de/termin/mittendrin-gottesdienst-11/
LOCATION:LKG TREUEN\, Marienstr. 10\, TREUEN\, 08233
ATTACH;FMTTYPE=image/jpeg:https://www.evangelisationsteam.de/wp-content/uploads/2024/03/Lutz-Scheufler-1.jpg
END:VEVENT
BEGIN:VEVENT
DTSTART;TZID=Europe/Berlin:20250427T143000
DTEND;TZID=Europe/Berlin:20250427T160000
DTSTAMP:20260425T130256
CREATED:20250120T161220Z
LAST-MODIFIED:20250120T161220Z
UID:10005975-1745764200-1745769600@www.evangelisationsteam.de
SUMMARY:Volksmissionskreis
DESCRIPTION:DR. CHRISTA-MARIA STEINBERG
URL:https://www.evangelisationsteam.de/termin/volksmissionskreis-20/
LOCATION:Ev-Luth. Kirch­ge­mein­de­haus Großrückerswalde\, Kirchberg 4\, Großrückerswalde \, Sachsen\, 09518\, Deutschland
ATTACH;FMTTYPE=image/jpeg:https://www.evangelisationsteam.de/wp-content/uploads/2024/03/Steinberg-23-von-68-edited.jpg
END:VEVENT
BEGIN:VEVENT
DTSTART;TZID=Europe/Berlin:20250427T143000
DTEND;TZID=Europe/Berlin:20250427T160000
DTSTAMP:20260425T130256
CREATED:20250120T163300Z
LAST-MODIFIED:20250221T111838Z
UID:10005985-1745764200-1745769600@www.evangelisationsteam.de
SUMMARY:Gottesdienst
DESCRIPTION:LUTZ SCHEUFLER
URL:https://www.evangelisationsteam.de/termin/gottesdienst-250/
LOCATION:Lan­des­kirch­li­che Ge­mein­schaft Rothenkirche\, Schönheider Str. 4\, Steinberg OT Rothenkirchen\, 08237
ATTACH;FMTTYPE=image/jpeg:https://www.evangelisationsteam.de/wp-content/uploads/2021/05/P1080606.jpg
END:VEVENT
END:VCALENDAR