BEGIN:VCALENDAR
VERSION:2.0
PRODID:-//evangelisationsteam.de - ECPv6.15.20//NONSGML v1.0//EN
CALSCALE:GREGORIAN
METHOD:PUBLISH
X-WR-CALNAME:evangelisationsteam.de
X-ORIGINAL-URL:https://www.evangelisationsteam.de
X-WR-CALDESC:Veranstaltungen für evangelisationsteam.de
REFRESH-INTERVAL;VALUE=DURATION:PT1H
X-Robots-Tag:noindex
X-PUBLISHED-TTL:PT1H
BEGIN:VTIMEZONE
TZID:Europe/Berlin
BEGIN:DAYLIGHT
TZOFFSETFROM:+0100
TZOFFSETTO:+0200
TZNAME:CEST
DTSTART:20240331T010000
END:DAYLIGHT
BEGIN:STANDARD
TZOFFSETFROM:+0200
TZOFFSETTO:+0100
TZNAME:CET
DTSTART:20241027T010000
END:STANDARD
BEGIN:DAYLIGHT
TZOFFSETFROM:+0100
TZOFFSETTO:+0200
TZNAME:CEST
DTSTART:20250330T010000
END:DAYLIGHT
BEGIN:STANDARD
TZOFFSETFROM:+0200
TZOFFSETTO:+0100
TZNAME:CET
DTSTART:20251026T010000
END:STANDARD
BEGIN:DAYLIGHT
TZOFFSETFROM:+0100
TZOFFSETTO:+0200
TZNAME:CEST
DTSTART:20260329T010000
END:DAYLIGHT
BEGIN:STANDARD
TZOFFSETFROM:+0200
TZOFFSETTO:+0100
TZNAME:CET
DTSTART:20261025T010000
END:STANDARD
END:VTIMEZONE
BEGIN:VEVENT
DTSTART;TZID=Europe/Berlin:20250509T190000
DTEND;TZID=Europe/Berlin:20250509T200000
DTSTAMP:20260425T164601
CREATED:20250218T143433Z
LAST-MODIFIED:20250327T101947Z
UID:10006391-1746817200-1746820800@www.evangelisationsteam.de
SUMMARY:ZELTEVANGELISATION
DESCRIPTION:GUNTRAM WURST
URL:https://www.evangelisationsteam.de/termin/zeltevangelisation-18/2025-05-09/
LOCATION:EVANGELISATIONSZELT\, Inselweg\, Frauenhain\, 01609
ATTACH;FMTTYPE=image/jpeg:https://www.evangelisationsteam.de/wp-content/uploads/2024/06/IMG_9834-scaled.jpg
ORGANIZER;CN="Landeskirchliche Gemeinschaft Frauenhain":MAILTO:info@gemeinschaft-frauenhain.de
END:VEVENT
BEGIN:VEVENT
DTSTART;TZID=Europe/Berlin:20250509T193000
DTEND;TZID=Europe/Berlin:20250509T210000
DTSTAMP:20260425T164601
CREATED:20250120T161356Z
LAST-MODIFIED:20250120T161356Z
UID:10005976-1746819000-1746824400@www.evangelisationsteam.de
SUMMARY:Kultur in der Kapelle
DESCRIPTION:DR. CHRISTA-MARIA STEINBERG
URL:https://www.evangelisationsteam.de/termin/kultur-in-der-kapelle/
LOCATION:Kir­che Wiederau
ATTACH;FMTTYPE=image/jpeg:https://www.evangelisationsteam.de/wp-content/uploads/2024/03/Steinberg-23-von-68-edited.jpg
END:VEVENT
BEGIN:VEVENT
DTSTART;TZID=Europe/Berlin:20250509T200000
DTEND;TZID=Europe/Berlin:20250509T213000
DTSTAMP:20260425T164601
CREATED:20250123T132617Z
LAST-MODIFIED:20250321T165735Z
UID:10005989-1746820800-1746826200@www.evangelisationsteam.de
SUMMARY:Evangelisation
DESCRIPTION:LUTZ SCHEUFLER
URL:https://www.evangelisationsteam.de/termin/evangelisation-91/2025-05-09/
LOCATION:FEG UTZENSTORF\, Landshutstrasse 61\, Utzenstorf\, 3427\, Switzerland
ATTACH;FMTTYPE=image/jpeg:https://www.evangelisationsteam.de/wp-content/uploads/2025/01/SCHEUFLER-L.jpg
END:VEVENT
END:VCALENDAR