BEGIN:VCALENDAR
VERSION:2.0
PRODID:-//evangelisationsteam.de - ECPv6.15.20//NONSGML v1.0//EN
CALSCALE:GREGORIAN
METHOD:PUBLISH
X-WR-CALNAME:evangelisationsteam.de
X-ORIGINAL-URL:https://www.evangelisationsteam.de
X-WR-CALDESC:Veranstaltungen für evangelisationsteam.de
REFRESH-INTERVAL;VALUE=DURATION:PT1H
X-Robots-Tag:noindex
X-PUBLISHED-TTL:PT1H
BEGIN:VTIMEZONE
TZID:Europe/Berlin
BEGIN:DAYLIGHT
TZOFFSETFROM:+0100
TZOFFSETTO:+0200
TZNAME:CEST
DTSTART:20240331T010000
END:DAYLIGHT
BEGIN:STANDARD
TZOFFSETFROM:+0200
TZOFFSETTO:+0100
TZNAME:CET
DTSTART:20241027T010000
END:STANDARD
BEGIN:DAYLIGHT
TZOFFSETFROM:+0100
TZOFFSETTO:+0200
TZNAME:CEST
DTSTART:20250330T010000
END:DAYLIGHT
BEGIN:STANDARD
TZOFFSETFROM:+0200
TZOFFSETTO:+0100
TZNAME:CET
DTSTART:20251026T010000
END:STANDARD
BEGIN:DAYLIGHT
TZOFFSETFROM:+0100
TZOFFSETTO:+0200
TZNAME:CEST
DTSTART:20260329T010000
END:DAYLIGHT
BEGIN:STANDARD
TZOFFSETFROM:+0200
TZOFFSETTO:+0100
TZNAME:CET
DTSTART:20261025T010000
END:STANDARD
END:VTIMEZONE
BEGIN:VEVENT
DTSTART;TZID=Europe/Berlin:20250515T080000
DTEND;TZID=Europe/Berlin:20250518T170000
DTSTAMP:20260425T145340
CREATED:20250415T070947Z
LAST-MODIFIED:20250415T070947Z
UID:10006424-1747296000-1747587600@www.evangelisationsteam.de
SUMMARY:Lego Tage
DESCRIPTION:Mi­cha­el Kaufmann
URL:https://www.evangelisationsteam.de/termin/lego-tage-55/
LOCATION:Tan­nen­berg Gasthaus
ATTACH;FMTTYPE=image/jpeg:https://www.evangelisationsteam.de/wp-content/uploads/2025/03/IMG_20220406_145815-scaled.jpg
ORGANIZER;CN="Bekennende Evangelische Gemeinde Annaberg":MAILTO:stefpet@t-online.de
END:VEVENT
BEGIN:VEVENT
DTSTART;VALUE=DATE:20250516
DTEND;VALUE=DATE:20250517
DTSTAMP:20260425T145340
CREATED:20250414T074508Z
LAST-MODIFIED:20250414T075046Z
UID:10006415-1747353600-1747439999@www.evangelisationsteam.de
SUMMARY:MetallBauTag | Witzin
DESCRIPTION:ALEXANDER HELLMICH \nWer bei die­sem Pro­jekt mit­ar­bei­ten möch­te\, soll­te sich vor­her mit Alex­an­der in Ver­bin­dung setz­ten – KONTAKT
URL:https://www.evangelisationsteam.de/termin/metallbautag-witzin/
LOCATION:Ev.-Luth. Kirch­ge­mein­de Witzin\, Johannes Baral Kietz 4\, Witzin\, 19406
ATTACH;FMTTYPE=image/jpeg:https://www.evangelisationsteam.de/wp-content/uploads/2025/02/Alexander-Hellmich-und-XXL-Metallbaukasten-scaled.jpeg
END:VEVENT
BEGIN:VEVENT
DTSTART;TZID=Europe/Berlin:20250516T183000
DTEND;TZID=Europe/Berlin:20250516T210000
DTSTAMP:20260425T145340
CREATED:20250218T150858Z
LAST-MODIFIED:20250221T134418Z
UID:10006394-1747420200-1747429200@www.evangelisationsteam.de
SUMMARY:SEMINAR PERSÖNLICHE EVANGELISATION
DESCRIPTION:GUNTRAM WURST
URL:https://www.evangelisationsteam.de/termin/seminar-persoenliche-evangelisation-19/
LOCATION:Pfarr­haus Pleißa\, Schulberg 2\, Limbach-Oberfrohna\, OT Pleißa\, Sachsen\, 09212
ATTACH;FMTTYPE=image/jpeg:https://www.evangelisationsteam.de/wp-content/uploads/2024/06/7-_FD_9574-CR3_1-scaled.jpg
ORGANIZER;CN="Ev.-Luth. Kirchgemeinde Plei%C3%9Fa":MAILTO:kg.pleissa@evlks.de
END:VEVENT
BEGIN:VEVENT
DTSTART;TZID=Europe/Berlin:20250516T193000
DTEND;TZID=Europe/Berlin:20250516T210000
DTSTAMP:20260425T145340
CREATED:20250123T133037Z
LAST-MODIFIED:20250521T065112Z
UID:10005993-1747423800-1747429200@www.evangelisationsteam.de
SUMMARY:Evangelisation | Beerheide
DESCRIPTION:LUTZ SCHEUFLER
URL:https://www.evangelisationsteam.de/termin/evangelisation-92/2025-05-16/
LOCATION:Kul­tur­haus Beerheide\, Rempesgrüner Str. 36\, Auerbach OT Beerheide\, 08209\, Deutschland
ATTACH;FMTTYPE=image/jpeg:https://www.evangelisationsteam.de/wp-content/uploads/2025/01/SCHEUFLER_0392.jpg
END:VEVENT
BEGIN:VEVENT
DTSTART;TZID=Europe/Berlin:20250516T193000
DTEND;TZID=Europe/Berlin:20250516T210000
DTSTAMP:20260425T145340
CREATED:20250515T080244Z
LAST-MODIFIED:20250515T080244Z
UID:10006432-1747423800-1747429200@www.evangelisationsteam.de
SUMMARY:GospelMagic in Wilhermsdorf
DESCRIPTION:
URL:https://www.evangelisationsteam.de/termin/gospelmagic-in-wilhermsdorf/
LOCATION:Schüt­zen­heim Wilhermsdorf\, Schützenstraße 10\, Wilhermsdorf\, 91452\, Germany
ATTACH;FMTTYPE=image/jpeg:https://www.evangelisationsteam.de/wp-content/uploads/2024/04/Gospelmagic-005-Kopie.jpeg
END:VEVENT
END:VCALENDAR