BEGIN:VCALENDAR
VERSION:2.0
PRODID:-//evangelisationsteam.de - ECPv6.15.20//NONSGML v1.0//EN
CALSCALE:GREGORIAN
METHOD:PUBLISH
X-ORIGINAL-URL:https://www.evangelisationsteam.de
X-WR-CALDESC:Veranstaltungen für evangelisationsteam.de
REFRESH-INTERVAL;VALUE=DURATION:PT1H
X-Robots-Tag:noindex
X-PUBLISHED-TTL:PT1H
BEGIN:VTIMEZONE
TZID:Europe/Berlin
BEGIN:DAYLIGHT
TZOFFSETFROM:+0100
TZOFFSETTO:+0200
TZNAME:CEST
DTSTART:20240331T010000
END:DAYLIGHT
BEGIN:STANDARD
TZOFFSETFROM:+0200
TZOFFSETTO:+0100
TZNAME:CET
DTSTART:20241027T010000
END:STANDARD
BEGIN:DAYLIGHT
TZOFFSETFROM:+0100
TZOFFSETTO:+0200
TZNAME:CEST
DTSTART:20250330T010000
END:DAYLIGHT
BEGIN:STANDARD
TZOFFSETFROM:+0200
TZOFFSETTO:+0100
TZNAME:CET
DTSTART:20251026T010000
END:STANDARD
BEGIN:DAYLIGHT
TZOFFSETFROM:+0100
TZOFFSETTO:+0200
TZNAME:CEST
DTSTART:20260329T010000
END:DAYLIGHT
BEGIN:STANDARD
TZOFFSETFROM:+0200
TZOFFSETTO:+0100
TZNAME:CET
DTSTART:20261025T010000
END:STANDARD
END:VTIMEZONE
BEGIN:VEVENT
DTSTART;TZID=Europe/Berlin:20250515T080000
DTEND;TZID=Europe/Berlin:20250518T170000
DTSTAMP:20260425T130350
CREATED:20250415T070947Z
LAST-MODIFIED:20250415T070947Z
UID:10006424-1747296000-1747587600@www.evangelisationsteam.de
SUMMARY:Lego Tage
DESCRIPTION:Mi­cha­el Kaufmann
URL:https://www.evangelisationsteam.de/termin/lego-tage-55/
LOCATION:Tan­nen­berg Gasthaus
ATTACH;FMTTYPE=image/jpeg:https://www.evangelisationsteam.de/wp-content/uploads/2025/03/IMG_20220406_145815-scaled.jpg
ORGANIZER;CN="Bekennende Evangelische Gemeinde Annaberg":MAILTO:stefpet@t-online.de
END:VEVENT
BEGIN:VEVENT
DTSTART;VALUE=DATE:20250517
DTEND;VALUE=DATE:20250519
DTSTAMP:20260425T130350
CREATED:20250414T074913Z
LAST-MODIFIED:20250414T074952Z
UID:10006416-1747440000-1747612799@www.evangelisationsteam.de
SUMMARY:Vater-Kind-Bautage | Crivitz
DESCRIPTION:ALEXANDER HELLMICH \nWer bei die­sem Pro­jekt mit­ar­bei­ten möch­te\, soll­te sich vor­her mit Alex­an­der in Ver­bin­dung setz­ten – KONTAKT
URL:https://www.evangelisationsteam.de/termin/vater-kind-bautage-crivitz/
LOCATION:EFG Cri­vitz\, Weinbergs 50\, Crivitz\, 19089
ATTACH;FMTTYPE=image/jpeg:https://www.evangelisationsteam.de/wp-content/uploads/2025/02/Alexander-Hellmich-und-XXL-Metallbaukasten-scaled.jpeg
END:VEVENT
BEGIN:VEVENT
DTSTART;TZID=Europe/Berlin:20250518T090000
DTEND;TZID=Europe/Berlin:20250518T103000
DTSTAMP:20260425T130350
CREATED:20250218T151418Z
LAST-MODIFIED:20250218T151418Z
UID:10006396-1747558800-1747564200@www.evangelisationsteam.de
SUMMARY:GOTTESDIENST
DESCRIPTION:GUNTRAM WURST
URL:https://www.evangelisationsteam.de/termin/gottesdienst-253/
LOCATION:Kir­che Pleißa\, Kirchstraße\, Limbach-Oberfrohna OT Pleißa\, 09212\, Germany
ATTACH;FMTTYPE=image/jpeg:https://www.evangelisationsteam.de/wp-content/uploads/2024/03/info_EVANGELISATIONSTEAM_240323_a240304_twk_DSCF8222-scaled.jpg
END:VEVENT
BEGIN:VEVENT
DTSTART;TZID=Europe/Berlin:20250518T100000
DTEND;TZID=Europe/Berlin:20250518T113000
DTSTAMP:20260425T130350
CREATED:20250123T133037Z
LAST-MODIFIED:20250521T065112Z
UID:10005995-1747562400-1747567800@www.evangelisationsteam.de
SUMMARY:Evangelisation | Beerheide
DESCRIPTION:LUTZ SCHEUFLER
URL:https://www.evangelisationsteam.de/termin/evangelisation-92/2025-05-18/
LOCATION:Kul­tur­haus Beerheide\, Rempesgrüner Str. 36\, Auerbach OT Beerheide\, 08209\, Deutschland
ATTACH;FMTTYPE=image/jpeg:https://www.evangelisationsteam.de/wp-content/uploads/2025/01/SCHEUFLER_0392.jpg
END:VEVENT
BEGIN:VEVENT
DTSTART;TZID=Europe/Berlin:20250518T100000
DTEND;TZID=Europe/Berlin:20250518T113000
DTSTAMP:20260425T130350
CREATED:20250515T080907Z
LAST-MODIFIED:20250515T080907Z
UID:10006434-1747562400-1747567800@www.evangelisationsteam.de
SUMMARY:Gottesdienst in Wilhermsdorf
DESCRIPTION:
URL:https://www.evangelisationsteam.de/termin/gottesdienst-in-wilhermsdorf/
LOCATION:BIBELGEMEINDE WILHERMSDORF\, Gerberstr. 19 A\, WILHERMSDORF\, 91452
ATTACH;FMTTYPE=image/jpeg:https://www.evangelisationsteam.de/wp-content/uploads/2025/01/Verkuendigung_013-scaled.jpg
END:VEVENT
END:VCALENDAR