BEGIN:VCALENDAR
VERSION:2.0
PRODID:-//evangelisationsteam.de - ECPv6.15.20//NONSGML v1.0//EN
CALSCALE:GREGORIAN
METHOD:PUBLISH
X-WR-CALNAME:evangelisationsteam.de
X-ORIGINAL-URL:https://www.evangelisationsteam.de
X-WR-CALDESC:Veranstaltungen für evangelisationsteam.de
REFRESH-INTERVAL;VALUE=DURATION:PT1H
X-Robots-Tag:noindex
X-PUBLISHED-TTL:PT1H
BEGIN:VTIMEZONE
TZID:Europe/Berlin
BEGIN:DAYLIGHT
TZOFFSETFROM:+0100
TZOFFSETTO:+0200
TZNAME:CEST
DTSTART:20240331T010000
END:DAYLIGHT
BEGIN:STANDARD
TZOFFSETFROM:+0200
TZOFFSETTO:+0100
TZNAME:CET
DTSTART:20241027T010000
END:STANDARD
BEGIN:DAYLIGHT
TZOFFSETFROM:+0100
TZOFFSETTO:+0200
TZNAME:CEST
DTSTART:20250330T010000
END:DAYLIGHT
BEGIN:STANDARD
TZOFFSETFROM:+0200
TZOFFSETTO:+0100
TZNAME:CET
DTSTART:20251026T010000
END:STANDARD
BEGIN:DAYLIGHT
TZOFFSETFROM:+0100
TZOFFSETTO:+0200
TZNAME:CEST
DTSTART:20260329T010000
END:DAYLIGHT
BEGIN:STANDARD
TZOFFSETFROM:+0200
TZOFFSETTO:+0100
TZNAME:CET
DTSTART:20261025T010000
END:STANDARD
END:VTIMEZONE
BEGIN:VEVENT
DTSTART;VALUE=DATE:20250529
DTEND;VALUE=DATE:20250602
DTSTAMP:20260425T162750
CREATED:20250414T075902Z
LAST-MODIFIED:20250414T075902Z
UID:10006418-1748476800-1748822399@www.evangelisationsteam.de
SUMMARY:Vater-Sohn-Wochenende | Rehe im Westerwald
DESCRIPTION:ALEXANDER HELLMICH \nWer bei die­sem Pro­jekt mit­ar­bei­ten möch­te\, soll­te sich vor­her mit Alex­an­der in Ver­bin­dung setz­ten – KONTAKT
URL:https://www.evangelisationsteam.de/termin/vater-sohn-wochenende-rehe-im-westerwald/
LOCATION:CGW Re­he\, Heimstraße 49\, Rehe\, 56479
ATTACH;FMTTYPE=image/jpeg:https://www.evangelisationsteam.de/wp-content/uploads/2025/02/Alexander-Hellmich-und-XXL-Metallbaukasten-scaled.jpeg
END:VEVENT
BEGIN:VEVENT
DTSTART;TZID=Europe/Berlin:20250601T093000
DTEND;TZID=Europe/Berlin:20250601T103000
DTSTAMP:20260425T162750
CREATED:20250219T131514Z
LAST-MODIFIED:20250423T102445Z
UID:10006399-1748770200-1748773800@www.evangelisationsteam.de
SUMMARY:Gottesdienst im Festzelt
DESCRIPTION:GUNTRAM WURST
URL:https://www.evangelisationsteam.de/termin/gottesdienst-im-festzelt-2/
LOCATION:Fest­zelt Neustadt\, Oelsnitzer Straße 40\, Neustadt\, 08223
ATTACH;FMTTYPE=image/jpeg:https://www.evangelisationsteam.de/wp-content/uploads/2024/06/IMG_9834-scaled.jpg
ORGANIZER;CN="Ev.-Luth.Kirchgemeinde Falkenstein-Gr%C3%BCnbach":MAILTO:pfarramt@elukifa.de
END:VEVENT
BEGIN:VEVENT
DTSTART;TZID=Europe/Berlin:20250601T193000
DTEND;TZID=Europe/Berlin:20250601T210000
DTSTAMP:20260425T162750
CREATED:20250529T083818Z
LAST-MODIFIED:20250529T084045Z
UID:10006456-1748806200-1748811600@www.evangelisationsteam.de
SUMMARY:Zeltevangelisation Reichenbach/V.
DESCRIPTION:
URL:https://www.evangelisationsteam.de/termin/zeltevangelisation-reichenbach-v-3-2/2025-06-01/
LOCATION:Park der Ge­ne­ra­tio­nen Reichenbach/​V.\, Wiesenstraße 62\, Reichenbach/V.\, 08468\, Germany
ATTACH;FMTTYPE=image/jpeg:https://www.evangelisationsteam.de/wp-content/uploads/2025/01/Reeds_MicWen_2004-scaled-e1748415636626.jpg
END:VEVENT
END:VCALENDAR