BEGIN:VCALENDAR
VERSION:2.0
PRODID:-//evangelisationsteam.de - ECPv6.15.20//NONSGML v1.0//EN
CALSCALE:GREGORIAN
METHOD:PUBLISH
X-ORIGINAL-URL:https://www.evangelisationsteam.de
X-WR-CALDESC:Veranstaltungen für evangelisationsteam.de
REFRESH-INTERVAL;VALUE=DURATION:PT1H
X-Robots-Tag:noindex
X-PUBLISHED-TTL:PT1H
BEGIN:VTIMEZONE
TZID:Europe/Berlin
BEGIN:DAYLIGHT
TZOFFSETFROM:+0100
TZOFFSETTO:+0200
TZNAME:CEST
DTSTART:20240331T010000
END:DAYLIGHT
BEGIN:STANDARD
TZOFFSETFROM:+0200
TZOFFSETTO:+0100
TZNAME:CET
DTSTART:20241027T010000
END:STANDARD
BEGIN:DAYLIGHT
TZOFFSETFROM:+0100
TZOFFSETTO:+0200
TZNAME:CEST
DTSTART:20250330T010000
END:DAYLIGHT
BEGIN:STANDARD
TZOFFSETFROM:+0200
TZOFFSETTO:+0100
TZNAME:CET
DTSTART:20251026T010000
END:STANDARD
BEGIN:DAYLIGHT
TZOFFSETFROM:+0100
TZOFFSETTO:+0200
TZNAME:CEST
DTSTART:20260329T010000
END:DAYLIGHT
BEGIN:STANDARD
TZOFFSETFROM:+0200
TZOFFSETTO:+0100
TZNAME:CET
DTSTART:20261025T010000
END:STANDARD
END:VTIMEZONE
BEGIN:VEVENT
DTSTART;TZID=Europe/Berlin:20250622T100000
DTEND;TZID=Europe/Berlin:20250622T103000
DTSTAMP:20260425T145535
CREATED:20250123T134057Z
LAST-MODIFIED:20250521T064518Z
UID:10006005-1750586400-1750588200@www.evangelisationsteam.de
SUMMARY:Freiluftgottesdienst | Grünbach
DESCRIPTION:LUTZ SCHEUFLER
URL:https://www.evangelisationsteam.de/termin/freiluftgottesdienst-2/
LOCATION:Wen­del­stein Grünbach\, Siehdichfürer Straße 2a\, Grünbach\, 08223
ATTACH;FMTTYPE=image/jpeg:https://www.evangelisationsteam.de/wp-content/uploads/2022/06/2022-Scheufler.jpg
END:VEVENT
BEGIN:VEVENT
DTSTART;TZID=Europe/Berlin:20250622T100000
DTEND;TZID=Europe/Berlin:20250622T110000
DTSTAMP:20260425T145535
CREATED:20250219T132846Z
LAST-MODIFIED:20250423T102902Z
UID:10006404-1750586400-1750590000@www.evangelisationsteam.de
SUMMARY:Evangelisation
DESCRIPTION:GUNTRAM WURST
URL:https://www.evangelisationsteam.de/termin/evangelisation-97/
LOCATION:Kul­tur­scheu­ne Liebenau\, Hauptstraße 28c\, Altenberg OT Liebenau\, 01778
ATTACH;FMTTYPE=image/jpeg:https://www.evangelisationsteam.de/wp-content/uploads/2025/02/IMG_0598aa-scaled.jpg
ORGANIZER;CN="Ev.-Luth. Kirchgemeinde Altenberg-Schellerhau":MAILTO:david.keller@evlks.de
END:VEVENT
BEGIN:VEVENT
DTSTART;TZID=Europe/Berlin:20250622T193000
DTEND;TZID=Europe/Berlin:20250622T210000
DTSTAMP:20260425T145535
CREATED:20250123T134213Z
LAST-MODIFIED:20250521T064445Z
UID:10006006-1750620600-1750626000@www.evangelisationsteam.de
SUMMARY:Gemeinschaftsstunde | Sosa
DESCRIPTION:LUTZ SCHEUFLER
URL:https://www.evangelisationsteam.de/termin/gemeinschaftsstunde-17/
LOCATION:Haus der lan­des­kirch­li­chen Ge­mein­schaft Sosa\, Fröhlichweg 3\, Sosa\, 08326\, Deutschland
ATTACH;FMTTYPE=image/jpeg:https://www.evangelisationsteam.de/wp-content/uploads/2025/01/SCHEUFLER_0392.jpg
END:VEVENT
END:VCALENDAR