BEGIN:VCALENDAR
VERSION:2.0
PRODID:-//evangelisationsteam.de - ECPv6.15.20//NONSGML v1.0//EN
CALSCALE:GREGORIAN
METHOD:PUBLISH
X-WR-CALNAME:evangelisationsteam.de
X-ORIGINAL-URL:https://www.evangelisationsteam.de
X-WR-CALDESC:Veranstaltungen für evangelisationsteam.de
REFRESH-INTERVAL;VALUE=DURATION:PT1H
X-Robots-Tag:noindex
X-PUBLISHED-TTL:PT1H
BEGIN:VTIMEZONE
TZID:Europe/Berlin
BEGIN:DAYLIGHT
TZOFFSETFROM:+0100
TZOFFSETTO:+0200
TZNAME:CEST
DTSTART:20240331T010000
END:DAYLIGHT
BEGIN:STANDARD
TZOFFSETFROM:+0200
TZOFFSETTO:+0100
TZNAME:CET
DTSTART:20241027T010000
END:STANDARD
BEGIN:DAYLIGHT
TZOFFSETFROM:+0100
TZOFFSETTO:+0200
TZNAME:CEST
DTSTART:20250330T010000
END:DAYLIGHT
BEGIN:STANDARD
TZOFFSETFROM:+0200
TZOFFSETTO:+0100
TZNAME:CET
DTSTART:20251026T010000
END:STANDARD
BEGIN:DAYLIGHT
TZOFFSETFROM:+0100
TZOFFSETTO:+0200
TZNAME:CEST
DTSTART:20260329T010000
END:DAYLIGHT
BEGIN:STANDARD
TZOFFSETFROM:+0200
TZOFFSETTO:+0100
TZNAME:CET
DTSTART:20261025T010000
END:STANDARD
END:VTIMEZONE
BEGIN:VEVENT
DTSTART;VALUE=DATE:20250627
DTEND;VALUE=DATE:20250630
DTSTAMP:20260425T145202
CREATED:20250123T134305Z
LAST-MODIFIED:20250624T181726Z
UID:10006007-1750982400-1751241599@www.evangelisationsteam.de
SUMMARY:Besinnungstage | Weitenhagen
DESCRIPTION:LUTZ SCHEUFLER
URL:https://www.evangelisationsteam.de/termin/seminar-2/
LOCATION:Haus der Stille\, Weitenhagen\, 17498
ATTACH;FMTTYPE=image/jpeg:https://www.evangelisationsteam.de/wp-content/uploads/2021/05/P1080606.jpg
END:VEVENT
BEGIN:VEVENT
DTSTART;VALUE=DATE:20250629
DTEND;VALUE=DATE:20250714
DTSTAMP:20260425T145202
CREATED:20250627T093631Z
LAST-MODIFIED:20250627T093631Z
UID:10006872-1751155200-1752451199@www.evangelisationsteam.de
SUMMARY:Sommerrüstzeit Achensee
DESCRIPTION:
URL:https://www.evangelisationsteam.de/termin/sommerruestzeit-achensee/
LOCATION:Sachsen
ATTACH;FMTTYPE=image/jpeg:https://www.evangelisationsteam.de/wp-content/uploads/2025/01/Verkuendigung_013-scaled.jpg
END:VEVENT
BEGIN:VEVENT
DTSTART;TZID=Europe/Berlin:20250629T100000
DTEND;TZID=Europe/Berlin:20250629T110000
DTSTAMP:20260425T145202
CREATED:20250310T104333Z
LAST-MODIFIED:20250310T104333Z
UID:10006406-1751191200-1751194800@www.evangelisationsteam.de
SUMMARY:Open Air Gottesdienst
DESCRIPTION:GUNTRAM WURST
URL:https://www.evangelisationsteam.de/termin/open-air-gottesdienst-9/
LOCATION:Schloss­rui­ne Hartenstein\, August-Bebel-Straße 38\, Hartenstein\, 08118
ATTACH;FMTTYPE=image/jpeg:https://www.evangelisationsteam.de/wp-content/uploads/2024/06/7-_FD_9574-CR3_1-scaled.jpg
ORGANIZER;CN="Evangelische Allianz Hartenstein":MAILTO:markus.richter@elim-hartenstein.de
END:VEVENT
END:VCALENDAR