BEGIN:VCALENDAR
VERSION:2.0
PRODID:-//evangelisationsteam.de - ECPv6.15.20//NONSGML v1.0//EN
CALSCALE:GREGORIAN
METHOD:PUBLISH
X-ORIGINAL-URL:https://www.evangelisationsteam.de
X-WR-CALDESC:Veranstaltungen für evangelisationsteam.de
REFRESH-INTERVAL;VALUE=DURATION:PT1H
X-Robots-Tag:noindex
X-PUBLISHED-TTL:PT1H
BEGIN:VTIMEZONE
TZID:Europe/Berlin
BEGIN:DAYLIGHT
TZOFFSETFROM:+0100
TZOFFSETTO:+0200
TZNAME:CEST
DTSTART:20240331T010000
END:DAYLIGHT
BEGIN:STANDARD
TZOFFSETFROM:+0200
TZOFFSETTO:+0100
TZNAME:CET
DTSTART:20241027T010000
END:STANDARD
BEGIN:DAYLIGHT
TZOFFSETFROM:+0100
TZOFFSETTO:+0200
TZNAME:CEST
DTSTART:20250330T010000
END:DAYLIGHT
BEGIN:STANDARD
TZOFFSETFROM:+0200
TZOFFSETTO:+0100
TZNAME:CET
DTSTART:20251026T010000
END:STANDARD
BEGIN:DAYLIGHT
TZOFFSETFROM:+0100
TZOFFSETTO:+0200
TZNAME:CEST
DTSTART:20260329T010000
END:DAYLIGHT
BEGIN:STANDARD
TZOFFSETFROM:+0200
TZOFFSETTO:+0100
TZNAME:CET
DTSTART:20261025T010000
END:STANDARD
END:VTIMEZONE
BEGIN:VEVENT
DTSTART;TZID=Europe/Berlin:20250824T100000
DTEND;TZID=Europe/Berlin:20250824T113000
DTSTAMP:20260425T182006
CREATED:20250522T170838Z
LAST-MODIFIED:20250522T170838Z
UID:10006442-1756029600-1756035000@www.evangelisationsteam.de
SUMMARY:Freiluftgottesdienst | Nossen
DESCRIPTION:Lutz Scheuf­ler
URL:https://www.evangelisationsteam.de/termin/freiluftgottesdienst-nossen/
LOCATION:Klos­ter­park Altzella\, Zellaer Straße 10\, Nossen\, 01683
ATTACH;FMTTYPE=image/jpeg:https://www.evangelisationsteam.de/wp-content/uploads/2020/03/Bräuer-1609.jpeg
END:VEVENT
BEGIN:VEVENT
DTSTART;TZID=Europe/Berlin:20250824T100000
DTEND;TZID=Europe/Berlin:20250824T113000
DTSTAMP:20260425T182006
CREATED:20250707T071137Z
LAST-MODIFIED:20250707T071137Z
UID:10006874-1756029600-1756035000@www.evangelisationsteam.de
SUMMARY:Gemeinschaftsstunde
DESCRIPTION:Gun­tram Wurst \nThe­ma: \n„Wie aus mut­lo­sen Chris­ten fröh­li­che Je­sus-Be­ken­ner werden“
URL:https://www.evangelisationsteam.de/termin/gemeinschaftsstunde-19/
LOCATION:LKG BURKHARDTSDORF\, Canzlerstraße 10\, Burkhardtsdorf\, 09235
ATTACH;FMTTYPE=image/jpeg:https://www.evangelisationsteam.de/wp-content/uploads/2025/07/DSC08752a-scaled-e1761135829432.jpg
ORGANIZER;CN="Landeskirchliche Gemeinschaft Burkhardtsdorf":MAILTO:michael.paul-55@web.de
END:VEVENT
END:VCALENDAR