BEGIN:VCALENDAR
VERSION:2.0
PRODID:-//evangelisationsteam.de - ECPv6.15.20//NONSGML v1.0//EN
CALSCALE:GREGORIAN
METHOD:PUBLISH
X-WR-CALNAME:evangelisationsteam.de
X-ORIGINAL-URL:https://www.evangelisationsteam.de
X-WR-CALDESC:Veranstaltungen für evangelisationsteam.de
REFRESH-INTERVAL;VALUE=DURATION:PT1H
X-Robots-Tag:noindex
X-PUBLISHED-TTL:PT1H
BEGIN:VTIMEZONE
TZID:Europe/Berlin
BEGIN:DAYLIGHT
TZOFFSETFROM:+0100
TZOFFSETTO:+0200
TZNAME:CEST
DTSTART:20240331T010000
END:DAYLIGHT
BEGIN:STANDARD
TZOFFSETFROM:+0200
TZOFFSETTO:+0100
TZNAME:CET
DTSTART:20241027T010000
END:STANDARD
BEGIN:DAYLIGHT
TZOFFSETFROM:+0100
TZOFFSETTO:+0200
TZNAME:CEST
DTSTART:20250330T010000
END:DAYLIGHT
BEGIN:STANDARD
TZOFFSETFROM:+0200
TZOFFSETTO:+0100
TZNAME:CET
DTSTART:20251026T010000
END:STANDARD
BEGIN:DAYLIGHT
TZOFFSETFROM:+0100
TZOFFSETTO:+0200
TZNAME:CEST
DTSTART:20260329T010000
END:DAYLIGHT
BEGIN:STANDARD
TZOFFSETFROM:+0200
TZOFFSETTO:+0100
TZNAME:CET
DTSTART:20261025T010000
END:STANDARD
END:VTIMEZONE
BEGIN:VEVENT
DTSTART;TZID=Europe/Berlin:20250830T140000
DTEND;TZID=Europe/Berlin:20250830T160000
DTSTAMP:20260425T181634
CREATED:20250822T085313Z
LAST-MODIFIED:20250822T085313Z
UID:10008011-1756562400-1756569600@www.evangelisationsteam.de
SUMMARY:Senioren Nachmittag
DESCRIPTION:The­ma: Was bleibt vom Leben? \nMi­cha­el Kaufmann
URL:https://www.evangelisationsteam.de/termin/senioren-nachmittag-3/
LOCATION:LKG Gab­lenz\, August-Bebel-Str. 63\, Gablenz\, 09366
ATTACH;FMTTYPE=image/jpeg:https://www.evangelisationsteam.de/wp-content/uploads/2021/05/P1080646.jpg
END:VEVENT
BEGIN:VEVENT
DTSTART;TZID=Europe/Berlin:20250830T180000
DTEND;TZID=Europe/Berlin:20250830T213000
DTSTAMP:20260425T181634
CREATED:20250730T151904Z
LAST-MODIFIED:20250730T152127Z
UID:10007636-1756576800-1756589400@www.evangelisationsteam.de
SUMMARY:living water Jugendwoche in Dresden
DESCRIPTION:
URL:https://www.evangelisationsteam.de/termin/living-water-jugendwoche-in-dresden/2025-08-30/
LOCATION:Zi­ons­kir­che Dres­den Südvorstadt\, Bayreuther Straße 28\, Dresden\, 01187\, Germany
ATTACH;FMTTYPE=image/jpeg:https://www.evangelisationsteam.de/wp-content/uploads/2024/04/Kreuz-001-Kopie.jpeg
END:VEVENT
END:VCALENDAR