BEGIN:VCALENDAR
VERSION:2.0
PRODID:-//evangelisationsteam.de - ECPv6.15.20//NONSGML v1.0//EN
CALSCALE:GREGORIAN
METHOD:PUBLISH
X-WR-CALNAME:evangelisationsteam.de
X-ORIGINAL-URL:https://www.evangelisationsteam.de
X-WR-CALDESC:Veranstaltungen für evangelisationsteam.de
REFRESH-INTERVAL;VALUE=DURATION:PT1H
X-Robots-Tag:noindex
X-PUBLISHED-TTL:PT1H
BEGIN:VTIMEZONE
TZID:Europe/Berlin
BEGIN:DAYLIGHT
TZOFFSETFROM:+0100
TZOFFSETTO:+0200
TZNAME:CEST
DTSTART:20240331T010000
END:DAYLIGHT
BEGIN:STANDARD
TZOFFSETFROM:+0200
TZOFFSETTO:+0100
TZNAME:CET
DTSTART:20241027T010000
END:STANDARD
BEGIN:DAYLIGHT
TZOFFSETFROM:+0100
TZOFFSETTO:+0200
TZNAME:CEST
DTSTART:20250330T010000
END:DAYLIGHT
BEGIN:STANDARD
TZOFFSETFROM:+0200
TZOFFSETTO:+0100
TZNAME:CET
DTSTART:20251026T010000
END:STANDARD
BEGIN:DAYLIGHT
TZOFFSETFROM:+0100
TZOFFSETTO:+0200
TZNAME:CEST
DTSTART:20260329T010000
END:DAYLIGHT
BEGIN:STANDARD
TZOFFSETFROM:+0200
TZOFFSETTO:+0100
TZNAME:CET
DTSTART:20261025T010000
END:STANDARD
END:VTIMEZONE
BEGIN:VEVENT
DTSTART;VALUE=DATE:20250913
DTEND;VALUE=DATE:20250914
DTSTAMP:20260425T195237
CREATED:20250522T171536Z
LAST-MODIFIED:20250522T171536Z
UID:10006448-1757721600-1757807999@www.evangelisationsteam.de
SUMMARY:Blaues Kreuz | Raschau
DESCRIPTION:Lutz Scheuf­ler
URL:https://www.evangelisationsteam.de/termin/blaues-kreuz-raschau/
LOCATION:Ra­schau
ATTACH;FMTTYPE=image/jpeg:https://www.evangelisationsteam.de/wp-content/uploads/2024/03/LUTZ-SCHEUFLER©kairospress-scaled.jpg
END:VEVENT
BEGIN:VEVENT
DTSTART;VALUE=DATE:20250913
DTEND;VALUE=DATE:20250914
DTSTAMP:20260425T195237
CREATED:20250906T081907Z
LAST-MODIFIED:20250906T082030Z
UID:10008024-1757721600-1757807999@www.evangelisationsteam.de
SUMMARY:Metallbaukasten-Tag Königshain
DESCRIPTION:Der Kin­der­Bi­bel­tag mit dem Me­tall­bau­kas­ten fin­den im Zelt in Kö­nigs­hain statt. \nDu bist herz­lich eingeladen! \nAlex­an­der Hellmich
URL:https://www.evangelisationsteam.de/termin/metallbaukasten-tag-koenigshain/
LOCATION:Ev. Kir­che Königshain\, Kirchweg 2\, Königshain\, 09306
ATTACH;FMTTYPE=image/jpeg:https://www.evangelisationsteam.de/wp-content/uploads/2025/09/448c10e8-0bc7-41d9-be30-ffcbb717f6b6.jpg
END:VEVENT
END:VCALENDAR