BEGIN:VCALENDAR
VERSION:2.0
PRODID:-//evangelisationsteam.de - ECPv6.15.20//NONSGML v1.0//EN
CALSCALE:GREGORIAN
METHOD:PUBLISH
X-ORIGINAL-URL:https://www.evangelisationsteam.de
X-WR-CALDESC:Veranstaltungen für evangelisationsteam.de
REFRESH-INTERVAL;VALUE=DURATION:PT1H
X-Robots-Tag:noindex
X-PUBLISHED-TTL:PT1H
BEGIN:VTIMEZONE
TZID:Europe/Berlin
BEGIN:DAYLIGHT
TZOFFSETFROM:+0100
TZOFFSETTO:+0200
TZNAME:CEST
DTSTART:20240331T010000
END:DAYLIGHT
BEGIN:STANDARD
TZOFFSETFROM:+0200
TZOFFSETTO:+0100
TZNAME:CET
DTSTART:20241027T010000
END:STANDARD
BEGIN:DAYLIGHT
TZOFFSETFROM:+0100
TZOFFSETTO:+0200
TZNAME:CEST
DTSTART:20250330T010000
END:DAYLIGHT
BEGIN:STANDARD
TZOFFSETFROM:+0200
TZOFFSETTO:+0100
TZNAME:CET
DTSTART:20251026T010000
END:STANDARD
BEGIN:DAYLIGHT
TZOFFSETFROM:+0100
TZOFFSETTO:+0200
TZNAME:CEST
DTSTART:20260329T010000
END:DAYLIGHT
BEGIN:STANDARD
TZOFFSETFROM:+0200
TZOFFSETTO:+0100
TZNAME:CET
DTSTART:20261025T010000
END:STANDARD
END:VTIMEZONE
BEGIN:VEVENT
DTSTART;TZID=Europe/Berlin:20250921T100000
DTEND;TZID=Europe/Berlin:20250921T113000
DTSTAMP:20260425T212756
CREATED:20250522T171930Z
LAST-MODIFIED:20250927T141719Z
UID:10006863-1758448800-1758454200@www.evangelisationsteam.de
SUMMARY:Zeltevangelisation | Sosa
DESCRIPTION:Lutz Scheuf­ler
URL:https://www.evangelisationsteam.de/termin/zeltevangelisation-sosa/2025-09-21/1/
LOCATION:SOSA ZELT\, Ortseingang\, SOSA\, 08309
ATTACH;FMTTYPE=image/jpeg:https://www.evangelisationsteam.de/wp-content/uploads/2022/06/Lutz-Scheufler.jpg
END:VEVENT
BEGIN:VEVENT
DTSTART;TZID=Europe/Berlin:20250921T154500
DTEND;TZID=Europe/Berlin:20250921T170000
DTSTAMP:20260425T212756
CREATED:20250730T153352Z
LAST-MODIFIED:20250730T153352Z
UID:10008002-1758469500-1758474000@www.evangelisationsteam.de
SUMMARY:GospelMagic zur LKG-Bezirkskonferenz in Burkhardtsdorf
DESCRIPTION:
URL:https://www.evangelisationsteam.de/termin/gospelmagic-zur-lkg-bezirkskonferenz-in-burkhardtsdorf/
LOCATION:BURKHARDTSDORF\, neveon-Arena\, BURKHARDTSDORF\, 09235
ATTACH;FMTTYPE=image/jpeg:https://www.evangelisationsteam.de/wp-content/uploads/2024/09/Gospelmagic006-Kopie-scaled.jpg
END:VEVENT
BEGIN:VEVENT
DTSTART;TZID=Europe/Berlin:20250921T190000
DTEND;TZID=Europe/Berlin:20250921T203000
DTSTAMP:20260425T212756
CREATED:20250522T171930Z
LAST-MODIFIED:20250927T141719Z
UID:10006864-1758481200-1758486600@www.evangelisationsteam.de
SUMMARY:Zeltevangelisation | Sosa
DESCRIPTION:Lutz Scheuf­ler
URL:https://www.evangelisationsteam.de/termin/zeltevangelisation-sosa/2025-09-21/2/
LOCATION:SOSA ZELT\, Ortseingang\, SOSA\, 08309
ATTACH;FMTTYPE=image/jpeg:https://www.evangelisationsteam.de/wp-content/uploads/2022/06/Lutz-Scheufler.jpg
END:VEVENT
END:VCALENDAR