BEGIN:VCALENDAR
VERSION:2.0
PRODID:-//evangelisationsteam.de - ECPv6.15.20//NONSGML v1.0//EN
CALSCALE:GREGORIAN
METHOD:PUBLISH
X-ORIGINAL-URL:https://www.evangelisationsteam.de
X-WR-CALDESC:Veranstaltungen für evangelisationsteam.de
REFRESH-INTERVAL;VALUE=DURATION:PT1H
X-Robots-Tag:noindex
X-PUBLISHED-TTL:PT1H
BEGIN:VTIMEZONE
TZID:Europe/Berlin
BEGIN:DAYLIGHT
TZOFFSETFROM:+0100
TZOFFSETTO:+0200
TZNAME:CEST
DTSTART:20240331T010000
END:DAYLIGHT
BEGIN:STANDARD
TZOFFSETFROM:+0200
TZOFFSETTO:+0100
TZNAME:CET
DTSTART:20241027T010000
END:STANDARD
BEGIN:DAYLIGHT
TZOFFSETFROM:+0100
TZOFFSETTO:+0200
TZNAME:CEST
DTSTART:20250330T010000
END:DAYLIGHT
BEGIN:STANDARD
TZOFFSETFROM:+0200
TZOFFSETTO:+0100
TZNAME:CET
DTSTART:20251026T010000
END:STANDARD
BEGIN:DAYLIGHT
TZOFFSETFROM:+0100
TZOFFSETTO:+0200
TZNAME:CEST
DTSTART:20260329T010000
END:DAYLIGHT
BEGIN:STANDARD
TZOFFSETFROM:+0200
TZOFFSETTO:+0100
TZNAME:CET
DTSTART:20261025T010000
END:STANDARD
END:VTIMEZONE
BEGIN:VEVENT
DTSTART;VALUE=DATE:20250925
DTEND;VALUE=DATE:20250929
DTSTAMP:20260425T214028
CREATED:20250822T091550Z
LAST-MODIFIED:20250822T091550Z
UID:10008015-1758758400-1759103999@www.evangelisationsteam.de
SUMMARY:Lego Tage
DESCRIPTION:Mi­cha­el Kaufmann
URL:https://www.evangelisationsteam.de/termin/lego-tage-59/
LOCATION:Ev. Im­ma­nu­el Gemeinde\, Rtheweg 63\, Paderborn\, 33102
ATTACH;FMTTYPE=image/jpeg:https://www.evangelisationsteam.de/wp-content/uploads/2025/03/IMG_20220406_145815-scaled.jpg
END:VEVENT
BEGIN:VEVENT
DTSTART;VALUE=DATE:20250926
DTEND;VALUE=DATE:20250929
DTSTAMP:20260425T214028
CREATED:20250911T080251Z
LAST-MODIFIED:20250911T080424Z
UID:10008028-1758844800-1759103999@www.evangelisationsteam.de
SUMMARY:Vater-Tochter Freizeit
DESCRIPTION:Für Vä­ter mit ih­ren Töch­tern von 6 – 12 Jahren \nGe­mein­sam sind wir stark! \nIn­tak­te Be­zie­hun­gen sind für Men­schen je­den Al­ters wich­tig und wert­voll. Dies gilt ganz be­son­ders für die Fa­mi­lie. Oft ist es im nor­ma­len All­tags­stress nicht mög­lich\, dass sich Vä­ter aus­gie­big auf ihr Kind ein­stel­len. Man mag das be­dau­ern\, man kann aber auch et­was da­ge­gen tun.  \nDie­se Va­ter-Toch­ter-Frei­zeit soll vor­ran­gig da­zu bei­tra­gen\, dass Be­zie­hun­gen wach­sen – vor al­lem und nicht zu­letzt auch die zum Va­ter im Himmel. \nAlex­an­der Hellmich
URL:https://www.evangelisationsteam.de/termin/vater_tochter/
LOCATION:CGW Re­he\, Heimstraße 49\, Rehe\, 56479
ATTACH;FMTTYPE=image/heic:https://www.evangelisationsteam.de/wp-content/uploads/2025/09/Vater_Tochter-scaled.jpg
END:VEVENT
BEGIN:VEVENT
DTSTART;TZID=Europe/Berlin:20250926T190000
DTEND;TZID=Europe/Berlin:20250926T203000
DTSTAMP:20260425T214028
CREATED:20250522T171930Z
LAST-MODIFIED:20250927T141719Z
UID:10006869-1758913200-1758918600@www.evangelisationsteam.de
SUMMARY:Zeltevangelisation | Sosa
DESCRIPTION:Lutz Scheuf­ler
URL:https://www.evangelisationsteam.de/termin/zeltevangelisation-sosa/2025-09-26/
LOCATION:SOSA ZELT\, Ortseingang\, SOSA\, 08309
ATTACH;FMTTYPE=image/jpeg:https://www.evangelisationsteam.de/wp-content/uploads/2022/06/Lutz-Scheufler.jpg
END:VEVENT
BEGIN:VEVENT
DTSTART;TZID=Europe/Berlin:20250926T193000
DTEND;TZID=Europe/Berlin:20250926T210000
DTSTAMP:20260425T214028
CREATED:20250730T153640Z
LAST-MODIFIED:20250730T153640Z
UID:10008003-1758915000-1758920400@www.evangelisationsteam.de
SUMMARY:Junge Gemeinde in Vielau
DESCRIPTION:
URL:https://www.evangelisationsteam.de/termin/junge-gemeinde-in-vielau-2/
LOCATION:Pfarr­haus Vielau\, Kirchplatz 2\, Reinsdorf OT Vielau\, 08141\, Deutschland
ATTACH;FMTTYPE=image/jpeg:https://www.evangelisationsteam.de/wp-content/uploads/2024/04/Verkuendigung-004-Kopie.jpeg
END:VEVENT
END:VCALENDAR