BEGIN:VCALENDAR
VERSION:2.0
PRODID:-//evangelisationsteam.de - ECPv6.15.20//NONSGML v1.0//EN
CALSCALE:GREGORIAN
METHOD:PUBLISH
X-WR-CALNAME:evangelisationsteam.de
X-ORIGINAL-URL:https://www.evangelisationsteam.de
X-WR-CALDESC:Veranstaltungen für evangelisationsteam.de
REFRESH-INTERVAL;VALUE=DURATION:PT1H
X-Robots-Tag:noindex
X-PUBLISHED-TTL:PT1H
BEGIN:VTIMEZONE
TZID:Europe/Berlin
BEGIN:DAYLIGHT
TZOFFSETFROM:+0100
TZOFFSETTO:+0200
TZNAME:CEST
DTSTART:20240331T010000
END:DAYLIGHT
BEGIN:STANDARD
TZOFFSETFROM:+0200
TZOFFSETTO:+0100
TZNAME:CET
DTSTART:20241027T010000
END:STANDARD
BEGIN:DAYLIGHT
TZOFFSETFROM:+0100
TZOFFSETTO:+0200
TZNAME:CEST
DTSTART:20250330T010000
END:DAYLIGHT
BEGIN:STANDARD
TZOFFSETFROM:+0200
TZOFFSETTO:+0100
TZNAME:CET
DTSTART:20251026T010000
END:STANDARD
BEGIN:DAYLIGHT
TZOFFSETFROM:+0100
TZOFFSETTO:+0200
TZNAME:CEST
DTSTART:20260329T010000
END:DAYLIGHT
BEGIN:STANDARD
TZOFFSETFROM:+0200
TZOFFSETTO:+0100
TZNAME:CET
DTSTART:20261025T010000
END:STANDARD
END:VTIMEZONE
BEGIN:VEVENT
DTSTART;VALUE=DATE:20251002
DTEND;VALUE=DATE:20251006
DTSTAMP:20260425T195042
CREATED:20250822T091905Z
LAST-MODIFIED:20250822T091905Z
UID:10008016-1759363200-1759708799@www.evangelisationsteam.de
SUMMARY:Lego Tage
DESCRIPTION:Mi­cha­el Kaufmann
URL:https://www.evangelisationsteam.de/termin/lego-tage-60/
LOCATION:MOSAIC Hep­pen­heim\, Odenwaldstr. 11\, Heppenheim\, 64646
ATTACH;FMTTYPE=image/jpeg:https://www.evangelisationsteam.de/wp-content/uploads/2025/03/IMG_20220406_145815-scaled.jpg
END:VEVENT
BEGIN:VEVENT
DTSTART;VALUE=DATE:20251003
DTEND;VALUE=DATE:20251006
DTSTAMP:20260425T195042
CREATED:20250522T172459Z
LAST-MODIFIED:20250716T114841Z
UID:10006453-1759449600-1759708799@www.evangelisationsteam.de
SUMMARY:Bäckerkongress | Selbitz
DESCRIPTION:Lutz Scheuf­ler
URL:https://www.evangelisationsteam.de/termin/baeckerkongress-selbitz/
LOCATION:Chris­tus­bru­der­schaft Selbitz\, Selbitz\, 95152
ATTACH;FMTTYPE=image/jpeg:https://www.evangelisationsteam.de/wp-content/uploads/2025/05/2025-10_Baecker-2.jpg
END:VEVENT
BEGIN:VEVENT
DTSTART;TZID=Europe/Berlin:20251004T183000
DTEND;TZID=Europe/Berlin:20251004T210000
DTSTAMP:20260425T195042
CREATED:20250911T081245Z
LAST-MODIFIED:20250911T081546Z
UID:10008029-1759602600-1759611600@www.evangelisationsteam.de
SUMMARY:Junge Gemeinde - Jugendstunde
DESCRIPTION:Zwei Ty­pen. Zwei Zie­le. Zwei Herzen. Der ei­ne will be­hal­ten\, was ihm wich­tig ist. Der an­de­re gibt al­les auf\, weil Je­sus al­les ist. \nWas pas­siert\, wenn Je­sus dein Le­ben auf den Kopf stellt? \nEnt­de­cke mit uns\, wie Chris­tus Her­zen ver­än­dert – da­mals wie heute. Ein Im­puls­abend über Eh­re\, Angst\, Hoff­nung und ech­te Veränderung.
URL:https://www.evangelisationsteam.de/termin/jugendstunde-9/
LOCATION:Stüt­zen­grün\, LKG\, Talstraße 30 a\, Stützengrün\, 08328
ATTACH;FMTTYPE=image/heic:https://www.evangelisationsteam.de/wp-content/uploads/2025/09/Alexander2-scaled.jpg
ORGANIZER;CN="LKG St%C3%BCtzengr%C3%BCn":MAILTO:is@lkg-grund.de
END:VEVENT
END:VCALENDAR