BEGIN:VCALENDAR
VERSION:2.0
PRODID:-//evangelisationsteam.de - ECPv6.15.20//NONSGML v1.0//EN
CALSCALE:GREGORIAN
METHOD:PUBLISH
X-WR-CALNAME:evangelisationsteam.de
X-ORIGINAL-URL:https://www.evangelisationsteam.de
X-WR-CALDESC:Veranstaltungen für evangelisationsteam.de
REFRESH-INTERVAL;VALUE=DURATION:PT1H
X-Robots-Tag:noindex
X-PUBLISHED-TTL:PT1H
BEGIN:VTIMEZONE
TZID:Europe/Berlin
BEGIN:DAYLIGHT
TZOFFSETFROM:+0100
TZOFFSETTO:+0200
TZNAME:CEST
DTSTART:20240331T010000
END:DAYLIGHT
BEGIN:STANDARD
TZOFFSETFROM:+0200
TZOFFSETTO:+0100
TZNAME:CET
DTSTART:20241027T010000
END:STANDARD
BEGIN:DAYLIGHT
TZOFFSETFROM:+0100
TZOFFSETTO:+0200
TZNAME:CEST
DTSTART:20250330T010000
END:DAYLIGHT
BEGIN:STANDARD
TZOFFSETFROM:+0200
TZOFFSETTO:+0100
TZNAME:CET
DTSTART:20251026T010000
END:STANDARD
BEGIN:DAYLIGHT
TZOFFSETFROM:+0100
TZOFFSETTO:+0200
TZNAME:CEST
DTSTART:20260329T010000
END:DAYLIGHT
BEGIN:STANDARD
TZOFFSETFROM:+0200
TZOFFSETTO:+0100
TZNAME:CET
DTSTART:20261025T010000
END:STANDARD
END:VTIMEZONE
BEGIN:VEVENT
DTSTART;VALUE=DATE:20251017
DTEND;VALUE=DATE:20251020
DTSTAMP:20260425T213327
CREATED:20250822T092941Z
LAST-MODIFIED:20250822T092941Z
UID:10008019-1760659200-1760918399@www.evangelisationsteam.de
SUMMARY:Lego Tage
DESCRIPTION:Mi­cha­el Kaufmann
URL:https://www.evangelisationsteam.de/termin/lego-tage-63/
LOCATION:LKG Dö­beln
ATTACH;FMTTYPE=image/jpeg:https://www.evangelisationsteam.de/wp-content/uploads/2025/03/IMG_20220406_145815-scaled.jpg
END:VEVENT
BEGIN:VEVENT
DTSTART;TZID=Europe/Berlin:20251019T100000
DTEND;TZID=Europe/Berlin:20251019T110000
DTSTAMP:20260425T213327
CREATED:20251001T110529Z
LAST-MODIFIED:20251001T112533Z
UID:10008033-1760868000-1760871600@www.evangelisationsteam.de
SUMMARY:Gottesdienst / Brünlos
DESCRIPTION:Gun­tram Wurst \nThe­ma: Fal­sche Sicherheiten
URL:https://www.evangelisationsteam.de/termin/gottesdienst-260/
LOCATION:Evan­ge­li­sches Ge­mein­de­zen­trum Brünlos\, Hauptstraße 13b\, Zwönitz OT Brünlos\, 08297
ATTACH;FMTTYPE=image/jpeg:https://www.evangelisationsteam.de/wp-content/uploads/2025/07/GW-Frauenhain-2-a-scaled.jpg
ORGANIZER;CN="Landeskirchliche Gemeinschaft Br%C3%BCnlos":MAILTO:post@lkg-bruenlos.de
END:VEVENT
BEGIN:VEVENT
DTSTART;TZID=Europe/Berlin:20251019T100000
DTEND;TZID=Europe/Berlin:20251019T113000
DTSTAMP:20260425T213327
CREATED:20250624T182814Z
LAST-MODIFIED:20250624T183224Z
UID:10006846-1760868000-1760873400@www.evangelisationsteam.de
SUMMARY:Evangelisation | Brand-Erbisdorf
DESCRIPTION:Lutz Scheuf­ler
URL:https://www.evangelisationsteam.de/termin/evangelisation-99/2025-10-19/
LOCATION:LKG BRAND-ERBISDORF\, Gartenweg 4\, Brand-Erbisdorf\, 09618
ATTACH;FMTTYPE=image/jpeg:https://www.evangelisationsteam.de/wp-content/uploads/2021/05/P1080606.jpg
END:VEVENT
END:VCALENDAR