BEGIN:VCALENDAR
VERSION:2.0
PRODID:-//evangelisationsteam.de - ECPv6.15.20//NONSGML v1.0//EN
CALSCALE:GREGORIAN
METHOD:PUBLISH
X-ORIGINAL-URL:https://www.evangelisationsteam.de
X-WR-CALDESC:Veranstaltungen für evangelisationsteam.de
REFRESH-INTERVAL;VALUE=DURATION:PT1H
X-Robots-Tag:noindex
X-PUBLISHED-TTL:PT1H
BEGIN:VTIMEZONE
TZID:Europe/Berlin
BEGIN:DAYLIGHT
TZOFFSETFROM:+0100
TZOFFSETTO:+0200
TZNAME:CEST
DTSTART:20240331T010000
END:DAYLIGHT
BEGIN:STANDARD
TZOFFSETFROM:+0200
TZOFFSETTO:+0100
TZNAME:CET
DTSTART:20241027T010000
END:STANDARD
BEGIN:DAYLIGHT
TZOFFSETFROM:+0100
TZOFFSETTO:+0200
TZNAME:CEST
DTSTART:20250330T010000
END:DAYLIGHT
BEGIN:STANDARD
TZOFFSETFROM:+0200
TZOFFSETTO:+0100
TZNAME:CET
DTSTART:20251026T010000
END:STANDARD
BEGIN:DAYLIGHT
TZOFFSETFROM:+0100
TZOFFSETTO:+0200
TZNAME:CEST
DTSTART:20260329T010000
END:DAYLIGHT
BEGIN:STANDARD
TZOFFSETFROM:+0200
TZOFFSETTO:+0100
TZNAME:CET
DTSTART:20261025T010000
END:STANDARD
END:VTIMEZONE
BEGIN:VEVENT
DTSTART;TZID=Europe/Berlin:20251103T080000
DTEND;TZID=Europe/Berlin:20251106T140000
DTSTAMP:20260425T231735
CREATED:20251104T084824Z
LAST-MODIFIED:20251104T090633Z
UID:10008059-1762156800-1762437600@www.evangelisationsteam.de
SUMMARY:Metallbaukasten Schule
DESCRIPTION:In der Au­gust-Her­mann-Fran­cke Schu­le ge­stal­ten wir ei­ne Pro­jekt­wo­che mit dem Me­tall­bau­kas­ten. Je­der 7. Klas­se er­zäh­len wir die Heils­ge­schich­te und brin­gen ih­nen Je­sus näher.
URL:https://www.evangelisationsteam.de/termin/jugendstunde-9-2/
LOCATION:AHF Det­mold
ATTACH;FMTTYPE=image/heic:https://www.evangelisationsteam.de/wp-content/uploads/2025/09/Schule_GB-scaled.jpg
END:VEVENT
END:VCALENDAR