BEGIN:VCALENDAR
VERSION:2.0
PRODID:-//evangelisationsteam.de - ECPv6.15.20//NONSGML v1.0//EN
CALSCALE:GREGORIAN
METHOD:PUBLISH
X-WR-CALNAME:evangelisationsteam.de
X-ORIGINAL-URL:https://www.evangelisationsteam.de
X-WR-CALDESC:Veranstaltungen für evangelisationsteam.de
REFRESH-INTERVAL;VALUE=DURATION:PT1H
X-Robots-Tag:noindex
X-PUBLISHED-TTL:PT1H
BEGIN:VTIMEZONE
TZID:Europe/Berlin
BEGIN:DAYLIGHT
TZOFFSETFROM:+0100
TZOFFSETTO:+0200
TZNAME:CEST
DTSTART:20240331T010000
END:DAYLIGHT
BEGIN:STANDARD
TZOFFSETFROM:+0200
TZOFFSETTO:+0100
TZNAME:CET
DTSTART:20241027T010000
END:STANDARD
BEGIN:DAYLIGHT
TZOFFSETFROM:+0100
TZOFFSETTO:+0200
TZNAME:CEST
DTSTART:20250330T010000
END:DAYLIGHT
BEGIN:STANDARD
TZOFFSETFROM:+0200
TZOFFSETTO:+0100
TZNAME:CET
DTSTART:20251026T010000
END:STANDARD
BEGIN:DAYLIGHT
TZOFFSETFROM:+0100
TZOFFSETTO:+0200
TZNAME:CEST
DTSTART:20260329T010000
END:DAYLIGHT
BEGIN:STANDARD
TZOFFSETFROM:+0200
TZOFFSETTO:+0100
TZNAME:CET
DTSTART:20261025T010000
END:STANDARD
END:VTIMEZONE
BEGIN:VEVENT
DTSTART;TZID=Europe/Berlin:20251108T090000
DTEND;TZID=Europe/Berlin:20251108T200000
DTSTAMP:20260425T230300
CREATED:20251104T091544Z
LAST-MODIFIED:20251104T091544Z
UID:10008060-1762592400-1762632000@www.evangelisationsteam.de
SUMMARY:Metallbaukasten Trünzig
DESCRIPTION:Am 8.11 geht es mit dem Me­tall­bau­kas­ten nach Trün­z­ig in die Lan­des­kirch­li­che Gemeinschaft
URL:https://www.evangelisationsteam.de/termin/jugendstunde-9-3/
LOCATION:Lna­des­kirch­li­che Ge­mein­schaft Trünzig
ATTACH;FMTTYPE=image/jpeg:https://www.evangelisationsteam.de/wp-content/uploads/2025/10/Hellmich.jpeg
END:VEVENT
BEGIN:VEVENT
DTSTART;TZID=Europe/Berlin:20251108T193000
DTEND;TZID=Europe/Berlin:20251108T210000
DTSTAMP:20260425T230300
CREATED:20250624T183941Z
LAST-MODIFIED:20251102T111112Z
UID:10006854-1762630200-1762635600@www.evangelisationsteam.de
SUMMARY:Evangelisation | Niederdresselndorf
DESCRIPTION:Lutz Scheuf­ler
URL:https://www.evangelisationsteam.de/termin/evangelisation-burbach/2025-11-08/
LOCATION:FeG Nie­der­dresseln­dorf\, Demmershof 3\, Burbach\, 57299
ATTACH;FMTTYPE=image/jpeg:https://www.evangelisationsteam.de/wp-content/uploads/2022/06/LScheufler.jpg
END:VEVENT
END:VCALENDAR