BEGIN:VCALENDAR
VERSION:2.0
PRODID:-//evangelisationsteam.de - ECPv6.15.20//NONSGML v1.0//EN
CALSCALE:GREGORIAN
METHOD:PUBLISH
X-WR-CALNAME:evangelisationsteam.de
X-ORIGINAL-URL:https://www.evangelisationsteam.de
X-WR-CALDESC:Veranstaltungen für evangelisationsteam.de
REFRESH-INTERVAL;VALUE=DURATION:PT1H
X-Robots-Tag:noindex
X-PUBLISHED-TTL:PT1H
BEGIN:VTIMEZONE
TZID:Europe/Berlin
BEGIN:DAYLIGHT
TZOFFSETFROM:+0100
TZOFFSETTO:+0200
TZNAME:CEST
DTSTART:20240331T010000
END:DAYLIGHT
BEGIN:STANDARD
TZOFFSETFROM:+0200
TZOFFSETTO:+0100
TZNAME:CET
DTSTART:20241027T010000
END:STANDARD
BEGIN:DAYLIGHT
TZOFFSETFROM:+0100
TZOFFSETTO:+0200
TZNAME:CEST
DTSTART:20250330T010000
END:DAYLIGHT
BEGIN:STANDARD
TZOFFSETFROM:+0200
TZOFFSETTO:+0100
TZNAME:CET
DTSTART:20251026T010000
END:STANDARD
BEGIN:DAYLIGHT
TZOFFSETFROM:+0100
TZOFFSETTO:+0200
TZNAME:CEST
DTSTART:20260329T010000
END:DAYLIGHT
BEGIN:STANDARD
TZOFFSETFROM:+0200
TZOFFSETTO:+0100
TZNAME:CET
DTSTART:20261025T010000
END:STANDARD
END:VTIMEZONE
BEGIN:VEVENT
DTSTART;TZID=Europe/Berlin:20251119T103000
DTEND;TZID=Europe/Berlin:20251119T150000
DTSTAMP:20260425T231305
CREATED:20250124T205336Z
LAST-MODIFIED:20250521T064343Z
UID:10006009-1763548200-1763564400@www.evangelisationsteam.de
SUMMARY:Freundestag Evangelisation | Glauchau
DESCRIPTION:
URL:https://www.evangelisationsteam.de/termin/freundestag-evangelisation-11/
LOCATION:Sach­sen­land­hal­le Glauchau\, An der Sachsenlandhalle 3\, Glauchau\, 08371\, Deutschland
ATTACH;FMTTYPE=image/jpeg:https://www.evangelisationsteam.de/wp-content/uploads/2025/01/Banner-3.jpeg
END:VEVENT
BEGIN:VEVENT
DTSTART;TZID=Europe/Berlin:20251119T103000
DTEND;TZID=Europe/Berlin:20251119T150000
DTSTAMP:20260425T231305
CREATED:20251104T100612Z
LAST-MODIFIED:20251104T100612Z
UID:10008063-1763548200-1763564400@www.evangelisationsteam.de
SUMMARY:Freudestag Evangelisationteam
DESCRIPTION:Am 18.11 fin­det der Freu­des­tag des Evan­ge­li­sa­ti­onteams statt\, in­dem mei­ne Men­tees das Kin­der­pro­gramm mit­ge­stal­ten werden. \nIch ha­be Zeit\, Freun­de und Kol­le­gen wie­der­zu­se­hen -> wenn du mich mal wie­der se­hen möch­test\, komm ger­ne vorbei 😉
URL:https://www.evangelisationsteam.de/termin/jugendstunde-9-6/
LOCATION:GLAUCHAU
ATTACH;FMTTYPE=image/heic:https://www.evangelisationsteam.de/wp-content/uploads/2025/09/Alexander2-scaled.jpg
ORGANIZER;CN="Evangelisationsteam":MAILTO:jens.ulbricht@evangelisationsteam.de
END:VEVENT
END:VCALENDAR