BEGIN:VCALENDAR
VERSION:2.0
PRODID:-//evangelisationsteam.de - ECPv6.15.20//NONSGML v1.0//EN
CALSCALE:GREGORIAN
METHOD:PUBLISH
X-ORIGINAL-URL:https://www.evangelisationsteam.de
X-WR-CALDESC:Veranstaltungen für evangelisationsteam.de
REFRESH-INTERVAL;VALUE=DURATION:PT1H
X-Robots-Tag:noindex
X-PUBLISHED-TTL:PT1H
BEGIN:VTIMEZONE
TZID:Europe/Berlin
BEGIN:DAYLIGHT
TZOFFSETFROM:+0100
TZOFFSETTO:+0200
TZNAME:CEST
DTSTART:20240331T010000
END:DAYLIGHT
BEGIN:STANDARD
TZOFFSETFROM:+0200
TZOFFSETTO:+0100
TZNAME:CET
DTSTART:20241027T010000
END:STANDARD
BEGIN:DAYLIGHT
TZOFFSETFROM:+0100
TZOFFSETTO:+0200
TZNAME:CEST
DTSTART:20250330T010000
END:DAYLIGHT
BEGIN:STANDARD
TZOFFSETFROM:+0200
TZOFFSETTO:+0100
TZNAME:CET
DTSTART:20251026T010000
END:STANDARD
BEGIN:DAYLIGHT
TZOFFSETFROM:+0100
TZOFFSETTO:+0200
TZNAME:CEST
DTSTART:20260329T010000
END:DAYLIGHT
BEGIN:STANDARD
TZOFFSETFROM:+0200
TZOFFSETTO:+0100
TZNAME:CET
DTSTART:20261025T010000
END:STANDARD
END:VTIMEZONE
BEGIN:VEVENT
DTSTART;TZID=Europe/Berlin:20251214T093000
DTEND;TZID=Europe/Berlin:20251214T110000
DTSTAMP:20260426T021930
CREATED:20250624T185001Z
LAST-MODIFIED:20250624T185001Z
UID:10006861-1765704600-1765710000@www.evangelisationsteam.de
SUMMARY:Gottesdienst | Annaberg-Buchholz
DESCRIPTION:Lutz Scheuf­ler
URL:https://www.evangelisationsteam.de/termin/gottesdienst-annaberg-buchholz-4/
LOCATION:Grün­der­zen­trum Annaberg\, Adam-Ries-Str. 16\, Annaberg-Buchholz\, 09456
ATTACH;FMTTYPE=image/jpeg:https://www.evangelisationsteam.de/wp-content/uploads/2025/01/SCHEUFLER_0392.jpg
END:VEVENT
BEGIN:VEVENT
DTSTART;TZID=Europe/Berlin:20251214T100000
DTEND;TZID=Europe/Berlin:20251214T113000
DTSTAMP:20260426T021930
CREATED:20251110T103624Z
LAST-MODIFIED:20251110T103624Z
UID:10008071-1765706400-1765711800@www.evangelisationsteam.de
SUMMARY:Gottesdienst in Ellefeld
DESCRIPTION:
URL:https://www.evangelisationsteam.de/termin/gottesdienst-in-ellefeld/
LOCATION:Lan­des­kirch­li­che Ge­mein­schaft Ellefeld\, Südstraße 15\, ELLEFELD\, 08236
ATTACH;FMTTYPE=image/jpeg:https://www.evangelisationsteam.de/wp-content/uploads/2025/01/Verkuendigung_011-scaled.jpg
END:VEVENT
END:VCALENDAR