BEGIN:VCALENDAR
VERSION:2.0
PRODID:-//evangelisationsteam.de - ECPv6.15.20//NONSGML v1.0//EN
CALSCALE:GREGORIAN
METHOD:PUBLISH
X-ORIGINAL-URL:https://www.evangelisationsteam.de
X-WR-CALDESC:Veranstaltungen für evangelisationsteam.de
REFRESH-INTERVAL;VALUE=DURATION:PT1H
X-Robots-Tag:noindex
X-PUBLISHED-TTL:PT1H
BEGIN:VTIMEZONE
TZID:Europe/Berlin
BEGIN:DAYLIGHT
TZOFFSETFROM:+0100
TZOFFSETTO:+0200
TZNAME:CEST
DTSTART:20250330T010000
END:DAYLIGHT
BEGIN:STANDARD
TZOFFSETFROM:+0200
TZOFFSETTO:+0100
TZNAME:CET
DTSTART:20251026T010000
END:STANDARD
BEGIN:DAYLIGHT
TZOFFSETFROM:+0100
TZOFFSETTO:+0200
TZNAME:CEST
DTSTART:20260329T010000
END:DAYLIGHT
BEGIN:STANDARD
TZOFFSETFROM:+0200
TZOFFSETTO:+0100
TZNAME:CET
DTSTART:20261025T010000
END:STANDARD
BEGIN:DAYLIGHT
TZOFFSETFROM:+0100
TZOFFSETTO:+0200
TZNAME:CEST
DTSTART:20270328T010000
END:DAYLIGHT
BEGIN:STANDARD
TZOFFSETFROM:+0200
TZOFFSETTO:+0100
TZNAME:CET
DTSTART:20271031T010000
END:STANDARD
END:VTIMEZONE
BEGIN:VEVENT
DTSTART;TZID=Europe/Berlin:20260111T093000
DTEND;TZID=Europe/Berlin:20260111T110000
DTSTAMP:20260426T040103
CREATED:20251031T083105Z
LAST-MODIFIED:20251117T205401Z
UID:10008040-1768123800-1768129200@www.evangelisationsteam.de
SUMMARY:Gottesdienst | Annaberg-Buchholz
DESCRIPTION:LUTZ SCHEUFLER
URL:https://www.evangelisationsteam.de/termin/gottesdienst-263/
LOCATION:Grün­der­zen­trum Annaberg-Buchholz\, Adam-Ries-Str. 16\, Annaberg-Buchholz\, 09456
ATTACH;FMTTYPE=image/jpeg:https://www.evangelisationsteam.de/wp-content/uploads/2025/01/SCHEUFLER_0392.jpg
END:VEVENT
BEGIN:VEVENT
DTSTART;TZID=Europe/Berlin:20260111T100000
DTEND;TZID=Europe/Berlin:20260111T113000
DTSTAMP:20260426T040103
CREATED:20251212T075110Z
LAST-MODIFIED:20251212T075110Z
UID:10008074-1768125600-1768131000@www.evangelisationsteam.de
SUMMARY:Gottesdienst in Vielau
DESCRIPTION:
URL:https://www.evangelisationsteam.de/termin/gottesdienst-in-vielau-29/
LOCATION:Pe­ter und Paul Kir­che Vielau\, Kirchplatz\, Reinsdorf OT Vielau\, 08141
ATTACH;FMTTYPE=image/jpeg:https://www.evangelisationsteam.de/wp-content/uploads/2024/04/Verkuendigung-001-Kopie-e1717055212515.jpeg
END:VEVENT
END:VCALENDAR