BEGIN:VCALENDAR
VERSION:2.0
PRODID:-//evangelisationsteam.de - ECPv6.15.20//NONSGML v1.0//EN
CALSCALE:GREGORIAN
METHOD:PUBLISH
X-WR-CALNAME:evangelisationsteam.de
X-ORIGINAL-URL:https://www.evangelisationsteam.de
X-WR-CALDESC:Veranstaltungen für evangelisationsteam.de
REFRESH-INTERVAL;VALUE=DURATION:PT1H
X-Robots-Tag:noindex
X-PUBLISHED-TTL:PT1H
BEGIN:VTIMEZONE
TZID:Europe/Berlin
BEGIN:DAYLIGHT
TZOFFSETFROM:+0100
TZOFFSETTO:+0200
TZNAME:CEST
DTSTART:20250330T010000
END:DAYLIGHT
BEGIN:STANDARD
TZOFFSETFROM:+0200
TZOFFSETTO:+0100
TZNAME:CET
DTSTART:20251026T010000
END:STANDARD
BEGIN:DAYLIGHT
TZOFFSETFROM:+0100
TZOFFSETTO:+0200
TZNAME:CEST
DTSTART:20260329T010000
END:DAYLIGHT
BEGIN:STANDARD
TZOFFSETFROM:+0200
TZOFFSETTO:+0100
TZNAME:CET
DTSTART:20261025T010000
END:STANDARD
BEGIN:DAYLIGHT
TZOFFSETFROM:+0100
TZOFFSETTO:+0200
TZNAME:CEST
DTSTART:20270328T010000
END:DAYLIGHT
BEGIN:STANDARD
TZOFFSETFROM:+0200
TZOFFSETTO:+0100
TZNAME:CET
DTSTART:20271031T010000
END:STANDARD
END:VTIMEZONE
BEGIN:VEVENT
DTSTART;VALUE=DATE:20260126
DTEND;VALUE=DATE:20260130
DTSTAMP:20260424T053059
CREATED:20260122T100205Z
LAST-MODIFIED:20260122T100358Z
UID:10008121-1769385600-1769731199@www.evangelisationsteam.de
SUMMARY:Schuleinsatz Metallbaukasten in Bielefeld
DESCRIPTION:Die Me­tall­bau­kas­ten­ta­ge an der Ge­org Mül­ler Schu­le in Bie­le­feld sind für die SuS der Klas­se 7 im­mer ein High­light. Wenn du ei­nen Ein­blick ge­win­nen möch­test\, kannst du dich ger­ne bei mir per­sön­lich melden. \nAlex­an­der Hellmich
URL:https://www.evangelisationsteam.de/termin/schuleinsatz-metallbaukasten-in-bielefeld/
LOCATION:GM Bie­le­feld\, Detmolder Str. 284\, Bielefeld\, 33605\, Germany
ATTACH;FMTTYPE=image/jpeg:https://www.evangelisationsteam.de/wp-content/uploads/2025/09/Hellmich.jpg
END:VEVENT
END:VCALENDAR