BEGIN:VCALENDAR
VERSION:2.0
PRODID:-//evangelisationsteam.de - ECPv6.15.20//NONSGML v1.0//EN
CALSCALE:GREGORIAN
METHOD:PUBLISH
X-WR-CALNAME:evangelisationsteam.de
X-ORIGINAL-URL:https://www.evangelisationsteam.de
X-WR-CALDESC:Veranstaltungen für evangelisationsteam.de
REFRESH-INTERVAL;VALUE=DURATION:PT1H
X-Robots-Tag:noindex
X-PUBLISHED-TTL:PT1H
BEGIN:VTIMEZONE
TZID:Europe/Berlin
BEGIN:DAYLIGHT
TZOFFSETFROM:+0100
TZOFFSETTO:+0200
TZNAME:CEST
DTSTART:20250330T010000
END:DAYLIGHT
BEGIN:STANDARD
TZOFFSETFROM:+0200
TZOFFSETTO:+0100
TZNAME:CET
DTSTART:20251026T010000
END:STANDARD
BEGIN:DAYLIGHT
TZOFFSETFROM:+0100
TZOFFSETTO:+0200
TZNAME:CEST
DTSTART:20260329T010000
END:DAYLIGHT
BEGIN:STANDARD
TZOFFSETFROM:+0200
TZOFFSETTO:+0100
TZNAME:CET
DTSTART:20261025T010000
END:STANDARD
BEGIN:DAYLIGHT
TZOFFSETFROM:+0100
TZOFFSETTO:+0200
TZNAME:CEST
DTSTART:20270328T010000
END:DAYLIGHT
BEGIN:STANDARD
TZOFFSETFROM:+0200
TZOFFSETTO:+0100
TZNAME:CET
DTSTART:20271031T010000
END:STANDARD
END:VTIMEZONE
BEGIN:VEVENT
DTSTART;VALUE=DATE:20260311
DTEND;VALUE=DATE:20260316
DTSTAMP:20260422T194047
CREATED:20260130T101117Z
LAST-MODIFIED:20260130T101117Z
UID:10008149-1773187200-1773619199@www.evangelisationsteam.de
SUMMARY:Lego Tage
DESCRIPTION:Mi­cha­el Kaufmann \n(Sonn­abend Le­go Ab­bau\, kein Bautag)
URL:https://www.evangelisationsteam.de/termin/lego-tage-68/
LOCATION:LKG Dorf­chem­nitz\, Am Wiesengrund 1\, Zwönitz OT Dorfchemnitz\, 08297\, Deutschland
ATTACH;FMTTYPE=image/jpeg:https://www.evangelisationsteam.de/wp-content/uploads/2026/01/IMG_20220406_145815-1-scaled.jpg
END:VEVENT
BEGIN:VEVENT
DTSTART;TZID=Europe/Berlin:20260311T093000
DTEND;TZID=Europe/Berlin:20260311T113000
DTSTAMP:20260422T194047
CREATED:20260202T171002Z
LAST-MODIFIED:20260202T171002Z
UID:10008166-1773221400-1773228600@www.evangelisationsteam.de
SUMMARY:Krabbelgruppe | Friedrichsgrün
DESCRIPTION:DR. CHRISTA-MARIA STEINBERG
URL:https://www.evangelisationsteam.de/termin/krabbelgruppe-friedrichsgruen/
LOCATION:Fried­richs­grün\, Parkstr.8\, Friedrichsgrün\, 08148
ATTACH;FMTTYPE=image/jpeg:https://www.evangelisationsteam.de/wp-content/uploads/2024/03/Steinberg-23-von-68-edited.jpg
END:VEVENT
BEGIN:VEVENT
DTSTART;TZID=Europe/Berlin:20260311T140000
DTEND;TZID=Europe/Berlin:20260311T193000
DTSTAMP:20260422T194047
CREATED:20260122T104532Z
LAST-MODIFIED:20260310T063950Z
UID:10008127-1773237600-1773257400@www.evangelisationsteam.de
SUMMARY:Metallbaukasten Schulungstage
DESCRIPTION:Du hast In­ter­es­se\, in die Ar­beit mit dem Me­tall­bau­kas­ten ein­zu­stei­gen?Dann mel­de dich ger­ne bei mir.Am 11.03. fin­det da­zu ein Schu­lungs­tag statt.
URL:https://www.evangelisationsteam.de/termin/metallbaukasten-schulungstage/
LOCATION:CHRISTLICHES BILDUNGSZENTRUM ERZ\, Hartensteiner Straße 61\, Oelsnitz/Erz.\, 09376
ATTACH;FMTTYPE=image/jpeg:https://www.evangelisationsteam.de/wp-content/uploads/2026/01/IMG_0441-scaled.jpeg
END:VEVENT
END:VCALENDAR