BEGIN:VCALENDAR
VERSION:2.0
PRODID:-//evangelisationsteam.de - ECPv6.15.20//NONSGML v1.0//EN
CALSCALE:GREGORIAN
METHOD:PUBLISH
X-ORIGINAL-URL:https://www.evangelisationsteam.de
X-WR-CALDESC:Veranstaltungen für evangelisationsteam.de
REFRESH-INTERVAL;VALUE=DURATION:PT1H
X-Robots-Tag:noindex
X-PUBLISHED-TTL:PT1H
BEGIN:VTIMEZONE
TZID:Europe/Berlin
BEGIN:DAYLIGHT
TZOFFSETFROM:+0100
TZOFFSETTO:+0200
TZNAME:CEST
DTSTART:20250330T010000
END:DAYLIGHT
BEGIN:STANDARD
TZOFFSETFROM:+0200
TZOFFSETTO:+0100
TZNAME:CET
DTSTART:20251026T010000
END:STANDARD
BEGIN:DAYLIGHT
TZOFFSETFROM:+0100
TZOFFSETTO:+0200
TZNAME:CEST
DTSTART:20260329T010000
END:DAYLIGHT
BEGIN:STANDARD
TZOFFSETFROM:+0200
TZOFFSETTO:+0100
TZNAME:CET
DTSTART:20261025T010000
END:STANDARD
BEGIN:DAYLIGHT
TZOFFSETFROM:+0100
TZOFFSETTO:+0200
TZNAME:CEST
DTSTART:20270328T010000
END:DAYLIGHT
BEGIN:STANDARD
TZOFFSETFROM:+0200
TZOFFSETTO:+0100
TZNAME:CET
DTSTART:20271031T010000
END:STANDARD
END:VTIMEZONE
BEGIN:VEVENT
DTSTART;VALUE=DATE:20260311
DTEND;VALUE=DATE:20260316
DTSTAMP:20260420T221228
CREATED:20260130T101117Z
LAST-MODIFIED:20260130T101117Z
UID:10008149-1773187200-1773619199@www.evangelisationsteam.de
SUMMARY:Lego Tage
DESCRIPTION:Mi­cha­el Kaufmann \n(Sonn­abend Le­go Ab­bau\, kein Bautag)
URL:https://www.evangelisationsteam.de/termin/lego-tage-68/
LOCATION:LKG Dorf­chem­nitz\, Am Wiesengrund 1\, Zwönitz OT Dorfchemnitz\, 08297\, Deutschland
ATTACH;FMTTYPE=image/jpeg:https://www.evangelisationsteam.de/wp-content/uploads/2026/01/IMG_20220406_145815-1-scaled.jpg
END:VEVENT
BEGIN:VEVENT
DTSTART;TZID=Europe/Berlin:20260313T180000
DTEND;TZID=Europe/Berlin:20260313T193000
DTSTAMP:20260420T221228
CREATED:20260310T123120Z
LAST-MODIFIED:20260310T123120Z
UID:10008168-1773424800-1773430200@www.evangelisationsteam.de
SUMMARY:Konzert | Biberschlag
DESCRIPTION:Lutz Scheuf­ler
URL:https://www.evangelisationsteam.de/termin/konzert-biberschlag/
LOCATION:Kir­che Biberschlag\, Biberschlag\, 98666
ATTACH;FMTTYPE=image/jpeg:https://www.evangelisationsteam.de/wp-content/uploads/2026/03/2026-03-Biberschlag.jpg
END:VEVENT
BEGIN:VEVENT
DTSTART;TZID=Europe/Berlin:20260313T193000
DTEND;TZID=Europe/Berlin:20260313T210000
DTSTAMP:20260420T221228
CREATED:20251212T101257Z
LAST-MODIFIED:20251212T101257Z
UID:10008086-1773430200-1773435600@www.evangelisationsteam.de
SUMMARY:Bibelabend in Jahnsdorf
DESCRIPTION:
URL:https://www.evangelisationsteam.de/termin/bibelabend-in-jahnsdorf-3/
LOCATION:Sachsen
ATTACH;FMTTYPE=image/jpeg:https://www.evangelisationsteam.de/wp-content/uploads/2025/01/Verkuendigung_013-scaled.jpg
END:VEVENT
END:VCALENDAR