BEGIN:VCALENDAR
VERSION:2.0
PRODID:-//evangelisationsteam.de - ECPv6.15.20//NONSGML v1.0//EN
CALSCALE:GREGORIAN
METHOD:PUBLISH
X-ORIGINAL-URL:https://www.evangelisationsteam.de
X-WR-CALDESC:Veranstaltungen für evangelisationsteam.de
REFRESH-INTERVAL;VALUE=DURATION:PT1H
X-Robots-Tag:noindex
X-PUBLISHED-TTL:PT1H
BEGIN:VTIMEZONE
TZID:Europe/Berlin
BEGIN:DAYLIGHT
TZOFFSETFROM:+0100
TZOFFSETTO:+0200
TZNAME:CEST
DTSTART:20240331T010000
END:DAYLIGHT
BEGIN:STANDARD
TZOFFSETFROM:+0200
TZOFFSETTO:+0100
TZNAME:CET
DTSTART:20241027T010000
END:STANDARD
BEGIN:DAYLIGHT
TZOFFSETFROM:+0100
TZOFFSETTO:+0200
TZNAME:CEST
DTSTART:20250330T010000
END:DAYLIGHT
BEGIN:STANDARD
TZOFFSETFROM:+0200
TZOFFSETTO:+0100
TZNAME:CET
DTSTART:20251026T010000
END:STANDARD
BEGIN:DAYLIGHT
TZOFFSETFROM:+0100
TZOFFSETTO:+0200
TZNAME:CEST
DTSTART:20260329T010000
END:DAYLIGHT
BEGIN:STANDARD
TZOFFSETFROM:+0200
TZOFFSETTO:+0100
TZNAME:CET
DTSTART:20261025T010000
END:STANDARD
END:VTIMEZONE
BEGIN:VEVENT
DTSTART;TZID=Europe/Berlin:20250809T150000
DTEND;TZID=Europe/Berlin:20250809T170000
DTSTAMP:20260425T164806
CREATED:20250730T150257Z
LAST-MODIFIED:20250730T150257Z
UID:10007629-1754751600-1754758800@www.evangelisationsteam.de
SUMMARY:Seniorennachmittag Thierfeld
DESCRIPTION:
URL:https://www.evangelisationsteam.de/termin/seniorennachmittag-thierfeld/
LOCATION:Kir­che für Dich Thierfeld\, Hartensteiner Straße 120B\, Hartenstein OT Thierfeld\, 08118
ATTACH;FMTTYPE=image/jpeg:https://www.evangelisationsteam.de/wp-content/uploads/2024/04/Verkuendigung-001-Kopie-e1717055212515.jpeg
END:VEVENT
BEGIN:VEVENT
DTSTART;TZID=Europe/Berlin:20250810T093000
DTEND;TZID=Europe/Berlin:20250810T110000
DTSTAMP:20260425T164806
CREATED:20250522T170148Z
LAST-MODIFIED:20250522T170148Z
UID:10006439-1754818200-1754823600@www.evangelisationsteam.de
SUMMARY:Gottesdienst | Annaberg-Buchholz
DESCRIPTION:Lutz Scheuf­ler
URL:https://www.evangelisationsteam.de/termin/gottesdienst-annaberg-buchholz-2/
LOCATION:Grün­der­zen­trum Annaberg\, Adam-Ries-Str. 16\, Annaberg-Buchholz\, 09456
ATTACH;FMTTYPE=image/jpeg:https://www.evangelisationsteam.de/wp-content/uploads/2025/01/SCHEUFLER_0392.jpg
END:VEVENT
BEGIN:VEVENT
DTSTART;VALUE=DATE:20250815
DTEND;VALUE=DATE:20250818
DTSTAMP:20260425T164806
CREATED:20250730T150942Z
LAST-MODIFIED:20250730T150942Z
UID:10007630-1755216000-1755475199@www.evangelisationsteam.de
SUMMARY:Gemeinderüstzeit in Reudnitz
DESCRIPTION:
URL:https://www.evangelisationsteam.de/termin/gemeinderuestzeit-in-reudnitz-2/
LOCATION:Sachsen
ATTACH;FMTTYPE=image/jpeg:https://www.evangelisationsteam.de/wp-content/uploads/2025/01/Verkuendigung_013-scaled.jpg
END:VEVENT
BEGIN:VEVENT
DTSTART;TZID=Europe/Berlin:20250815T150000
DTEND;TZID=Europe/Berlin:20250815T173000
DTSTAMP:20260425T164806
CREATED:20250522T194855Z
LAST-MODIFIED:20250522T194855Z
UID:10006454-1755270000-1755279000@www.evangelisationsteam.de
SUMMARY:Seniorennachmittag | Auerbach im Vogtland
DESCRIPTION:Lutz Scheuf­ler
URL:https://www.evangelisationsteam.de/termin/seniorennachmittag-auerbach-im-vogtland/
LOCATION:LKG Au­er­bach\, Zillestraße 6\, Auerbach\, 08209
ATTACH;FMTTYPE=image/jpeg:https://www.evangelisationsteam.de/wp-content/uploads/2025/01/SCHEUFLER_0392.jpg
END:VEVENT
BEGIN:VEVENT
DTSTART;VALUE=DATE:20250816
DTEND;VALUE=DATE:20250818
DTSTAMP:20260425T164806
CREATED:20250503T071036Z
LAST-MODIFIED:20250503T071234Z
UID:10006429-1755302400-1755475199@www.evangelisationsteam.de
SUMMARY:Seelsorge-Seminar
DESCRIPTION:Dr. Chris­ta-Ma­ria Steinberg
URL:https://www.evangelisationsteam.de/termin/seelsorge-seminar-6/
LOCATION:Wald­bad Niederwürschnitz\, Niederwürschnitz\, 09399
ATTACH;FMTTYPE=image/jpeg:https://www.evangelisationsteam.de/wp-content/uploads/2024/03/Steinberg-23-von-68-edited.jpg
END:VEVENT
BEGIN:VEVENT
DTSTART;TZID=Europe/Berlin:20250816T190000
DTEND;TZID=Europe/Berlin:20250816T203000
DTSTAMP:20260425T164806
CREATED:20250522T170421Z
LAST-MODIFIED:20250522T170421Z
UID:10006440-1755370800-1755376200@www.evangelisationsteam.de
SUMMARY:Konzert | Cranzahl
DESCRIPTION:Lutz Scheuf­ler
URL:https://www.evangelisationsteam.de/termin/konzert-cranzahl/
LOCATION:EmK Cr­an­zahl\, leischergasse 2\, Cranzahl\, 09465
ATTACH;FMTTYPE=image/jpeg:https://www.evangelisationsteam.de/wp-content/uploads/2025/01/SCHEUFLER-L.jpg
END:VEVENT
BEGIN:VEVENT
DTSTART;TZID=Europe/Berlin:20250817T100000
DTEND;TZID=Europe/Berlin:20250817T110000
DTSTAMP:20260425T164806
CREATED:20250522T170638Z
LAST-MODIFIED:20250522T170638Z
UID:10006441-1755424800-1755428400@www.evangelisationsteam.de
SUMMARY:Reitturnier-Gottesdienst | Dorfchemnitz
DESCRIPTION:Lutz Scheuf­ler
URL:https://www.evangelisationsteam.de/termin/reitturnier-gottesdienst-dorfchemnitz/
LOCATION:Dorf­chem­nitz\, Am Wiesengrund 1\, Dorfchemnitz
ATTACH;FMTTYPE=image/jpeg:https://www.evangelisationsteam.de/wp-content/uploads/2019/11/LutzScheuflerLIVE_GregorPQ.jpg
END:VEVENT
BEGIN:VEVENT
DTSTART;TZID=Europe/Berlin:20250817T143000
DTEND;TZID=Europe/Berlin:20250817T160000
DTSTAMP:20260425T164806
CREATED:20250707T070116Z
LAST-MODIFIED:20250707T070116Z
UID:10006873-1755441000-1755446400@www.evangelisationsteam.de
SUMMARY:Volksmissionskreis
DESCRIPTION:Gun­tram Wurst
URL:https://www.evangelisationsteam.de/termin/volksmissionskreis-22/
LOCATION:Kirch­ge­mein­de­raum Großpostwitz\, Hauptstraße 5\, Großpostwitz\, 02692
ATTACH;FMTTYPE=image/jpeg:https://www.evangelisationsteam.de/wp-content/uploads/2024/06/IMG_9834-scaled.jpg
ORGANIZER;CN="Volksmissionskreis Gro%C3%9Fpostwitz":MAILTO:sc.roblick@t-online.de
END:VEVENT
BEGIN:VEVENT
DTSTART;VALUE=DATE:20250821
DTEND;VALUE=DATE:20250824
DTSTAMP:20260425T164806
CREATED:20250822T084050Z
LAST-MODIFIED:20250822T084050Z
UID:10008009-1755734400-1755993599@www.evangelisationsteam.de
SUMMARY:Lego Tage
DESCRIPTION:je­weils 14.00 – 17.00 Uhr \n \nMi­cha­el Kaufmann
URL:https://www.evangelisationsteam.de/termin/lego-tage-57/
LOCATION:SCHÜTZENHAUS\, Raiffeisenstraße 2\, Ammelbruch\, Bayern
ATTACH;FMTTYPE=image/jpeg:https://www.evangelisationsteam.de/wp-content/uploads/2025/03/IMG_20220406_145815-scaled.jpg
END:VEVENT
BEGIN:VEVENT
DTSTART;TZID=Europe/Berlin:20250824T100000
DTEND;TZID=Europe/Berlin:20250824T113000
DTSTAMP:20260425T164806
CREATED:20250522T170838Z
LAST-MODIFIED:20250522T170838Z
UID:10006442-1756029600-1756035000@www.evangelisationsteam.de
SUMMARY:Freiluftgottesdienst | Nossen
DESCRIPTION:Lutz Scheuf­ler
URL:https://www.evangelisationsteam.de/termin/freiluftgottesdienst-nossen/
LOCATION:Klos­ter­park Altzella\, Zellaer Straße 10\, Nossen\, 01683
ATTACH;FMTTYPE=image/jpeg:https://www.evangelisationsteam.de/wp-content/uploads/2020/03/Bräuer-1609.jpeg
END:VEVENT
BEGIN:VEVENT
DTSTART;TZID=Europe/Berlin:20250824T100000
DTEND;TZID=Europe/Berlin:20250824T113000
DTSTAMP:20260425T164806
CREATED:20250707T071137Z
LAST-MODIFIED:20250707T071137Z
UID:10006874-1756029600-1756035000@www.evangelisationsteam.de
SUMMARY:Gemeinschaftsstunde
DESCRIPTION:Gun­tram Wurst \nThe­ma: \n„Wie aus mut­lo­sen Chris­ten fröh­li­che Je­sus-Be­ken­ner werden“
URL:https://www.evangelisationsteam.de/termin/gemeinschaftsstunde-19/
LOCATION:LKG BURKHARDTSDORF\, Canzlerstraße 10\, Burkhardtsdorf\, 09235
ATTACH;FMTTYPE=image/jpeg:https://www.evangelisationsteam.de/wp-content/uploads/2025/07/DSC08752a-scaled-e1761135829432.jpg
ORGANIZER;CN="Landeskirchliche Gemeinschaft Burkhardtsdorf":MAILTO:michael.paul-55@web.de
END:VEVENT
BEGIN:VEVENT
DTSTART;VALUE=DATE:20250825
DTEND;VALUE=DATE:20250826
DTSTAMP:20260425T164806
CREATED:20250730T151246Z
LAST-MODIFIED:20250730T151246Z
UID:10007631-1756080000-1756166399@www.evangelisationsteam.de
SUMMARY:Jugendwoche in Dresden
DESCRIPTION:
URL:https://www.evangelisationsteam.de/termin/jugendwoche-in-dresden/
LOCATION:Sachsen
ATTACH;FMTTYPE=image/jpeg:https://www.evangelisationsteam.de/wp-content/uploads/2024/04/Verkuendigung-006-Kopie.jpeg
END:VEVENT
BEGIN:VEVENT
DTSTART;TZID=Europe/Berlin:20250826T180000
DTEND;TZID=Europe/Berlin:20250826T213000
DTSTAMP:20260425T164806
CREATED:20250730T151904Z
LAST-MODIFIED:20250730T152127Z
UID:10007632-1756231200-1756243800@www.evangelisationsteam.de
SUMMARY:living water Jugendwoche in Dresden
DESCRIPTION:
URL:https://www.evangelisationsteam.de/termin/living-water-jugendwoche-in-dresden/2025-08-26/
LOCATION:Zi­ons­kir­che Dres­den Südvorstadt\, Bayreuther Straße 28\, Dresden\, 01187\, Germany
ATTACH;FMTTYPE=image/jpeg:https://www.evangelisationsteam.de/wp-content/uploads/2024/04/Kreuz-001-Kopie.jpeg
END:VEVENT
BEGIN:VEVENT
DTSTART;TZID=Europe/Berlin:20250827T180000
DTEND;TZID=Europe/Berlin:20250827T213000
DTSTAMP:20260425T164806
CREATED:20250730T151904Z
LAST-MODIFIED:20250730T152127Z
UID:10007633-1756317600-1756330200@www.evangelisationsteam.de
SUMMARY:living water Jugendwoche in Dresden
DESCRIPTION:
URL:https://www.evangelisationsteam.de/termin/living-water-jugendwoche-in-dresden/2025-08-27/
LOCATION:Zi­ons­kir­che Dres­den Südvorstadt\, Bayreuther Straße 28\, Dresden\, 01187\, Germany
ATTACH;FMTTYPE=image/jpeg:https://www.evangelisationsteam.de/wp-content/uploads/2024/04/Kreuz-001-Kopie.jpeg
END:VEVENT
BEGIN:VEVENT
DTSTART;TZID=Europe/Berlin:20250827T183000
DTEND;TZID=Europe/Berlin:20250827T200000
DTSTAMP:20260425T164806
CREATED:20250707T071422Z
LAST-MODIFIED:20250707T071422Z
UID:10006875-1756319400-1756324800@www.evangelisationsteam.de
SUMMARY:Junge Gemeinde
DESCRIPTION:Gun­tram Wurst
URL:https://www.evangelisationsteam.de/termin/junge-gemeinde-43/
LOCATION:Pfarr­haus Pleißa\, Schulberg 2\, Limbach-Oberfrohna\, OT Pleißa\, Sachsen\, 09212
ATTACH;FMTTYPE=image/jpeg:https://www.evangelisationsteam.de/wp-content/uploads/2024/06/IMG_9844-scaled.jpg
ORGANIZER;CN="Ev.-Luth. Kirchgemeinde Plei%C3%9Fa":MAILTO:kg.pleissa@evlks.de
END:VEVENT
BEGIN:VEVENT
DTSTART;TZID=Europe/Berlin:20250827T190000
DTEND;TZID=Europe/Berlin:20250827T200000
DTSTAMP:20260425T164806
CREATED:20250822T084749Z
LAST-MODIFIED:20250822T084749Z
UID:10008010-1756321200-1756324800@www.evangelisationsteam.de
SUMMARY:Bibelabende
DESCRIPTION:The­ma: Ge­mein­de. Wer braucht denn so was? \nMi­cha­el Kaufmann
URL:https://www.evangelisationsteam.de/termin/bibelabende-2/
LOCATION:LKG Frau­en­hain
ATTACH;FMTTYPE=image/jpeg:https://www.evangelisationsteam.de/wp-content/uploads/2021/05/P1080646.jpg
END:VEVENT
BEGIN:VEVENT
DTSTART;TZID=Europe/Berlin:20250828T180000
DTEND;TZID=Europe/Berlin:20250828T213000
DTSTAMP:20260425T164806
CREATED:20250730T151904Z
LAST-MODIFIED:20250730T152127Z
UID:10007634-1756404000-1756416600@www.evangelisationsteam.de
SUMMARY:living water Jugendwoche in Dresden
DESCRIPTION:
URL:https://www.evangelisationsteam.de/termin/living-water-jugendwoche-in-dresden/2025-08-28/
LOCATION:Zi­ons­kir­che Dres­den Südvorstadt\, Bayreuther Straße 28\, Dresden\, 01187\, Germany
ATTACH;FMTTYPE=image/jpeg:https://www.evangelisationsteam.de/wp-content/uploads/2024/04/Kreuz-001-Kopie.jpeg
END:VEVENT
BEGIN:VEVENT
DTSTART;TZID=Europe/Berlin:20250829T180000
DTEND;TZID=Europe/Berlin:20250829T213000
DTSTAMP:20260425T164806
CREATED:20250730T151904Z
LAST-MODIFIED:20250730T152127Z
UID:10007635-1756490400-1756503000@www.evangelisationsteam.de
SUMMARY:living water Jugendwoche in Dresden
DESCRIPTION:
URL:https://www.evangelisationsteam.de/termin/living-water-jugendwoche-in-dresden/2025-08-29/
LOCATION:Zi­ons­kir­che Dres­den Südvorstadt\, Bayreuther Straße 28\, Dresden\, 01187\, Germany
ATTACH;FMTTYPE=image/jpeg:https://www.evangelisationsteam.de/wp-content/uploads/2024/04/Kreuz-001-Kopie.jpeg
END:VEVENT
BEGIN:VEVENT
DTSTART;TZID=Europe/Berlin:20250830T140000
DTEND;TZID=Europe/Berlin:20250830T160000
DTSTAMP:20260425T164806
CREATED:20250822T085313Z
LAST-MODIFIED:20250822T085313Z
UID:10008011-1756562400-1756569600@www.evangelisationsteam.de
SUMMARY:Senioren Nachmittag
DESCRIPTION:The­ma: Was bleibt vom Leben? \nMi­cha­el Kaufmann
URL:https://www.evangelisationsteam.de/termin/senioren-nachmittag-3/
LOCATION:LKG Gab­lenz\, August-Bebel-Str. 63\, Gablenz\, 09366
ATTACH;FMTTYPE=image/jpeg:https://www.evangelisationsteam.de/wp-content/uploads/2021/05/P1080646.jpg
END:VEVENT
BEGIN:VEVENT
DTSTART;TZID=Europe/Berlin:20250830T180000
DTEND;TZID=Europe/Berlin:20250830T213000
DTSTAMP:20260425T164806
CREATED:20250730T151904Z
LAST-MODIFIED:20250730T152127Z
UID:10007636-1756576800-1756589400@www.evangelisationsteam.de
SUMMARY:living water Jugendwoche in Dresden
DESCRIPTION:
URL:https://www.evangelisationsteam.de/termin/living-water-jugendwoche-in-dresden/2025-08-30/
LOCATION:Zi­ons­kir­che Dres­den Südvorstadt\, Bayreuther Straße 28\, Dresden\, 01187\, Germany
ATTACH;FMTTYPE=image/jpeg:https://www.evangelisationsteam.de/wp-content/uploads/2024/04/Kreuz-001-Kopie.jpeg
END:VEVENT
BEGIN:VEVENT
DTSTART;TZID=Europe/Berlin:20250831T093000
DTEND;TZID=Europe/Berlin:20250831T103000
DTSTAMP:20260425T164806
CREATED:20250822T085615Z
LAST-MODIFIED:20250822T085615Z
UID:10008012-1756632600-1756636200@www.evangelisationsteam.de
SUMMARY:Gottesdienst
DESCRIPTION:Mi­cha­el Kaufmann
URL:https://www.evangelisationsteam.de/termin/gottesdienst-258/
LOCATION:GDZ\, Adam-Ries-Str. 16\, Annaberg-Buchholz\, 09456
ATTACH;FMTTYPE=image/jpeg:https://www.evangelisationsteam.de/wp-content/uploads/2021/05/P1080646.jpg
ORGANIZER;CN="Bekennende Evangelische Gemeinde Annaberg":MAILTO:stefpet@t-online.de
END:VEVENT
BEGIN:VEVENT
DTSTART;TZID=Europe/Berlin:20250831T100000
DTEND;TZID=Europe/Berlin:20250831T113000
DTSTAMP:20260425T164806
CREATED:20250707T071642Z
LAST-MODIFIED:20250707T071758Z
UID:10006876-1756634400-1756639800@www.evangelisationsteam.de
SUMMARY:Gottesdienst
DESCRIPTION:Gun­tram Wurst
URL:https://www.evangelisationsteam.de/termin/gottesdienst-256/
LOCATION:Em­ma­us­kir­che Schwarzenberg-Neuwelt\, Emmauskirchplatz 2\, Schwarzenberg\, 08340
ATTACH;FMTTYPE=image/jpeg:https://www.evangelisationsteam.de/wp-content/uploads/2025/02/IMG_0598aa-scaled.jpg
ORGANIZER;CN="Ev.-Luth. Kirchgemeinde Schwarzenberg-Neuwelt":MAILTO:pfarramt-neuwelt@t-online.de
END:VEVENT
BEGIN:VEVENT
DTSTART;TZID=Europe/Berlin:20250831T100000
DTEND;TZID=Europe/Berlin:20250831T113000
DTSTAMP:20260425T164806
CREATED:20250730T152653Z
LAST-MODIFIED:20250730T152653Z
UID:10008001-1756634400-1756639800@www.evangelisationsteam.de
SUMMARY:Gottesdienst in Vielau
DESCRIPTION:
URL:https://www.evangelisationsteam.de/termin/gottesdienst-in-vielau-23/
LOCATION:Pe­ter und Paul Kir­che Vielau\, Kirchplatz\, Reinsdorf OT Vielau\, 08141
ATTACH;FMTTYPE=image/jpeg:https://www.evangelisationsteam.de/wp-content/uploads/2024/04/Verkuendigung-002-Kopie.jpeg
END:VEVENT
END:VCALENDAR