BEGIN:VCALENDAR
VERSION:2.0
PRODID:-//evangelisationsteam.de - ECPv6.15.20//NONSGML v1.0//EN
CALSCALE:GREGORIAN
METHOD:PUBLISH
X-ORIGINAL-URL:https://www.evangelisationsteam.de
X-WR-CALDESC:Veranstaltungen für evangelisationsteam.de
REFRESH-INTERVAL;VALUE=DURATION:PT1H
X-Robots-Tag:noindex
X-PUBLISHED-TTL:PT1H
BEGIN:VTIMEZONE
TZID:Europe/Berlin
BEGIN:DAYLIGHT
TZOFFSETFROM:+0100
TZOFFSETTO:+0200
TZNAME:CEST
DTSTART:20240331T010000
END:DAYLIGHT
BEGIN:STANDARD
TZOFFSETFROM:+0200
TZOFFSETTO:+0100
TZNAME:CET
DTSTART:20241027T010000
END:STANDARD
BEGIN:DAYLIGHT
TZOFFSETFROM:+0100
TZOFFSETTO:+0200
TZNAME:CEST
DTSTART:20250330T010000
END:DAYLIGHT
BEGIN:STANDARD
TZOFFSETFROM:+0200
TZOFFSETTO:+0100
TZNAME:CET
DTSTART:20251026T010000
END:STANDARD
BEGIN:DAYLIGHT
TZOFFSETFROM:+0100
TZOFFSETTO:+0200
TZNAME:CEST
DTSTART:20260329T010000
END:DAYLIGHT
BEGIN:STANDARD
TZOFFSETFROM:+0200
TZOFFSETTO:+0100
TZNAME:CET
DTSTART:20261025T010000
END:STANDARD
END:VTIMEZONE
BEGIN:VEVENT
DTSTART;TZID=Europe/Berlin:20250902T193000
DTEND;TZID=Europe/Berlin:20250902T210000
DTSTAMP:20260425T182022
CREATED:20250522T171241Z
LAST-MODIFIED:20250829T071146Z
UID:10006443-1756841400-1756846800@www.evangelisationsteam.de
SUMMARY:Bibelabend | Oelsnitz im ERZ
DESCRIPTION:Lutz Scheuf­ler
URL:https://www.evangelisationsteam.de/termin/bibelabend-oelsnitz-im-erz/2025-09-02/
LOCATION:Ge­mein­de­saal Oelsnitz\, Albert-Funk-Schacht-Straße 2\, Oelsnitz\, 09376
ATTACH;FMTTYPE=image/jpeg:https://www.evangelisationsteam.de/wp-content/uploads/2021/05/P1080606.jpg
END:VEVENT
BEGIN:VEVENT
DTSTART;TZID=Europe/Berlin:20250903T193000
DTEND;TZID=Europe/Berlin:20250903T210000
DTSTAMP:20260425T182022
CREATED:20250522T171241Z
LAST-MODIFIED:20250829T071146Z
UID:10006444-1756927800-1756933200@www.evangelisationsteam.de
SUMMARY:Bibelabend | Oelsnitz im ERZ
DESCRIPTION:Lutz Scheuf­ler
URL:https://www.evangelisationsteam.de/termin/bibelabend-oelsnitz-im-erz/2025-09-03/
LOCATION:Ge­mein­de­saal Oelsnitz\, Albert-Funk-Schacht-Straße 2\, Oelsnitz\, 09376
ATTACH;FMTTYPE=image/jpeg:https://www.evangelisationsteam.de/wp-content/uploads/2021/05/P1080606.jpg
END:VEVENT
BEGIN:VEVENT
DTSTART;VALUE=DATE:20250904
DTEND;VALUE=DATE:20250908
DTSTAMP:20260425T182022
CREATED:20250822T090740Z
LAST-MODIFIED:20250822T090740Z
UID:10008013-1756944000-1757289599@www.evangelisationsteam.de
SUMMARY:Lego Tage
DESCRIPTION:Mi­cha­el Kaufmann
URL:https://www.evangelisationsteam.de/termin/lego-tage-58/
LOCATION:Pfarr­scheu­ne Höckendorf\, Pfarrstr. 2\, Höckendorf\, 01936
ATTACH;FMTTYPE=image/jpeg:https://www.evangelisationsteam.de/wp-content/uploads/2025/03/IMG_20220406_145815-scaled.jpg
END:VEVENT
BEGIN:VEVENT
DTSTART;TZID=Europe/Berlin:20250904T193000
DTEND;TZID=Europe/Berlin:20250904T210000
DTSTAMP:20260425T182022
CREATED:20250522T171241Z
LAST-MODIFIED:20250829T071146Z
UID:10006445-1757014200-1757019600@www.evangelisationsteam.de
SUMMARY:Bibelabend | Oelsnitz im ERZ
DESCRIPTION:Lutz Scheuf­ler
URL:https://www.evangelisationsteam.de/termin/bibelabend-oelsnitz-im-erz/2025-09-04/
LOCATION:Ge­mein­de­saal Oelsnitz\, Albert-Funk-Schacht-Straße 2\, Oelsnitz\, 09376
ATTACH;FMTTYPE=image/jpeg:https://www.evangelisationsteam.de/wp-content/uploads/2021/05/P1080606.jpg
END:VEVENT
BEGIN:VEVENT
DTSTART;TZID=Europe/Berlin:20250905T193000
DTEND;TZID=Europe/Berlin:20250905T203000
DTSTAMP:20260425T182022
CREATED:20250707T074759Z
LAST-MODIFIED:20250806T114233Z
UID:10007253-1757100600-1757104200@www.evangelisationsteam.de
SUMMARY:Zeltevangelisation
DESCRIPTION:Gun­tram Wurst
URL:https://www.evangelisationsteam.de/termin/zeltevangelisation-20/2025-09-05/
LOCATION:Sport­platz Königshain\, Dorfstraße 68\, Königshain\, 09306\, Deutschland
ATTACH;FMTTYPE=image/jpeg:https://www.evangelisationsteam.de/wp-content/uploads/2024/06/7-_FD_9574-CR3_1-scaled.jpg
END:VEVENT
BEGIN:VEVENT
DTSTART;TZID=Europe/Berlin:20250905T193000
DTEND;TZID=Europe/Berlin:20250905T210000
DTSTAMP:20260425T182022
CREATED:20250522T171241Z
LAST-MODIFIED:20250829T071146Z
UID:10006446-1757100600-1757106000@www.evangelisationsteam.de
SUMMARY:Bibelabend | Oelsnitz im ERZ
DESCRIPTION:Lutz Scheuf­ler
URL:https://www.evangelisationsteam.de/termin/bibelabend-oelsnitz-im-erz/2025-09-05/
LOCATION:Ge­mein­de­saal Oelsnitz\, Albert-Funk-Schacht-Straße 2\, Oelsnitz\, 09376
ATTACH;FMTTYPE=image/jpeg:https://www.evangelisationsteam.de/wp-content/uploads/2021/05/P1080606.jpg
END:VEVENT
BEGIN:VEVENT
DTSTART;TZID=Europe/Berlin:20250906T193000
DTEND;TZID=Europe/Berlin:20250906T203000
DTSTAMP:20260425T182022
CREATED:20250707T074759Z
LAST-MODIFIED:20250806T114233Z
UID:10007254-1757187000-1757190600@www.evangelisationsteam.de
SUMMARY:Zeltevangelisation
DESCRIPTION:Gun­tram Wurst
URL:https://www.evangelisationsteam.de/termin/zeltevangelisation-20/2025-09-06/
LOCATION:Sport­platz Königshain\, Dorfstraße 68\, Königshain\, 09306\, Deutschland
ATTACH;FMTTYPE=image/jpeg:https://www.evangelisationsteam.de/wp-content/uploads/2024/06/7-_FD_9574-CR3_1-scaled.jpg
END:VEVENT
BEGIN:VEVENT
DTSTART;TZID=Europe/Berlin:20250907T093000
DTEND;TZID=Europe/Berlin:20250907T110000
DTSTAMP:20260425T182022
CREATED:20250522T171357Z
LAST-MODIFIED:20250522T171357Z
UID:10006447-1757237400-1757242800@www.evangelisationsteam.de
SUMMARY:Gottesdienst | Oelsnitz im ERZ
DESCRIPTION:Lutz Scheuf­ler
URL:https://www.evangelisationsteam.de/termin/gottesdienst-oelsnitz-im-erz/
LOCATION:Kreuz­kir­che Neuoelsnitz\, An der alten Schule 18\, Oelsnitz\, 09376
ATTACH;FMTTYPE=image/jpeg:https://www.evangelisationsteam.de/wp-content/uploads/2025/01/SCHEUFLER_0392.jpg
END:VEVENT
BEGIN:VEVENT
DTSTART;TZID=Europe/Berlin:20250907T093000
DTEND;TZID=Europe/Berlin:20250907T110000
DTSTAMP:20260425T182022
CREATED:20250707T072358Z
LAST-MODIFIED:20250806T115154Z
UID:10006877-1757237400-1757242800@www.evangelisationsteam.de
SUMMARY:Neu Leben light Gottesdienst
DESCRIPTION:Gun­tram Wurst
URL:https://www.evangelisationsteam.de/termin/neu-leben-light-gottesdienst-20/
LOCATION:Stadt­kir­che Limbach-Oberfrohna\, An der Stadtkirche 5\, Limbach-Oberfrohna\, 09212
ATTACH;FMTTYPE=image/jpeg:https://www.evangelisationsteam.de/wp-content/uploads/2025/07/GW-Frauenhain-2-a-scaled.jpg
ORGANIZER;CN="Ev.-Luth. Kirchgemeinde Limbach-K%C3%A4ndler":MAILTO:kg.limbach_kaendler@evlks.de
END:VEVENT
BEGIN:VEVENT
DTSTART;TZID=Europe/Berlin:20250907T193000
DTEND;TZID=Europe/Berlin:20250907T203000
DTSTAMP:20260425T182022
CREATED:20250707T074759Z
LAST-MODIFIED:20250806T114233Z
UID:10007255-1757273400-1757277000@www.evangelisationsteam.de
SUMMARY:Zeltevangelisation
DESCRIPTION:Gun­tram Wurst
URL:https://www.evangelisationsteam.de/termin/zeltevangelisation-20/2025-09-07/
LOCATION:Sport­platz Königshain\, Dorfstraße 68\, Königshain\, 09306\, Deutschland
ATTACH;FMTTYPE=image/jpeg:https://www.evangelisationsteam.de/wp-content/uploads/2024/06/7-_FD_9574-CR3_1-scaled.jpg
END:VEVENT
BEGIN:VEVENT
DTSTART;TZID=Europe/Berlin:20250908T193000
DTEND;TZID=Europe/Berlin:20250908T203000
DTSTAMP:20260425T182022
CREATED:20250707T074759Z
LAST-MODIFIED:20250806T114233Z
UID:10007256-1757359800-1757363400@www.evangelisationsteam.de
SUMMARY:Zeltevangelisation
DESCRIPTION:Gun­tram Wurst
URL:https://www.evangelisationsteam.de/termin/zeltevangelisation-20/2025-09-08/
LOCATION:Sport­platz Königshain\, Dorfstraße 68\, Königshain\, 09306\, Deutschland
ATTACH;FMTTYPE=image/jpeg:https://www.evangelisationsteam.de/wp-content/uploads/2024/06/7-_FD_9574-CR3_1-scaled.jpg
END:VEVENT
BEGIN:VEVENT
DTSTART;TZID=Europe/Berlin:20250909T193000
DTEND;TZID=Europe/Berlin:20250909T203000
DTSTAMP:20260425T182022
CREATED:20250707T074759Z
LAST-MODIFIED:20250806T114233Z
UID:10007257-1757446200-1757449800@www.evangelisationsteam.de
SUMMARY:Zeltevangelisation
DESCRIPTION:Gun­tram Wurst
URL:https://www.evangelisationsteam.de/termin/zeltevangelisation-20/2025-09-09/
LOCATION:Sport­platz Königshain\, Dorfstraße 68\, Königshain\, 09306\, Deutschland
ATTACH;FMTTYPE=image/jpeg:https://www.evangelisationsteam.de/wp-content/uploads/2024/06/7-_FD_9574-CR3_1-scaled.jpg
END:VEVENT
BEGIN:VEVENT
DTSTART;VALUE=DATE:20250910
DTEND;VALUE=DATE:20250912
DTSTAMP:20260425T182022
CREATED:20250906T081206Z
LAST-MODIFIED:20250906T081404Z
UID:10008023-1757462400-1757635199@www.evangelisationsteam.de
SUMMARY:Metallbaukasten-Tage
DESCRIPTION:Die Kin­der­Bi­bel­ta­ge mit dem Me­tall­bau­kas­ten fin­den das ers­te mal in Nes­sel­wan­gen statt. \nDu bist herz­lich eingeladen! \nAlex­an­der Hellmich
URL:https://www.evangelisationsteam.de/termin/metallbaukasten-tage/
LOCATION:CG Nes­sel­wan­gen\, Schneidbach 19\, Nesselwangen\, 87484\, Germany
ATTACH;FMTTYPE=image/jpeg:https://www.evangelisationsteam.de/wp-content/uploads/2025/09/448c10e8-0bc7-41d9-be30-ffcbb717f6b6.jpg
END:VEVENT
BEGIN:VEVENT
DTSTART;TZID=Europe/Berlin:20250910T193000
DTEND;TZID=Europe/Berlin:20250910T203000
DTSTAMP:20260425T182022
CREATED:20250707T074759Z
LAST-MODIFIED:20250806T114233Z
UID:10007258-1757532600-1757536200@www.evangelisationsteam.de
SUMMARY:Zeltevangelisation
DESCRIPTION:Gun­tram Wurst
URL:https://www.evangelisationsteam.de/termin/zeltevangelisation-20/2025-09-10/
LOCATION:Sport­platz Königshain\, Dorfstraße 68\, Königshain\, 09306\, Deutschland
ATTACH;FMTTYPE=image/jpeg:https://www.evangelisationsteam.de/wp-content/uploads/2024/06/7-_FD_9574-CR3_1-scaled.jpg
END:VEVENT
BEGIN:VEVENT
DTSTART;TZID=Europe/Berlin:20250911T193000
DTEND;TZID=Europe/Berlin:20250911T203000
DTSTAMP:20260425T182022
CREATED:20250707T074759Z
LAST-MODIFIED:20250806T114233Z
UID:10007259-1757619000-1757622600@www.evangelisationsteam.de
SUMMARY:Zeltevangelisation
DESCRIPTION:Gun­tram Wurst
URL:https://www.evangelisationsteam.de/termin/zeltevangelisation-20/2025-09-11/
LOCATION:Sport­platz Königshain\, Dorfstraße 68\, Königshain\, 09306\, Deutschland
ATTACH;FMTTYPE=image/jpeg:https://www.evangelisationsteam.de/wp-content/uploads/2024/06/7-_FD_9574-CR3_1-scaled.jpg
END:VEVENT
BEGIN:VEVENT
DTSTART;TZID=Europe/Berlin:20250912T143000
DTEND;TZID=Europe/Berlin:20250912T163000
DTSTAMP:20260425T182022
CREATED:20250707T073657Z
LAST-MODIFIED:20250806T114639Z
UID:10007251-1757687400-1757694600@www.evangelisationsteam.de
SUMMARY:Seniorennachmittag im Zelt
DESCRIPTION:Gun­tram Wurst
URL:https://www.evangelisationsteam.de/termin/seniorennachmittag-5/
LOCATION:Sport­platz Königshain\, Dorfstraße 68\, Königshain\, 09306\, Deutschland
ATTACH;FMTTYPE=image/jpeg:https://www.evangelisationsteam.de/wp-content/uploads/2024/06/IMG_9834-scaled.jpg
END:VEVENT
BEGIN:VEVENT
DTSTART;VALUE=DATE:20250913
DTEND;VALUE=DATE:20250914
DTSTAMP:20260425T182022
CREATED:20250522T171536Z
LAST-MODIFIED:20250522T171536Z
UID:10006448-1757721600-1757807999@www.evangelisationsteam.de
SUMMARY:Blaues Kreuz | Raschau
DESCRIPTION:Lutz Scheuf­ler
URL:https://www.evangelisationsteam.de/termin/blaues-kreuz-raschau/
LOCATION:Ra­schau
ATTACH;FMTTYPE=image/jpeg:https://www.evangelisationsteam.de/wp-content/uploads/2024/03/LUTZ-SCHEUFLER©kairospress-scaled.jpg
END:VEVENT
BEGIN:VEVENT
DTSTART;VALUE=DATE:20250913
DTEND;VALUE=DATE:20250914
DTSTAMP:20260425T182022
CREATED:20250906T081907Z
LAST-MODIFIED:20250906T082030Z
UID:10008024-1757721600-1757807999@www.evangelisationsteam.de
SUMMARY:Metallbaukasten-Tag Königshain
DESCRIPTION:Der Kin­der­Bi­bel­tag mit dem Me­tall­bau­kas­ten fin­den im Zelt in Kö­nigs­hain statt. \nDu bist herz­lich eingeladen! \nAlex­an­der Hellmich
URL:https://www.evangelisationsteam.de/termin/metallbaukasten-tag-koenigshain/
LOCATION:Ev. Kir­che Königshain\, Kirchweg 2\, Königshain\, 09306
ATTACH;FMTTYPE=image/jpeg:https://www.evangelisationsteam.de/wp-content/uploads/2025/09/448c10e8-0bc7-41d9-be30-ffcbb717f6b6.jpg
END:VEVENT
BEGIN:VEVENT
DTSTART;TZID=Europe/Berlin:20250914T100000
DTEND;TZID=Europe/Berlin:20250914T110000
DTSTAMP:20260425T182022
CREATED:20250707T074017Z
LAST-MODIFIED:20250806T114817Z
UID:10007252-1757844000-1757847600@www.evangelisationsteam.de
SUMMARY:Gottesdienst im Zelt
DESCRIPTION:Gun­tram Wurst
URL:https://www.evangelisationsteam.de/termin/gottesdienst-im-zelt/
LOCATION:Sport­platz Königshain\, Dorfstraße 68\, Königshain\, 09306\, Deutschland
ATTACH;FMTTYPE=image/jpeg:https://www.evangelisationsteam.de/wp-content/uploads/2025/07/DSC08752a-scaled-e1761135829432.jpg
END:VEVENT
BEGIN:VEVENT
DTSTART;TZID=Europe/Berlin:20250914T100000
DTEND;TZID=Europe/Berlin:20250914T113000
DTSTAMP:20260425T182022
CREATED:20250522T171644Z
LAST-MODIFIED:20250522T171644Z
UID:10006449-1757844000-1757849400@www.evangelisationsteam.de
SUMMARY:Gottesdienst | Penig
DESCRIPTION:Lutz Scheuf­ler
URL:https://www.evangelisationsteam.de/termin/gottesdienst-penig/
LOCATION:Chris­ten­ge­mein­de Penig\, Chemnitzer Str. 58\, Penig\, 09322\, Deutschland
ATTACH;FMTTYPE=image/jpeg:https://www.evangelisationsteam.de/wp-content/uploads/2024/03/Lutz-Scheufler-1.jpg
END:VEVENT
BEGIN:VEVENT
DTSTART;TZID=Europe/Berlin:20250914T130000
DTEND;TZID=Europe/Berlin:20250914T150000
DTSTAMP:20260425T182022
CREATED:20250906T083650Z
LAST-MODIFIED:20250911T075518Z
UID:10008027-1757854800-1757862000@www.evangelisationsteam.de
SUMMARY:Kinderprgramm Liebenau
DESCRIPTION:Mit dem XXL-Me­tall­bau­kas­ten gibt es für Kin­der ab der 1. Klas­se ein tol­les Kin­der­pro­gramm. Ei­ne bi­bli­sche Ge­schich­te darf na­tür­lich auch nicht fehlen. \nAlex­an­der Hellmich
URL:https://www.evangelisationsteam.de/termin/kinderprgramm-liebenau/
LOCATION:Kul­tur­scheu­ne Liebenau\, Hauptstraße 28c\, Altenberg OT Liebenau\, 01778
ATTACH;FMTTYPE=image/heic:https://www.evangelisationsteam.de/wp-content/uploads/2025/09/IMG_6153-scaled.jpg
END:VEVENT
BEGIN:VEVENT
DTSTART;TZID=Europe/Berlin:20250917T190000
DTEND;TZID=Europe/Berlin:20250917T203000
DTSTAMP:20260425T182022
CREATED:20250522T171806Z
LAST-MODIFIED:20250522T171806Z
UID:10006450-1758135600-1758141000@www.evangelisationsteam.de
SUMMARY:Gottesdienst | Anklam
DESCRIPTION:Lutz Scheuf­ler
URL:https://www.evangelisationsteam.de/termin/gottesdienst-anklam/
LOCATION:LKG An­klam\, Friedländer Landstr. 28\, Anklam\, 17389
ATTACH;FMTTYPE=image/jpeg:https://www.evangelisationsteam.de/wp-content/uploads/2019/11/LutzScheuflerLIVE_GregorPQ.jpg
END:VEVENT
BEGIN:VEVENT
DTSTART;TZID=Europe/Berlin:20250920T080000
DTEND;TZID=Europe/Berlin:20250920T170000
DTSTAMP:20260425T182022
CREATED:20250522T171930Z
LAST-MODIFIED:20250927T141719Z
UID:10008030-1758355200-1758387600@www.evangelisationsteam.de
SUMMARY:Zeltevangelisation | Sosa
DESCRIPTION:Lutz Scheuf­ler
URL:https://www.evangelisationsteam.de/termin/zeltevangelisation-sosa/2025-09-20/
LOCATION:SOSA ZELT\, Ortseingang\, SOSA\, 08309
ATTACH;FMTTYPE=image/jpeg:https://www.evangelisationsteam.de/wp-content/uploads/2022/06/Lutz-Scheufler.jpg
END:VEVENT
BEGIN:VEVENT
DTSTART;TZID=Europe/Berlin:20250920T190000
DTEND;TZID=Europe/Berlin:20250920T203000
DTSTAMP:20260425T182022
CREATED:20250927T141749Z
LAST-MODIFIED:20250927T141749Z
UID:10006862-1758394800-1758400200@www.evangelisationsteam.de
SUMMARY:Zeltevangelisation | Sosa
DESCRIPTION:Lutz Scheuf­ler
URL:https://www.evangelisationsteam.de/termin/zeltevangelisation-sosa-2/
LOCATION:SOSA ZELT\, Ortseingang\, SOSA\, 08309
ATTACH;FMTTYPE=image/jpeg:https://www.evangelisationsteam.de/wp-content/uploads/2022/06/Lutz-Scheufler.jpg
END:VEVENT
BEGIN:VEVENT
DTSTART;TZID=Europe/Berlin:20250921T100000
DTEND;TZID=Europe/Berlin:20250921T113000
DTSTAMP:20260425T182022
CREATED:20250522T171930Z
LAST-MODIFIED:20250927T141719Z
UID:10006863-1758448800-1758454200@www.evangelisationsteam.de
SUMMARY:Zeltevangelisation | Sosa
DESCRIPTION:Lutz Scheuf­ler
URL:https://www.evangelisationsteam.de/termin/zeltevangelisation-sosa/2025-09-21/1/
LOCATION:SOSA ZELT\, Ortseingang\, SOSA\, 08309
ATTACH;FMTTYPE=image/jpeg:https://www.evangelisationsteam.de/wp-content/uploads/2022/06/Lutz-Scheufler.jpg
END:VEVENT
BEGIN:VEVENT
DTSTART;TZID=Europe/Berlin:20250921T154500
DTEND;TZID=Europe/Berlin:20250921T170000
DTSTAMP:20260425T182022
CREATED:20250730T153352Z
LAST-MODIFIED:20250730T153352Z
UID:10008002-1758469500-1758474000@www.evangelisationsteam.de
SUMMARY:GospelMagic zur LKG-Bezirkskonferenz in Burkhardtsdorf
DESCRIPTION:
URL:https://www.evangelisationsteam.de/termin/gospelmagic-zur-lkg-bezirkskonferenz-in-burkhardtsdorf/
LOCATION:BURKHARDTSDORF\, neveon-Arena\, BURKHARDTSDORF\, 09235
ATTACH;FMTTYPE=image/jpeg:https://www.evangelisationsteam.de/wp-content/uploads/2024/09/Gospelmagic006-Kopie-scaled.jpg
END:VEVENT
BEGIN:VEVENT
DTSTART;TZID=Europe/Berlin:20250921T190000
DTEND;TZID=Europe/Berlin:20250921T203000
DTSTAMP:20260425T182022
CREATED:20250522T171930Z
LAST-MODIFIED:20250927T141719Z
UID:10006864-1758481200-1758486600@www.evangelisationsteam.de
SUMMARY:Zeltevangelisation | Sosa
DESCRIPTION:Lutz Scheuf­ler
URL:https://www.evangelisationsteam.de/termin/zeltevangelisation-sosa/2025-09-21/2/
LOCATION:SOSA ZELT\, Ortseingang\, SOSA\, 08309
ATTACH;FMTTYPE=image/jpeg:https://www.evangelisationsteam.de/wp-content/uploads/2022/06/Lutz-Scheufler.jpg
END:VEVENT
BEGIN:VEVENT
DTSTART;TZID=Europe/Berlin:20250922T190000
DTEND;TZID=Europe/Berlin:20250922T203000
DTSTAMP:20260425T182022
CREATED:20250522T171930Z
LAST-MODIFIED:20250927T141719Z
UID:10006865-1758567600-1758573000@www.evangelisationsteam.de
SUMMARY:Zeltevangelisation | Sosa
DESCRIPTION:Lutz Scheuf­ler
URL:https://www.evangelisationsteam.de/termin/zeltevangelisation-sosa/2025-09-22/
LOCATION:SOSA ZELT\, Ortseingang\, SOSA\, 08309
ATTACH;FMTTYPE=image/jpeg:https://www.evangelisationsteam.de/wp-content/uploads/2022/06/Lutz-Scheufler.jpg
END:VEVENT
BEGIN:VEVENT
DTSTART;TZID=Europe/Berlin:20250923T190000
DTEND;TZID=Europe/Berlin:20250923T203000
DTSTAMP:20260425T182022
CREATED:20250522T171930Z
LAST-MODIFIED:20250927T141719Z
UID:10006866-1758654000-1758659400@www.evangelisationsteam.de
SUMMARY:Zeltevangelisation | Sosa
DESCRIPTION:Lutz Scheuf­ler
URL:https://www.evangelisationsteam.de/termin/zeltevangelisation-sosa/2025-09-23/
LOCATION:SOSA ZELT\, Ortseingang\, SOSA\, 08309
ATTACH;FMTTYPE=image/jpeg:https://www.evangelisationsteam.de/wp-content/uploads/2022/06/Lutz-Scheufler.jpg
END:VEVENT
BEGIN:VEVENT
DTSTART;TZID=Europe/Berlin:20250924T190000
DTEND;TZID=Europe/Berlin:20250924T203000
DTSTAMP:20260425T182022
CREATED:20250522T171930Z
LAST-MODIFIED:20250927T141719Z
UID:10006867-1758740400-1758745800@www.evangelisationsteam.de
SUMMARY:Zeltevangelisation | Sosa
DESCRIPTION:Lutz Scheuf­ler
URL:https://www.evangelisationsteam.de/termin/zeltevangelisation-sosa/2025-09-24/
LOCATION:SOSA ZELT\, Ortseingang\, SOSA\, 08309
ATTACH;FMTTYPE=image/jpeg:https://www.evangelisationsteam.de/wp-content/uploads/2022/06/Lutz-Scheufler.jpg
END:VEVENT
END:VCALENDAR