BEGIN:VCALENDAR
VERSION:2.0
PRODID:-//evangelisationsteam.de - ECPv6.15.20//NONSGML v1.0//EN
CALSCALE:GREGORIAN
METHOD:PUBLISH
X-WR-CALNAME:evangelisationsteam.de
X-ORIGINAL-URL:https://www.evangelisationsteam.de
X-WR-CALDESC:Veranstaltungen für evangelisationsteam.de
REFRESH-INTERVAL;VALUE=DURATION:PT1H
X-Robots-Tag:noindex
X-PUBLISHED-TTL:PT1H
BEGIN:VTIMEZONE
TZID:Europe/Berlin
BEGIN:DAYLIGHT
TZOFFSETFROM:+0100
TZOFFSETTO:+0200
TZNAME:CEST
DTSTART:20240331T010000
END:DAYLIGHT
BEGIN:STANDARD
TZOFFSETFROM:+0200
TZOFFSETTO:+0100
TZNAME:CET
DTSTART:20241027T010000
END:STANDARD
BEGIN:DAYLIGHT
TZOFFSETFROM:+0100
TZOFFSETTO:+0200
TZNAME:CEST
DTSTART:20250330T010000
END:DAYLIGHT
BEGIN:STANDARD
TZOFFSETFROM:+0200
TZOFFSETTO:+0100
TZNAME:CET
DTSTART:20251026T010000
END:STANDARD
BEGIN:DAYLIGHT
TZOFFSETFROM:+0100
TZOFFSETTO:+0200
TZNAME:CEST
DTSTART:20260329T010000
END:DAYLIGHT
BEGIN:STANDARD
TZOFFSETFROM:+0200
TZOFFSETTO:+0100
TZNAME:CET
DTSTART:20261025T010000
END:STANDARD
END:VTIMEZONE
BEGIN:VEVENT
DTSTART;VALUE=DATE:20251002
DTEND;VALUE=DATE:20251006
DTSTAMP:20260425T195201
CREATED:20250822T091905Z
LAST-MODIFIED:20250822T091905Z
UID:10008016-1759363200-1759708799@www.evangelisationsteam.de
SUMMARY:Lego Tage
DESCRIPTION:Mi­cha­el Kaufmann
URL:https://www.evangelisationsteam.de/termin/lego-tage-60/
LOCATION:MOSAIC Hep­pen­heim\, Odenwaldstr. 11\, Heppenheim\, 64646
ATTACH;FMTTYPE=image/jpeg:https://www.evangelisationsteam.de/wp-content/uploads/2025/03/IMG_20220406_145815-scaled.jpg
END:VEVENT
BEGIN:VEVENT
DTSTART;VALUE=DATE:20251003
DTEND;VALUE=DATE:20251004
DTSTAMP:20260425T195201
CREATED:20250522T172253Z
LAST-MODIFIED:20250522T172253Z
UID:10006452-1759449600-1759535999@www.evangelisationsteam.de
SUMMARY:Christustag | Lichtenfels
DESCRIPTION:Win­rich Scheff­buch + Lutz Scheufler
URL:https://www.evangelisationsteam.de/termin/christustag-lichtenfels/
LOCATION:Kir­che in Lichtenfels\, Kronacher Straße 16\, Lichtenfels\, 96215
ATTACH;FMTTYPE=image/jpeg:https://www.evangelisationsteam.de/wp-content/uploads/2025/05/LogoChristustag-2.jpg
END:VEVENT
BEGIN:VEVENT
DTSTART;VALUE=DATE:20251003
DTEND;VALUE=DATE:20251006
DTSTAMP:20260425T195201
CREATED:20250522T172459Z
LAST-MODIFIED:20250716T114841Z
UID:10006453-1759449600-1759708799@www.evangelisationsteam.de
SUMMARY:Bäckerkongress | Selbitz
DESCRIPTION:Lutz Scheuf­ler
URL:https://www.evangelisationsteam.de/termin/baeckerkongress-selbitz/
LOCATION:Chris­tus­bru­der­schaft Selbitz\, Selbitz\, 95152
ATTACH;FMTTYPE=image/jpeg:https://www.evangelisationsteam.de/wp-content/uploads/2025/05/2025-10_Baecker-2.jpg
END:VEVENT
BEGIN:VEVENT
DTSTART;TZID=Europe/Berlin:20251004T183000
DTEND;TZID=Europe/Berlin:20251004T210000
DTSTAMP:20260425T195201
CREATED:20250911T081245Z
LAST-MODIFIED:20250911T081546Z
UID:10008029-1759602600-1759611600@www.evangelisationsteam.de
SUMMARY:Junge Gemeinde - Jugendstunde
DESCRIPTION:Zwei Ty­pen. Zwei Zie­le. Zwei Herzen. Der ei­ne will be­hal­ten\, was ihm wich­tig ist. Der an­de­re gibt al­les auf\, weil Je­sus al­les ist. \nWas pas­siert\, wenn Je­sus dein Le­ben auf den Kopf stellt? \nEnt­de­cke mit uns\, wie Chris­tus Her­zen ver­än­dert – da­mals wie heute. Ein Im­puls­abend über Eh­re\, Angst\, Hoff­nung und ech­te Veränderung.
URL:https://www.evangelisationsteam.de/termin/jugendstunde-9/
LOCATION:Stüt­zen­grün\, LKG\, Talstraße 30 a\, Stützengrün\, 08328
ATTACH;FMTTYPE=image/heic:https://www.evangelisationsteam.de/wp-content/uploads/2025/09/Alexander2-scaled.jpg
ORGANIZER;CN="LKG St%C3%BCtzengr%C3%BCn":MAILTO:is@lkg-grund.de
END:VEVENT
BEGIN:VEVENT
DTSTART;VALUE=DATE:20251008
DTEND;VALUE=DATE:20251013
DTSTAMP:20260425T195201
CREATED:20250822T092130Z
LAST-MODIFIED:20250822T092130Z
UID:10008017-1759881600-1760313599@www.evangelisationsteam.de
SUMMARY:Lego Tage
DESCRIPTION:Mi­cha­el Kaufmann
URL:https://www.evangelisationsteam.de/termin/lego-tage-61/
LOCATION:Sachsen
ATTACH;FMTTYPE=image/jpeg:https://www.evangelisationsteam.de/wp-content/uploads/2025/03/IMG_20220406_145815-scaled.jpg
END:VEVENT
BEGIN:VEVENT
DTSTART;VALUE=DATE:20251008
DTEND;VALUE=DATE:20251013
DTSTAMP:20260425T195201
CREATED:20250822T092657Z
LAST-MODIFIED:20250822T092657Z
UID:10008018-1759881600-1760313599@www.evangelisationsteam.de
SUMMARY:Lego Tage
DESCRIPTION:Mi­cha­el Kaufmann
URL:https://www.evangelisationsteam.de/termin/lego-tage-62/
LOCATION:Ev. Kir­chen­ge­mein­de Greiz\, Burgstr. 1\, Greiz\, 07973
ATTACH;FMTTYPE=image/jpeg:https://www.evangelisationsteam.de/wp-content/uploads/2025/03/IMG_20220406_145815-scaled.jpg
END:VEVENT
BEGIN:VEVENT
DTSTART;TZID=Europe/Berlin:20251010T190000
DTEND;TZID=Europe/Berlin:20251010T203000
DTSTAMP:20260425T195201
CREATED:20250624T182407Z
LAST-MODIFIED:20250624T183253Z
UID:10006841-1760122800-1760128200@www.evangelisationsteam.de
SUMMARY:Evangelisation | Bützow
DESCRIPTION:Lutz Scheuf­ler
URL:https://www.evangelisationsteam.de/termin/evangelisation-98/2025-10-10/
LOCATION:EFG Büt­zow\, Bahnhofstraße 24a\, Bützow\, 18246
ATTACH;FMTTYPE=image/jpeg:https://www.evangelisationsteam.de/wp-content/uploads/2025/01/SCHEUFLER_0392.jpg
END:VEVENT
BEGIN:VEVENT
DTSTART;TZID=Europe/Berlin:20251011T190000
DTEND;TZID=Europe/Berlin:20251011T203000
DTSTAMP:20260425T195201
CREATED:20250624T182407Z
LAST-MODIFIED:20250624T183253Z
UID:10006842-1760209200-1760214600@www.evangelisationsteam.de
SUMMARY:Evangelisation | Bützow
DESCRIPTION:Lutz Scheuf­ler
URL:https://www.evangelisationsteam.de/termin/evangelisation-98/2025-10-11/
LOCATION:EFG Büt­zow\, Bahnhofstraße 24a\, Bützow\, 18246
ATTACH;FMTTYPE=image/jpeg:https://www.evangelisationsteam.de/wp-content/uploads/2025/01/SCHEUFLER_0392.jpg
END:VEVENT
BEGIN:VEVENT
DTSTART;TZID=Europe/Berlin:20251012T093000
DTEND;TZID=Europe/Berlin:20251012T110000
DTSTAMP:20260425T195201
CREATED:20250624T182407Z
LAST-MODIFIED:20250624T183253Z
UID:10006843-1760261400-1760266800@www.evangelisationsteam.de
SUMMARY:Evangelisation | Bützow
DESCRIPTION:Lutz Scheuf­ler
URL:https://www.evangelisationsteam.de/termin/evangelisation-98/2025-10-12/
LOCATION:EFG Büt­zow\, Bahnhofstraße 24a\, Bützow\, 18246
ATTACH;FMTTYPE=image/jpeg:https://www.evangelisationsteam.de/wp-content/uploads/2025/01/SCHEUFLER_0392.jpg
END:VEVENT
BEGIN:VEVENT
DTSTART;TZID=Europe/Berlin:20251012T100000
DTEND;TZID=Europe/Berlin:20251012T113000
DTSTAMP:20260425T195201
CREATED:20251001T110228Z
LAST-MODIFIED:20251001T112606Z
UID:10008032-1760263200-1760268600@www.evangelisationsteam.de
SUMMARY:Gottesdienst / Neuwelt
DESCRIPTION:Gun­tram Wurst
URL:https://www.evangelisationsteam.de/termin/gottesdienst-259/
LOCATION:Em­ma­us­kir­che Schwarzenberg-Neuwelt\, Emmauskirchplatz 2\, Schwarzenberg\, 08340
ATTACH;FMTTYPE=image/jpeg:https://www.evangelisationsteam.de/wp-content/uploads/2025/07/DSC08752a-scaled-e1761135829432.jpg
ORGANIZER;CN="Ev.-Luth. Kirchgemeinde Schwarzenberg-Neuwelt":MAILTO:pfarramt-neuwelt@t-online.de
END:VEVENT
BEGIN:VEVENT
DTSTART;VALUE=DATE:20251017
DTEND;VALUE=DATE:20251020
DTSTAMP:20260425T195201
CREATED:20250822T092941Z
LAST-MODIFIED:20250822T092941Z
UID:10008019-1760659200-1760918399@www.evangelisationsteam.de
SUMMARY:Lego Tage
DESCRIPTION:Mi­cha­el Kaufmann
URL:https://www.evangelisationsteam.de/termin/lego-tage-63/
LOCATION:LKG Dö­beln
ATTACH;FMTTYPE=image/jpeg:https://www.evangelisationsteam.de/wp-content/uploads/2025/03/IMG_20220406_145815-scaled.jpg
END:VEVENT
BEGIN:VEVENT
DTSTART;TZID=Europe/Berlin:20251017T190000
DTEND;TZID=Europe/Berlin:20251017T203000
DTSTAMP:20260425T195201
CREATED:20250624T182814Z
LAST-MODIFIED:20250624T183224Z
UID:10006844-1760727600-1760733000@www.evangelisationsteam.de
SUMMARY:Evangelisation | Brand-Erbisdorf
DESCRIPTION:Lutz Scheuf­ler
URL:https://www.evangelisationsteam.de/termin/evangelisation-99/2025-10-17/
LOCATION:LKG BRAND-ERBISDORF\, Gartenweg 4\, Brand-Erbisdorf\, 09618
ATTACH;FMTTYPE=image/jpeg:https://www.evangelisationsteam.de/wp-content/uploads/2021/05/P1080606.jpg
END:VEVENT
BEGIN:VEVENT
DTSTART;TZID=Europe/Berlin:20251018T083000
DTEND;TZID=Europe/Berlin:20251018T120000
DTSTAMP:20260425T195201
CREATED:20250901T162656Z
LAST-MODIFIED:20250901T162656Z
UID:10008021-1760776200-1760788800@www.evangelisationsteam.de
SUMMARY:Frauenfrühstück | Jahnsdorf
DESCRIPTION:Dr. Chris­ta-Ma­ria Steinberg
URL:https://www.evangelisationsteam.de/termin/frauenfruehstueck-jahnsdorf/
LOCATION:Pfarr­haus Jahnsdorf\, Meinersdorfer Straße 4\, Jahnsdorf\, 09387
ATTACH;FMTTYPE=image/jpeg:https://www.evangelisationsteam.de/wp-content/uploads/2024/03/Steinberg-23-von-68-edited.jpg
END:VEVENT
BEGIN:VEVENT
DTSTART;TZID=Europe/Berlin:20251018T190000
DTEND;TZID=Europe/Berlin:20251018T203000
DTSTAMP:20260425T195201
CREATED:20250624T182814Z
LAST-MODIFIED:20250624T183224Z
UID:10006845-1760814000-1760819400@www.evangelisationsteam.de
SUMMARY:Evangelisation | Brand-Erbisdorf
DESCRIPTION:Lutz Scheuf­ler
URL:https://www.evangelisationsteam.de/termin/evangelisation-99/2025-10-18/
LOCATION:LKG BRAND-ERBISDORF\, Gartenweg 4\, Brand-Erbisdorf\, 09618
ATTACH;FMTTYPE=image/jpeg:https://www.evangelisationsteam.de/wp-content/uploads/2021/05/P1080606.jpg
END:VEVENT
BEGIN:VEVENT
DTSTART;TZID=Europe/Berlin:20251019T100000
DTEND;TZID=Europe/Berlin:20251019T110000
DTSTAMP:20260425T195201
CREATED:20251001T110529Z
LAST-MODIFIED:20251001T112533Z
UID:10008033-1760868000-1760871600@www.evangelisationsteam.de
SUMMARY:Gottesdienst / Brünlos
DESCRIPTION:Gun­tram Wurst \nThe­ma: Fal­sche Sicherheiten
URL:https://www.evangelisationsteam.de/termin/gottesdienst-260/
LOCATION:Evan­ge­li­sches Ge­mein­de­zen­trum Brünlos\, Hauptstraße 13b\, Zwönitz OT Brünlos\, 08297
ATTACH;FMTTYPE=image/jpeg:https://www.evangelisationsteam.de/wp-content/uploads/2025/07/GW-Frauenhain-2-a-scaled.jpg
ORGANIZER;CN="Landeskirchliche Gemeinschaft Br%C3%BCnlos":MAILTO:post@lkg-bruenlos.de
END:VEVENT
BEGIN:VEVENT
DTSTART;TZID=Europe/Berlin:20251019T100000
DTEND;TZID=Europe/Berlin:20251019T113000
DTSTAMP:20260425T195201
CREATED:20250624T182814Z
LAST-MODIFIED:20250624T183224Z
UID:10006846-1760868000-1760873400@www.evangelisationsteam.de
SUMMARY:Evangelisation | Brand-Erbisdorf
DESCRIPTION:Lutz Scheuf­ler
URL:https://www.evangelisationsteam.de/termin/evangelisation-99/2025-10-19/
LOCATION:LKG BRAND-ERBISDORF\, Gartenweg 4\, Brand-Erbisdorf\, 09618
ATTACH;FMTTYPE=image/jpeg:https://www.evangelisationsteam.de/wp-content/uploads/2021/05/P1080606.jpg
END:VEVENT
BEGIN:VEVENT
DTSTART;TZID=Europe/Berlin:20251021T193000
DTEND;TZID=Europe/Berlin:20251021T210000
DTSTAMP:20260425T195201
CREATED:20250716T113756Z
LAST-MODIFIED:20250716T113822Z
UID:10007625-1761075000-1761080400@www.evangelisationsteam.de
SUMMARY:Frauenkreis | Mühlau
DESCRIPTION:Dr. Chris­ta-Ma­ria Steinberg
URL:https://www.evangelisationsteam.de/termin/frauenkreis-muelau/
LOCATION:Kirch­ge­mein­de Mühlau\, Platz der Ermahnung 4\, Mühlau\, 09241
ATTACH;FMTTYPE=image/jpeg:https://www.evangelisationsteam.de/wp-content/uploads/2024/03/Steinberg-23-von-68-edited.jpg
END:VEVENT
BEGIN:VEVENT
DTSTART;VALUE=DATE:20251022
DTEND;VALUE=DATE:20251023
DTSTAMP:20260425T195201
CREATED:20250624T183128Z
LAST-MODIFIED:20250624T183128Z
UID:10006847-1761091200-1761177599@www.evangelisationsteam.de
SUMMARY:Knast-Konzert | Duben
DESCRIPTION:Lutz Scheuf­ler \nNICHT ÖFFENTLICH
URL:https://www.evangelisationsteam.de/termin/knast-konzert-duben/
LOCATION:JVA DUBEN\, Luckau/ OT Duben\, 15926
ATTACH;FMTTYPE=image/jpeg:https://www.evangelisationsteam.de/wp-content/uploads/2020/03/Bräuer-1570.jpeg
END:VEVENT
BEGIN:VEVENT
DTSTART;VALUE=DATE:20251022
DTEND;VALUE=DATE:20251023
DTSTAMP:20260425T195201
CREATED:20250730T155304Z
LAST-MODIFIED:20250730T160046Z
UID:10008005-1761091200-1761177599@www.evangelisationsteam.de
SUMMARY:GospelMagic in Ebersbach
DESCRIPTION:
URL:https://www.evangelisationsteam.de/termin/gospelmagic-in-ebersbach/
LOCATION:Sachsen
ATTACH;FMTTYPE=image/jpeg:https://www.evangelisationsteam.de/wp-content/uploads/2024/09/Gospelmagic006-Kopie-scaled.jpg
END:VEVENT
BEGIN:VEVENT
DTSTART;VALUE=DATE:20251023
DTEND;VALUE=DATE:20251024
DTSTAMP:20260425T195201
CREATED:20250730T155716Z
LAST-MODIFIED:20250730T162047Z
UID:10008006-1761177600-1761263999@www.evangelisationsteam.de
SUMMARY:GospelMagic in Ebersbach
DESCRIPTION:
URL:https://www.evangelisationsteam.de/termin/gospelmagic-in-ebersbach-2/
LOCATION:Sachsen
ATTACH;FMTTYPE=image/jpeg:https://www.evangelisationsteam.de/wp-content/uploads/2025/07/Gospelmagic011-klein-scaled.jpeg
END:VEVENT
BEGIN:VEVENT
DTSTART;VALUE=DATE:20251024
DTEND;VALUE=DATE:20251025
DTSTAMP:20260425T195201
CREATED:20250730T155945Z
LAST-MODIFIED:20250730T155945Z
UID:10008007-1761264000-1761350399@www.evangelisationsteam.de
SUMMARY:Offener Abend in Ebersbach
DESCRIPTION:
URL:https://www.evangelisationsteam.de/termin/offener-abend-in-ebersbach/
LOCATION:Sachsen
ATTACH;FMTTYPE=image/jpeg:https://www.evangelisationsteam.de/wp-content/uploads/2025/01/Verkuendigung_012-scaled.jpg
END:VEVENT
BEGIN:VEVENT
DTSTART;TZID=Europe/Berlin:20251026T093000
DTEND;TZID=Europe/Berlin:20251026T110000
DTSTAMP:20260425T195201
CREATED:20251001T111130Z
LAST-MODIFIED:20251001T112503Z
UID:10008034-1761471000-1761476400@www.evangelisationsteam.de
SUMMARY:Gottesdienst / Annaberg-Buchholz
DESCRIPTION:Gun­tram Wurst \nThe­ma: Wer Oh­ren hat – der höre!
URL:https://www.evangelisationsteam.de/termin/gottesdienst-261/
LOCATION:Grün­der­zen­trum Annaberg-Buchholz\, Adam-Ries-Str. 16\, Annaberg-Buchholz\, 09456
ATTACH;FMTTYPE=image/jpeg:https://www.evangelisationsteam.de/wp-content/uploads/2024/06/IMG_9834-scaled.jpg
ORGANIZER;CN="Bekennende Evangelische Gemeinde Annaberg":MAILTO:stefpet@t-online.de
END:VEVENT
BEGIN:VEVENT
DTSTART;TZID=Europe/Berlin:20251028T093000
DTEND;TZID=Europe/Berlin:20251028T120000
DTSTAMP:20260425T195201
CREATED:20250901T162828Z
LAST-MODIFIED:20250901T162828Z
UID:10008022-1761643800-1761652800@www.evangelisationsteam.de
SUMMARY:Eltern-Kind-Kreis | Lichtenstein
DESCRIPTION:Dr. Chris­ta-Ma­ria Steinberg
URL:https://www.evangelisationsteam.de/termin/eltern-kind-kreis-lichtenstein/
LOCATION:GEMEINDEHAUS LICHTENSTEIN\, Poststr. 11\, LICHTENSTEIN\, 09350
ATTACH;FMTTYPE=image/jpeg:https://www.evangelisationsteam.de/wp-content/uploads/2024/03/Steinberg-23-von-68-edited.jpg
END:VEVENT
BEGIN:VEVENT
DTSTART;VALUE=DATE:20251029
DTEND;VALUE=DATE:20251103
DTSTAMP:20260425T195201
CREATED:20250822T093502Z
LAST-MODIFIED:20250822T093502Z
UID:10008020-1761696000-1762127999@www.evangelisationsteam.de
SUMMARY:Lego Tage
DESCRIPTION:Mi­cha­el Kaufmann
URL:https://www.evangelisationsteam.de/termin/lego-tage-64/
LOCATION:Ev. Kirch­ge­mein­de Deckenpfronn\, Schulstr. 17\, Deckenpfronn\, 75392
ATTACH;FMTTYPE=image/jpeg:https://www.evangelisationsteam.de/wp-content/uploads/2025/03/IMG_20220406_145815-scaled.jpg
END:VEVENT
BEGIN:VEVENT
DTSTART;TZID=Europe/Berlin:20251029T193000
DTEND;TZID=Europe/Berlin:20251029T203000
DTSTAMP:20260425T195201
CREATED:20251001T111656Z
LAST-MODIFIED:20251001T112423Z
UID:10008036-1761766200-1761769800@www.evangelisationsteam.de
SUMMARY:Männerstammtisch / Seelitz
DESCRIPTION:Gun­tram Wurst
URL:https://www.evangelisationsteam.de/termin/maennerstammtisch-18/
LOCATION:Pfarr­haus Seelitz\, Kolkauer Straße 10\, Seelitz\, Sachsen\, 09306\, Deutschland
ATTACH;FMTTYPE=image/jpeg:https://www.evangelisationsteam.de/wp-content/uploads/2024/06/IMG_9844-scaled.jpg
ORGANIZER;CN="Ev.-Luth. Kirchgemeinde Seelitzer Land":MAILTO:info@kirche-seelitz.de
END:VEVENT
BEGIN:VEVENT
DTSTART;TZID=Europe/Berlin:20251031T093000
DTEND;TZID=Europe/Berlin:20251031T160000
DTSTAMP:20260425T195201
CREATED:20250731T155224Z
LAST-MODIFIED:20250731T155224Z
UID:10008008-1761903000-1761926400@www.evangelisationsteam.de
SUMMARY:Gemeindebibeltag in Glauchau
DESCRIPTION:
URL:https://www.evangelisationsteam.de/termin/gemeindebibeltag-in-glauchau-2/
LOCATION:Sach­sen­land­hal­le Glauchau\, An der Sachsenlandhalle 3\, Glauchau\, 08371\, Deutschland
ATTACH;FMTTYPE=image/jpeg:https://www.evangelisationsteam.de/wp-content/uploads/2025/07/GBT2025-quer.jpg
END:VEVENT
BEGIN:VEVENT
DTSTART;TZID=Europe/Berlin:20251031T190000
DTEND;TZID=Europe/Berlin:20251031T203000
DTSTAMP:20260425T195201
CREATED:20250624T183538Z
LAST-MODIFIED:20250624T183538Z
UID:10006848-1761937200-1761942600@www.evangelisationsteam.de
SUMMARY:Evangelisation | Drebach
DESCRIPTION:Lutz Scheuf­ler
URL:https://www.evangelisationsteam.de/termin/evangelisation-drebach/2025-10-31/
LOCATION:EmK Dre­bach\, Hauptstraße 75\, Drebach\, 09430
ATTACH;FMTTYPE=image/jpeg:https://www.evangelisationsteam.de/wp-content/uploads/2022/06/2022-Scheufler.jpg
END:VEVENT
END:VCALENDAR