BEGIN:VCALENDAR
VERSION:2.0
PRODID:-//evangelisationsteam.de - ECPv6.15.20//NONSGML v1.0//EN
CALSCALE:GREGORIAN
METHOD:PUBLISH
X-WR-CALNAME:evangelisationsteam.de
X-ORIGINAL-URL:https://www.evangelisationsteam.de
X-WR-CALDESC:Veranstaltungen für evangelisationsteam.de
REFRESH-INTERVAL;VALUE=DURATION:PT1H
X-Robots-Tag:noindex
X-PUBLISHED-TTL:PT1H
BEGIN:VTIMEZONE
TZID:Europe/Berlin
BEGIN:DAYLIGHT
TZOFFSETFROM:+0100
TZOFFSETTO:+0200
TZNAME:CEST
DTSTART:20240331T010000
END:DAYLIGHT
BEGIN:STANDARD
TZOFFSETFROM:+0200
TZOFFSETTO:+0100
TZNAME:CET
DTSTART:20241027T010000
END:STANDARD
BEGIN:DAYLIGHT
TZOFFSETFROM:+0100
TZOFFSETTO:+0200
TZNAME:CEST
DTSTART:20250330T010000
END:DAYLIGHT
BEGIN:STANDARD
TZOFFSETFROM:+0200
TZOFFSETTO:+0100
TZNAME:CET
DTSTART:20251026T010000
END:STANDARD
BEGIN:DAYLIGHT
TZOFFSETFROM:+0100
TZOFFSETTO:+0200
TZNAME:CEST
DTSTART:20260329T010000
END:DAYLIGHT
BEGIN:STANDARD
TZOFFSETFROM:+0200
TZOFFSETTO:+0100
TZNAME:CET
DTSTART:20261025T010000
END:STANDARD
END:VTIMEZONE
BEGIN:VEVENT
DTSTART;VALUE=DATE:20251201
DTEND;VALUE=DATE:20251206
DTSTAMP:20260425T231436
CREATED:20250906T082637Z
LAST-MODIFIED:20250906T082637Z
UID:10008025-1764547200-1764979199@www.evangelisationsteam.de
SUMMARY:Kindermissionarstreffen AMK
DESCRIPTION:Im Ar­beits­kreis Mis­sio­na­risch für Kin­der (AMK) tref­fen sich Mit­ar­bei­ter\, die Kin­dern von Je­sus er­zäh­len. Es ist ein Netz­werktref­fen und ei­ne Schulungswoche. \nAlex­an­der Hellmich
URL:https://www.evangelisationsteam.de/termin/kindermissionarstreffen-amk/
LOCATION:Wilns­dorf
ATTACH;FMTTYPE=image/heic:https://www.evangelisationsteam.de/wp-content/uploads/2025/09/IMG_6153-scaled.jpg
END:VEVENT
BEGIN:VEVENT
DTSTART;TZID=Europe/Berlin:20251203T193000
DTEND;TZID=Europe/Berlin:20251203T210000
DTSTAMP:20260425T231436
CREATED:20250624T184535Z
LAST-MODIFIED:20250624T184653Z
UID:10006859-1764790200-1764795600@www.evangelisationsteam.de
SUMMARY:Konzert | Rehe
DESCRIPTION:Lutz Scheuf­ler
URL:https://www.evangelisationsteam.de/termin/konzert-rehe/
LOCATION:CGW Re­he\, Heimstraße 49\, Rehe\, 56479
ATTACH;FMTTYPE=image/jpeg:https://www.evangelisationsteam.de/wp-content/uploads/2020/03/Bräuer-1570.jpeg
END:VEVENT
BEGIN:VEVENT
DTSTART;TZID=Europe/Berlin:20251207T093000
DTEND;TZID=Europe/Berlin:20251207T110000
DTSTAMP:20260425T231436
CREATED:20250624T184837Z
LAST-MODIFIED:20251117T205030Z
UID:10006860-1765099800-1765105200@www.evangelisationsteam.de
SUMMARY:Gottesdienst | Klingenthal
DESCRIPTION:Lutz Scheuf­ler
URL:https://www.evangelisationsteam.de/termin/gottesdienst-klingenthal/
LOCATION:Rund­kir­che Klingenthal\, Klingenthal\, 08248
ATTACH;FMTTYPE=image/jpeg:https://www.evangelisationsteam.de/wp-content/uploads/2020/07/IMG_5519.jpeg
END:VEVENT
BEGIN:VEVENT
DTSTART;TZID=Europe/Berlin:20251207T100000
DTEND;TZID=Europe/Berlin:20251207T113000
DTSTAMP:20260425T231436
CREATED:20251110T103158Z
LAST-MODIFIED:20251110T103158Z
UID:10008070-1765101600-1765107000@www.evangelisationsteam.de
SUMMARY:Gottesdienst in Vielau
DESCRIPTION:
URL:https://www.evangelisationsteam.de/termin/gottesdienst-in-vielau-25/
LOCATION:Pe­ter und Paul Kir­che Vielau\, Kirchplatz\, Reinsdorf OT Vielau\, 08141
ATTACH;FMTTYPE=image/jpeg:https://www.evangelisationsteam.de/wp-content/uploads/2024/04/Verkuendigung-002-Kopie.jpeg
END:VEVENT
BEGIN:VEVENT
DTSTART;TZID=Europe/Berlin:20251214T093000
DTEND;TZID=Europe/Berlin:20251214T110000
DTSTAMP:20260425T231436
CREATED:20250624T185001Z
LAST-MODIFIED:20250624T185001Z
UID:10006861-1765704600-1765710000@www.evangelisationsteam.de
SUMMARY:Gottesdienst | Annaberg-Buchholz
DESCRIPTION:Lutz Scheuf­ler
URL:https://www.evangelisationsteam.de/termin/gottesdienst-annaberg-buchholz-4/
LOCATION:Grün­der­zen­trum Annaberg\, Adam-Ries-Str. 16\, Annaberg-Buchholz\, 09456
ATTACH;FMTTYPE=image/jpeg:https://www.evangelisationsteam.de/wp-content/uploads/2025/01/SCHEUFLER_0392.jpg
END:VEVENT
BEGIN:VEVENT
DTSTART;TZID=Europe/Berlin:20251214T100000
DTEND;TZID=Europe/Berlin:20251214T113000
DTSTAMP:20260425T231436
CREATED:20251110T103624Z
LAST-MODIFIED:20251110T103624Z
UID:10008071-1765706400-1765711800@www.evangelisationsteam.de
SUMMARY:Gottesdienst in Ellefeld
DESCRIPTION:
URL:https://www.evangelisationsteam.de/termin/gottesdienst-in-ellefeld/
LOCATION:Lan­des­kirch­li­che Ge­mein­schaft Ellefeld\, Südstraße 15\, ELLEFELD\, 08236
ATTACH;FMTTYPE=image/jpeg:https://www.evangelisationsteam.de/wp-content/uploads/2025/01/Verkuendigung_011-scaled.jpg
END:VEVENT
BEGIN:VEVENT
DTSTART;TZID=Europe/Berlin:20251224T153000
DTEND;TZID=Europe/Berlin:20251224T170000
DTSTAMP:20260425T231437
CREATED:20251110T104440Z
LAST-MODIFIED:20251110T104457Z
UID:10008072-1766590200-1766595600@www.evangelisationsteam.de
SUMMARY:Weihnachtsgottesdienst in Vielau
DESCRIPTION:
URL:https://www.evangelisationsteam.de/termin/weihnachtsgottesdienst-in-vielau/
LOCATION:Pe­ter und Paul Kir­che Vielau\, Kirchplatz\, Reinsdorf OT Vielau\, 08141
ATTACH;FMTTYPE=image/jpeg:https://www.evangelisationsteam.de/wp-content/uploads/2024/04/Verkuendigung-002-Kopie.jpeg
END:VEVENT
BEGIN:VEVENT
DTSTART;TZID=Europe/Berlin:20251224T200000
DTEND;TZID=Europe/Berlin:20251224T213000
DTSTAMP:20260425T231437
CREATED:20251110T104643Z
LAST-MODIFIED:20251212T092528Z
UID:10008073-1766606400-1766611800@www.evangelisationsteam.de
SUMMARY:Weihnachtsgottesdienst in Vielau
DESCRIPTION:
URL:https://www.evangelisationsteam.de/termin/weihnachtsgottesdienst/
LOCATION:Pe­ter und Paul Kir­che Vielau\, Kirchplatz\, Reinsdorf OT Vielau\, 08141
ATTACH;FMTTYPE=image/jpeg:https://www.evangelisationsteam.de/wp-content/uploads/2024/04/Verkuendigung-006-Kopie.jpeg
END:VEVENT
END:VCALENDAR