BEGIN:VCALENDAR
VERSION:2.0
PRODID:-//evangelisationsteam.de - ECPv6.15.20//NONSGML v1.0//EN
CALSCALE:GREGORIAN
METHOD:PUBLISH
X-WR-CALNAME:evangelisationsteam.de
X-ORIGINAL-URL:https://www.evangelisationsteam.de
X-WR-CALDESC:Veranstaltungen für evangelisationsteam.de
REFRESH-INTERVAL;VALUE=DURATION:PT1H
X-Robots-Tag:noindex
X-PUBLISHED-TTL:PT1H
BEGIN:VTIMEZONE
TZID:Europe/Berlin
BEGIN:DAYLIGHT
TZOFFSETFROM:+0100
TZOFFSETTO:+0200
TZNAME:CEST
DTSTART:20250330T010000
END:DAYLIGHT
BEGIN:STANDARD
TZOFFSETFROM:+0200
TZOFFSETTO:+0100
TZNAME:CET
DTSTART:20251026T010000
END:STANDARD
BEGIN:DAYLIGHT
TZOFFSETFROM:+0100
TZOFFSETTO:+0200
TZNAME:CEST
DTSTART:20260329T010000
END:DAYLIGHT
BEGIN:STANDARD
TZOFFSETFROM:+0200
TZOFFSETTO:+0100
TZNAME:CET
DTSTART:20261025T010000
END:STANDARD
BEGIN:DAYLIGHT
TZOFFSETFROM:+0100
TZOFFSETTO:+0200
TZNAME:CEST
DTSTART:20270328T010000
END:DAYLIGHT
BEGIN:STANDARD
TZOFFSETFROM:+0200
TZOFFSETTO:+0100
TZNAME:CET
DTSTART:20271031T010000
END:STANDARD
END:VTIMEZONE
BEGIN:VEVENT
DTSTART;TZID=Europe/Berlin:20260201T093000
DTEND;TZID=Europe/Berlin:20260201T110000
DTSTAMP:20260424T040022
CREATED:20260123T115930Z
LAST-MODIFIED:20260123T115930Z
UID:10008128-1769938200-1769943600@www.evangelisationsteam.de
SUMMARY:Gottesdienst
DESCRIPTION:Mi­cha­el Kaufmann
URL:https://www.evangelisationsteam.de/termin/gottesdienst-269/
LOCATION:GDZ An­na­berg
ORGANIZER;CN="Bekennende Evangelische Gemeinde Annaberg":MAILTO:stefpet@t-online.de
END:VEVENT
BEGIN:VEVENT
DTSTART;TZID=Europe/Berlin:20260201T100000
DTEND;TZID=Europe/Berlin:20260201T113000
DTSTAMP:20260424T040022
CREATED:20251212T093955Z
LAST-MODIFIED:20251212T094110Z
UID:10008078-1769940000-1769945400@www.evangelisationsteam.de
SUMMARY:Oase-Gottesdienst in Reichenbach/V.
DESCRIPTION:
URL:https://www.evangelisationsteam.de/termin/oase-gottesdienst-in-reichenbach-v/
LOCATION:Haus der lan­des­kirch­li­chen Ge­mein­schaft Reichenbach/​V.\, Kirchgasse 4\, Reichenbach/V.\, 08468\, Deutschland
ATTACH;FMTTYPE=image/jpeg:https://www.evangelisationsteam.de/wp-content/uploads/2024/04/Verkuendigung-008-Kopie-e1736267153906.jpeg
END:VEVENT
BEGIN:VEVENT
DTSTART;TZID=Europe/Berlin:20260201T100000
DTEND;TZID=Europe/Berlin:20260201T113000
DTSTAMP:20260424T040022
CREATED:20260122T101413Z
LAST-MODIFIED:20260122T101424Z
UID:10008122-1769940000-1769945400@www.evangelisationsteam.de
SUMMARY:Familiengottesdienst LKG Dorfchemnitz
DESCRIPTION:Zwei Ty­pen. Zwei Zie­le. Zwei Herzen. Der ei­ne will be­hal­ten\, was ihm wich­tig ist. Der an­de­re gibt al­les auf\, weil Je­sus al­les ist. \nWas pas­siert\, wenn Je­sus dein Le­ben auf den Kopf stellt? \nEnt­de­cke mit uns\, wie Chris­tus Her­zen ver­än­dert – da­mals wie heute. Ein Fa­mi­li­en­got­tes­dienst über Eh­re\, Angst\, Hoff­nung und ech­te Veränderung.
URL:https://www.evangelisationsteam.de/termin/familiengottesdienst-lkg-dorfchemnitz/
LOCATION:Lan­des­kirch­li­che Ge­mein­schaft Dorfchemnitz\, Dorfchemnitz
ATTACH;FMTTYPE=image/heic:https://www.evangelisationsteam.de/wp-content/uploads/2025/09/IMG_6153-scaled.jpg
END:VEVENT
BEGIN:VEVENT
DTSTART;TZID=Europe/Berlin:20260202T140000
DTEND;TZID=Europe/Berlin:20260202T163000
DTSTAMP:20260424T040022
CREATED:20251027T100823Z
LAST-MODIFIED:20251117T210040Z
UID:10008039-1770040800-1770049800@www.evangelisationsteam.de
SUMMARY:Seniorenkreis | Werdau
DESCRIPTION:DR. CHRISTA-MARIA STEINBERG
URL:https://www.evangelisationsteam.de/termin/seniorenkreis-15/
LOCATION:LKG WERDAU
ATTACH;FMTTYPE=image/jpeg:https://www.evangelisationsteam.de/wp-content/uploads/2024/03/Steinberg-23-von-68-edited.jpg
END:VEVENT
BEGIN:VEVENT
DTSTART;TZID=Europe/Berlin:20260203T190000
DTEND;TZID=Europe/Berlin:20260203T203000
DTSTAMP:20260424T040022
CREATED:20251031T083704Z
LAST-MODIFIED:20251117T210136Z
UID:10008041-1770145200-1770150600@www.evangelisationsteam.de
SUMMARY:Evangelisation | Brahmenau
DESCRIPTION:LUTZ SCHEUFLER
URL:https://www.evangelisationsteam.de/termin/evangelisation-100/2026-02-03/
LOCATION:Haus der Generationen\, Am Schulberg 11\, Brahmenau\, 07554
ATTACH;FMTTYPE=image/jpeg:https://www.evangelisationsteam.de/wp-content/uploads/2022/11/LutzScheufler.jpg
END:VEVENT
BEGIN:VEVENT
DTSTART;TZID=Europe/Berlin:20260204T190000
DTEND;TZID=Europe/Berlin:20260204T203000
DTSTAMP:20260424T040022
CREATED:20251031T083704Z
LAST-MODIFIED:20251117T210136Z
UID:10008042-1770231600-1770237000@www.evangelisationsteam.de
SUMMARY:Evangelisation | Brahmenau
DESCRIPTION:LUTZ SCHEUFLER
URL:https://www.evangelisationsteam.de/termin/evangelisation-100/2026-02-04/
LOCATION:Haus der Generationen\, Am Schulberg 11\, Brahmenau\, 07554
ATTACH;FMTTYPE=image/jpeg:https://www.evangelisationsteam.de/wp-content/uploads/2022/11/LutzScheufler.jpg
END:VEVENT
BEGIN:VEVENT
DTSTART;TZID=Europe/Berlin:20260205T190000
DTEND;TZID=Europe/Berlin:20260205T203000
DTSTAMP:20260424T040022
CREATED:20251031T083704Z
LAST-MODIFIED:20251117T210136Z
UID:10008043-1770318000-1770323400@www.evangelisationsteam.de
SUMMARY:Evangelisation | Brahmenau
DESCRIPTION:LUTZ SCHEUFLER
URL:https://www.evangelisationsteam.de/termin/evangelisation-100/2026-02-05/
LOCATION:Haus der Generationen\, Am Schulberg 11\, Brahmenau\, 07554
ATTACH;FMTTYPE=image/jpeg:https://www.evangelisationsteam.de/wp-content/uploads/2022/11/LutzScheufler.jpg
END:VEVENT
BEGIN:VEVENT
DTSTART;TZID=Europe/Berlin:20260205T193000
DTEND;TZID=Europe/Berlin:20260205T203000
DTSTAMP:20260424T040022
CREATED:20251212T094256Z
LAST-MODIFIED:20251212T094256Z
UID:10008079-1770319800-1770323400@www.evangelisationsteam.de
SUMMARY:Frauendienst in Vielau
DESCRIPTION:
URL:https://www.evangelisationsteam.de/termin/frauendienst-in-vielau/
LOCATION:Pfarr­haus Vielau\, Kirchplatz 2\, Reinsdorf OT Vielau\, 08141\, Deutschland
ATTACH;FMTTYPE=image/jpeg:https://www.evangelisationsteam.de/wp-content/uploads/2025/01/Verkuendigung_011-scaled.jpg
END:VEVENT
BEGIN:VEVENT
DTSTART;TZID=Europe/Berlin:20260206T190000
DTEND;TZID=Europe/Berlin:20260206T203000
DTSTAMP:20260424T040022
CREATED:20251031T083704Z
LAST-MODIFIED:20251117T210136Z
UID:10008044-1770404400-1770409800@www.evangelisationsteam.de
SUMMARY:Evangelisation | Brahmenau
DESCRIPTION:LUTZ SCHEUFLER
URL:https://www.evangelisationsteam.de/termin/evangelisation-100/2026-02-06/
LOCATION:Haus der Generationen\, Am Schulberg 11\, Brahmenau\, 07554
ATTACH;FMTTYPE=image/jpeg:https://www.evangelisationsteam.de/wp-content/uploads/2022/11/LutzScheufler.jpg
END:VEVENT
BEGIN:VEVENT
DTSTART;VALUE=DATE:20260207
DTEND;VALUE=DATE:20260209
DTSTAMP:20260424T040022
CREATED:20260130T094621Z
LAST-MODIFIED:20260130T094621Z
UID:10008145-1770422400-1770595199@www.evangelisationsteam.de
SUMMARY:Seminar für Evangelisation
DESCRIPTION:Mi­cha­el Kaufmann
URL:https://www.evangelisationsteam.de/termin/seminar-fuer-evangelisation-2/
LOCATION:LKG Lim­bach Oberfrohna\, Pleißaer Str. 13 c\, Limbach Oberfrohna\, 09212
END:VEVENT
BEGIN:VEVENT
DTSTART;TZID=Europe/Berlin:20260207T190000
DTEND;TZID=Europe/Berlin:20260207T203000
DTSTAMP:20260424T040022
CREATED:20251031T083704Z
LAST-MODIFIED:20251117T210136Z
UID:10008045-1770490800-1770496200@www.evangelisationsteam.de
SUMMARY:Evangelisation | Brahmenau
DESCRIPTION:LUTZ SCHEUFLER
URL:https://www.evangelisationsteam.de/termin/evangelisation-100/2026-02-07/
LOCATION:Haus der Generationen\, Am Schulberg 11\, Brahmenau\, 07554
ATTACH;FMTTYPE=image/jpeg:https://www.evangelisationsteam.de/wp-content/uploads/2022/11/LutzScheufler.jpg
END:VEVENT
BEGIN:VEVENT
DTSTART;TZID=Europe/Berlin:20260208T100000
DTEND;TZID=Europe/Berlin:20260208T113000
DTSTAMP:20260424T040022
CREATED:20251031T083856Z
LAST-MODIFIED:20251117T205738Z
UID:10008046-1770544800-1770550200@www.evangelisationsteam.de
SUMMARY:Gottesdienst | Pölzig
DESCRIPTION:LUTZ SCHEUFLER
URL:https://www.evangelisationsteam.de/termin/gottesdienst-264/
LOCATION:Kir­che Pölzig\, Pölzig\, 07554
ATTACH;FMTTYPE=image/jpeg:https://www.evangelisationsteam.de/wp-content/uploads/2019/11/LutzScheuflerLIVE_GregorPQ.jpg
END:VEVENT
BEGIN:VEVENT
DTSTART;TZID=Europe/Berlin:20260208T100000
DTEND;TZID=Europe/Berlin:20260208T113000
DTSTAMP:20260424T040022
CREATED:20251212T094902Z
LAST-MODIFIED:20251212T094902Z
UID:10008080-1770544800-1770550200@www.evangelisationsteam.de
SUMMARY:GospelMagic in Dittersdorf
DESCRIPTION:
URL:https://www.evangelisationsteam.de/termin/gospelmagic-in-dittersdorf/
LOCATION:Ev.-meth. Chris­tus­kir­che Dittersdorf\, Dittersdorfer Str. 32\, Amtsberg OT Dittersdorf\, 09439\, Germany
ATTACH;FMTTYPE=image/jpeg:https://www.evangelisationsteam.de/wp-content/uploads/2024/09/Gospelmagic006-Kopie-scaled.jpg
END:VEVENT
BEGIN:VEVENT
DTSTART;TZID=Europe/Berlin:20260208T100000
DTEND;TZID=Europe/Berlin:20260208T113000
DTSTAMP:20260424T040022
CREATED:20260108T122454Z
LAST-MODIFIED:20260108T122559Z
UID:10008111-1770544800-1770550200@www.evangelisationsteam.de
SUMMARY:Gottesdienst
DESCRIPTION:GUNTRAM WURST
URL:https://www.evangelisationsteam.de/termin/gottesdienst-268/
LOCATION:Ge­mein­de für Chris­tus Murrhardt\, Murrgasse 4\, Murrhardt\, 71540
ATTACH;FMTTYPE=image/jpeg:https://www.evangelisationsteam.de/wp-content/uploads/2025/07/GW-Frauenhain-2-scaled.jpg
END:VEVENT
BEGIN:VEVENT
DTSTART;TZID=Europe/Berlin:20260208T100000
DTEND;TZID=Europe/Berlin:20260208T113000
DTSTAMP:20260424T040022
CREATED:20260122T101608Z
LAST-MODIFIED:20260129T084841Z
UID:10008123-1770544800-1770550200@www.evangelisationsteam.de
SUMMARY:Familiengottesdienst LKG Glauchau
DESCRIPTION:Zwei Ty­pen. Zwei Zie­le. Zwei Herzen. Der ei­ne will be­hal­ten\, was ihm wich­tig ist. Der an­de­re gibt al­les auf\, weil Je­sus al­les ist. \nWas pas­siert\, wenn Je­sus dein Le­ben auf den Kopf stellt? \nEnt­de­cke mit uns\, wie Chris­tus Her­zen ver­än­dert – da­mals wie heute. Ein Fa­mi­li­en­got­tes­dienst über Eh­re\, Angst\, Hoff­nung und ech­te Veränderung.
URL:https://www.evangelisationsteam.de/termin/familiengottesdienst-lkg-glauchau/
LOCATION:LKG GLAUCHAU\, Dr.-Heinrich-von-Wolffersdorff-Str. 14\, Glauchau\, 08371
ATTACH;FMTTYPE=image/heic:https://www.evangelisationsteam.de/wp-content/uploads/2025/09/IMG_6153-scaled.jpg
END:VEVENT
BEGIN:VEVENT
DTSTART;VALUE=DATE:20260212
DTEND;VALUE=DATE:20260213
DTSTAMP:20260424T040022
CREATED:20260125T092212Z
LAST-MODIFIED:20260125T092324Z
UID:10008129-1770854400-1770940799@www.evangelisationsteam.de
SUMMARY:Knast-Konzert
DESCRIPTION:LUTZ SCHEUFLER
URL:https://www.evangelisationsteam.de/termin/knast-konzert/
LOCATION:JVA DUBEN\, Luckau/ OT Duben\, 15926
ATTACH;FMTTYPE=image/jpeg:https://www.evangelisationsteam.de/wp-content/uploads/2019/12/07392-LS-Cover-Knast.jpeg
END:VEVENT
BEGIN:VEVENT
DTSTART;VALUE=DATE:20260212
DTEND;VALUE=DATE:20260216
DTSTAMP:20260424T040022
CREATED:20260130T095828Z
LAST-MODIFIED:20260130T095828Z
UID:10008146-1770854400-1771199999@www.evangelisationsteam.de
SUMMARY:Lego Tage
DESCRIPTION:Mi­cha­el Kaufmann
URL:https://www.evangelisationsteam.de/termin/lego-tage-65/
LOCATION:Kir­chen­ge­mein­de Arnsfeld\, Hauptstraße 108\, Arnsfeld\, 09456
ATTACH;FMTTYPE=image/jpeg:https://www.evangelisationsteam.de/wp-content/uploads/2026/01/IMG_20220406_145815-scaled.jpg
END:VEVENT
BEGIN:VEVENT
DTSTART;TZID=Europe/Berlin:20260215T093000
DTEND;TZID=Europe/Berlin:20260215T110000
DTSTAMP:20260424T040022
CREATED:20251031T084055Z
LAST-MODIFIED:20251117T205702Z
UID:10008047-1771147800-1771153200@www.evangelisationsteam.de
SUMMARY:Gottesdienst | Annaberg-Buchholz
DESCRIPTION:LUTZ SCHEUFLER
URL:https://www.evangelisationsteam.de/termin/gottesdienst-265/
LOCATION:Grün­der­zen­trum Annaberg-Buchholz\, Adam-Ries-Str. 16\, Annaberg-Buchholz\, 09456
ATTACH;FMTTYPE=image/jpeg:https://www.evangelisationsteam.de/wp-content/uploads/2021/05/P1080606.jpg
END:VEVENT
BEGIN:VEVENT
DTSTART;TZID=Europe/Berlin:20260215T100000
DTEND;TZID=Europe/Berlin:20260215T110000
DTSTAMP:20260424T040022
CREATED:20251229T102159Z
LAST-MODIFIED:20251230T094744Z
UID:10008100-1771149600-1771153200@www.evangelisationsteam.de
SUMMARY:Gottesdienst - Penig
DESCRIPTION:GUNTRAM WURST
URL:https://www.evangelisationsteam.de/termin/gottesdienst-penig-2/
LOCATION:Ge­mein­de­saal der ECG Penig\, Chemnitzer Straße 58\, Penig\, 09322
ATTACH;FMTTYPE=image/jpeg:https://www.evangelisationsteam.de/wp-content/uploads/2025/07/DSC08752a-scaled-e1761135829432.jpg
ORGANIZER;CN="Evangelische Christengemeinde Penig":MAILTO:info@christengemeinde-penig.de
END:VEVENT
BEGIN:VEVENT
DTSTART;TZID=Europe/Berlin:20260218T140000
DTEND;TZID=Europe/Berlin:20260219T193000
DTSTAMP:20260424T040022
CREATED:20260122T102253Z
LAST-MODIFIED:20260122T102253Z
UID:10008124-1771423200-1771529400@www.evangelisationsteam.de
SUMMARY:Jugend Power Tage
DESCRIPTION:Die Ju­gend Power Ta­ge vom CVJM in Lö­bau krea­tiv und tief­sin­nig. Nicht al­len Ak­ti­on und Spaß\, son­dern auch ei­ne le­bens­na­he Bot­schaft wird es geben.
URL:https://www.evangelisationsteam.de/termin/jugendpowertage/
LOCATION:CVJM LÖBAU\, Martin-Luther-Straße 5\, LÖBAU\, 02708
ATTACH;FMTTYPE=image/heic:https://www.evangelisationsteam.de/wp-content/uploads/2025/09/IMG_6153-scaled.jpg
END:VEVENT
BEGIN:VEVENT
DTSTART;TZID=Europe/Berlin:20260222T193000
DTEND;TZID=Europe/Berlin:20260222T210000
DTSTAMP:20260424T040022
CREATED:20251212T095941Z
LAST-MODIFIED:20260108T154408Z
UID:10008081-1771788600-1771794000@www.evangelisationsteam.de
SUMMARY:Chemnitzer Bibelseminar
DESCRIPTION:
URL:https://www.evangelisationsteam.de/termin/chemnitzer-bibelseminar-9/2026-02-22/
LOCATION:LKG Chem­nitz\, Hans-Sachs-Str. 37\, Chemnitz
ATTACH;FMTTYPE=image/jpeg:https://www.evangelisationsteam.de/wp-content/uploads/2026/01/et-post-1350x1080px_graugruen_digital_klein-scaled.jpg
END:VEVENT
BEGIN:VEVENT
DTSTART;TZID=Europe/Berlin:20260223T193000
DTEND;TZID=Europe/Berlin:20260223T210000
DTSTAMP:20260424T040022
CREATED:20251212T095941Z
LAST-MODIFIED:20260108T154408Z
UID:10008082-1771875000-1771880400@www.evangelisationsteam.de
SUMMARY:Chemnitzer Bibelseminar
DESCRIPTION:
URL:https://www.evangelisationsteam.de/termin/chemnitzer-bibelseminar-9/2026-02-23/
LOCATION:LKG Chem­nitz\, Hans-Sachs-Str. 37\, Chemnitz
ATTACH;FMTTYPE=image/jpeg:https://www.evangelisationsteam.de/wp-content/uploads/2026/01/et-post-1350x1080px_graugruen_digital_klein-scaled.jpg
END:VEVENT
BEGIN:VEVENT
DTSTART;TZID=Europe/Berlin:20260224T193000
DTEND;TZID=Europe/Berlin:20260224T210000
DTSTAMP:20260424T040022
CREATED:20251212T095941Z
LAST-MODIFIED:20260108T154408Z
UID:10008083-1771961400-1771966800@www.evangelisationsteam.de
SUMMARY:Chemnitzer Bibelseminar
DESCRIPTION:
URL:https://www.evangelisationsteam.de/termin/chemnitzer-bibelseminar-9/2026-02-24/
LOCATION:LKG Chem­nitz\, Hans-Sachs-Str. 37\, Chemnitz
ATTACH;FMTTYPE=image/jpeg:https://www.evangelisationsteam.de/wp-content/uploads/2026/01/et-post-1350x1080px_graugruen_digital_klein-scaled.jpg
END:VEVENT
BEGIN:VEVENT
DTSTART;TZID=Europe/Berlin:20260225T193000
DTEND;TZID=Europe/Berlin:20260225T210000
DTSTAMP:20260424T040022
CREATED:20251212T095941Z
LAST-MODIFIED:20260108T154408Z
UID:10008084-1772047800-1772053200@www.evangelisationsteam.de
SUMMARY:Chemnitzer Bibelseminar
DESCRIPTION:
URL:https://www.evangelisationsteam.de/termin/chemnitzer-bibelseminar-9/2026-02-25/
LOCATION:LKG Chem­nitz\, Hans-Sachs-Str. 37\, Chemnitz
ATTACH;FMTTYPE=image/jpeg:https://www.evangelisationsteam.de/wp-content/uploads/2026/01/et-post-1350x1080px_graugruen_digital_klein-scaled.jpg
END:VEVENT
BEGIN:VEVENT
DTSTART;VALUE=DATE:20260226
DTEND;VALUE=DATE:20260302
DTSTAMP:20260424T040022
CREATED:20260130T100417Z
LAST-MODIFIED:20260130T100417Z
UID:10008147-1772064000-1772409599@www.evangelisationsteam.de
SUMMARY:Lego Tage
DESCRIPTION:Mi­cha­el Kaufmann
URL:https://www.evangelisationsteam.de/termin/lego-tage-66/
LOCATION:Schu­le Königshain\, Kirchweg\, Königshain\, 09306
ATTACH;FMTTYPE=image/jpeg:https://www.evangelisationsteam.de/wp-content/uploads/2026/01/IMG_20220406_145815-scaled.jpg
END:VEVENT
END:VCALENDAR