BEGIN:VCALENDAR
VERSION:2.0
PRODID:-//evangelisationsteam.de - ECPv6.15.20//NONSGML v1.0//EN
CALSCALE:GREGORIAN
METHOD:PUBLISH
X-WR-CALNAME:evangelisationsteam.de
X-ORIGINAL-URL:https://www.evangelisationsteam.de
X-WR-CALDESC:Veranstaltungen für evangelisationsteam.de
REFRESH-INTERVAL;VALUE=DURATION:PT1H
X-Robots-Tag:noindex
X-PUBLISHED-TTL:PT1H
BEGIN:VTIMEZONE
TZID:UTC
BEGIN:STANDARD
TZOFFSETFROM:+0000
TZOFFSETTO:+0000
TZNAME:UTC
DTSTART:20160101T000000
END:STANDARD
END:VTIMEZONE
BEGIN:VEVENT
DTSTART;TZID=UTC:20170411T193000
DTEND;TZID=UTC:20170411T210000
DTSTAMP:20260420T022026
CREATED:20161215T170338Z
LAST-MODIFIED:20161215T170338Z
UID:10001078-1491939000-1491944400@www.evangelisationsteam.de
SUMMARY:MÜTTERDEINST
DESCRIPTION:DR. CHRISTA-MARIA STEINBERG
URL:https://www.evangelisationsteam.de/termin/muetterdeinst/
LOCATION:Kir­che\, Wittgensdorf\, Kirchweg 11\, Wittgensdorf\, 09228
END:VEVENT
END:VCALENDAR