BEGIN:VCALENDAR
VERSION:2.0
PRODID:-//evangelisationsteam.de - ECPv6.15.20//NONSGML v1.0//EN
CALSCALE:GREGORIAN
METHOD:PUBLISH
X-ORIGINAL-URL:https://www.evangelisationsteam.de
X-WR-CALDESC:Veranstaltungen für evangelisationsteam.de
REFRESH-INTERVAL;VALUE=DURATION:PT1H
X-Robots-Tag:noindex
X-PUBLISHED-TTL:PT1H
BEGIN:VTIMEZONE
TZID:Europe/Berlin
BEGIN:DAYLIGHT
TZOFFSETFROM:+0100
TZOFFSETTO:+0200
TZNAME:CEST
DTSTART:20210328T010000
END:DAYLIGHT
BEGIN:STANDARD
TZOFFSETFROM:+0200
TZOFFSETTO:+0100
TZNAME:CET
DTSTART:20211031T010000
END:STANDARD
BEGIN:DAYLIGHT
TZOFFSETFROM:+0100
TZOFFSETTO:+0200
TZNAME:CEST
DTSTART:20220327T010000
END:DAYLIGHT
BEGIN:STANDARD
TZOFFSETFROM:+0200
TZOFFSETTO:+0100
TZNAME:CET
DTSTART:20221030T010000
END:STANDARD
BEGIN:DAYLIGHT
TZOFFSETFROM:+0100
TZOFFSETTO:+0200
TZNAME:CEST
DTSTART:20230326T010000
END:DAYLIGHT
BEGIN:STANDARD
TZOFFSETFROM:+0200
TZOFFSETTO:+0100
TZNAME:CET
DTSTART:20231029T010000
END:STANDARD
BEGIN:DAYLIGHT
TZOFFSETFROM:+0100
TZOFFSETTO:+0200
TZNAME:CEST
DTSTART:20240331T010000
END:DAYLIGHT
BEGIN:STANDARD
TZOFFSETFROM:+0200
TZOFFSETTO:+0100
TZNAME:CET
DTSTART:20241027T010000
END:STANDARD
END:VTIMEZONE
BEGIN:VTIMEZONE
TZID:UTC
BEGIN:STANDARD
TZOFFSETFROM:+0000
TZOFFSETTO:+0000
TZNAME:UTC
DTSTART:20140101T000000
END:STANDARD
END:VTIMEZONE
BEGIN:VEVENT
DTSTART;TZID=Europe/Berlin:20230813T093000
DTEND;TZID=Europe/Berlin:20230813T110000
DTSTAMP:20260419T165656
CREATED:20230627T115115Z
LAST-MODIFIED:20230627T115655Z
UID:10004120-1691919000-1691924400@www.evangelisationsteam.de
SUMMARY:GOTTESDIENST
DESCRIPTION:GUNTRAM WURST
URL:https://www.evangelisationsteam.de/termin/guntram-wurst/
LOCATION:Ev. Kir­che Hartenstein\, Kirchgasse 3\, Hartenstein\, 08118
ATTACH;FMTTYPE=image/jpeg:https://www.evangelisationsteam.de/wp-content/uploads/2023/03/IMG_1234-scaled.jpg
ORGANIZER;CN="Ev.-Luth. Kirchgemeinde Hartenstein":MAILTO:kg.hartenstein@evlks.de
END:VEVENT
BEGIN:VEVENT
DTSTART;TZID=Europe/Berlin:20220410T093000
DTEND;TZID=Europe/Berlin:20220410T110000
DTSTAMP:20260419T165656
CREATED:20220131T084148Z
LAST-MODIFIED:20220131T084415Z
UID:10001915-1649583000-1649588400@www.evangelisationsteam.de
SUMMARY:GOTTESDIENST
DESCRIPTION:GUNTREAM WURST \nThe­ma: „Von Gott ver­las­sen – für dich“
URL:https://www.evangelisationsteam.de/termin/gottesdienst-144/
LOCATION:Ev. Kir­che Hartenstein\, Kirchgasse 3\, Hartenstein\, 08118
ATTACH;FMTTYPE=image/jpeg:https://www.evangelisationsteam.de/wp-content/uploads/2020/12/P1030574-scaled.jpg
ORGANIZER;CN="Ev.-Luth. Kirchgemeinde Hartenstein":MAILTO:kg.hartenstein@evlks.de
END:VEVENT
BEGIN:VEVENT
DTSTART;TZID=UTC:20190224T083000
DTEND;TZID=UTC:20190224T103000
DTSTAMP:20260419T165656
CREATED:20190204T120202Z
LAST-MODIFIED:20190204T120202Z
UID:10001595-1550997000-1551004200@www.evangelisationsteam.de
SUMMARY:Gottesdienst
DESCRIPTION:Tier­fell 8.30 Uhr \nHar­ten­stein 9.30 Uhr \n \n \nMi­cha­el Kaufmann
URL:https://www.evangelisationsteam.de/termin/gottesdienst-78/
LOCATION:Ev. Kir­che Hartenstein\, Kirchgasse 3\, Hartenstein\, 08118
ORGANIZER;CN="Ev.-Luth. Kirchgemeinde Hartenstein":MAILTO:kg.hartenstein@evlks.de
END:VEVENT
BEGIN:VEVENT
DTSTART;TZID=UTC:20151206T093000
DTEND;TZID=UTC:20151206T103000
DTSTAMP:20260419T165656
CREATED:20150901T111100Z
LAST-MODIFIED:20150901T111100Z
UID:10000668-1449394200-1449397800@www.evangelisationsteam.de
SUMMARY:Gottesdienst
DESCRIPTION:Mi­cha­el Kaufmann
URL:https://www.evangelisationsteam.de/termin/gottesdienst-18-2/
LOCATION:Ev. Kir­che Hartenstein\, Kirchgasse 3\, Hartenstein\, 08118
ORGANIZER;CN="Ev.-Luth. Kirchgemeinde Hartenstein":MAILTO:kg.hartenstein@evlks.de
END:VEVENT
BEGIN:VEVENT
DTSTART;TZID=UTC:20151206T093000
DTEND;TZID=UTC:20151206T103000
DTSTAMP:20260419T165656
CREATED:20150901T111100Z
LAST-MODIFIED:20150901T111100Z
UID:10000666-1449394200-1449397800@www.evangelisationsteam.de
SUMMARY:Gottesdienst
DESCRIPTION:Mi­cha­el Kaufmann
URL:https://www.evangelisationsteam.de/termin/gottesdienst-18-3/
LOCATION:Ev. Kir­che Hartenstein\, Kirchgasse 3\, Hartenstein\, 08118
ORGANIZER;CN="Ev.-Luth. Kirchgemeinde Hartenstein":MAILTO:kg.hartenstein@evlks.de
END:VEVENT
BEGIN:VEVENT
DTSTART;TZID=UTC:20151206T093000
DTEND;TZID=UTC:20151206T103000
DTSTAMP:20260419T165656
CREATED:20150901T111100Z
LAST-MODIFIED:20150901T111100Z
UID:10000669-1449394200-1449397800@www.evangelisationsteam.de
SUMMARY:Gottesdienst
DESCRIPTION:Mi­cha­el Kaufmann
URL:https://www.evangelisationsteam.de/termin/gottesdienst-18/
LOCATION:Ev. Kir­che Hartenstein\, Kirchgasse 3\, Hartenstein\, 08118
ORGANIZER;CN="Ev.-Luth. Kirchgemeinde Hartenstein":MAILTO:kg.hartenstein@evlks.de
END:VEVENT
END:VCALENDAR