BEGIN:VCALENDAR
VERSION:2.0
PRODID:-//evangelisationsteam.de - ECPv6.15.20//NONSGML v1.0//EN
CALSCALE:GREGORIAN
METHOD:PUBLISH
X-WR-CALNAME:evangelisationsteam.de
X-ORIGINAL-URL:https://www.evangelisationsteam.de
X-WR-CALDESC:Veranstaltungen für evangelisationsteam.de
REFRESH-INTERVAL;VALUE=DURATION:PT1H
X-Robots-Tag:noindex
X-PUBLISHED-TTL:PT1H
BEGIN:VTIMEZONE
TZID:Europe/Berlin
BEGIN:DAYLIGHT
TZOFFSETFROM:+0100
TZOFFSETTO:+0200
TZNAME:CEST
DTSTART:20250330T010000
END:DAYLIGHT
BEGIN:STANDARD
TZOFFSETFROM:+0200
TZOFFSETTO:+0100
TZNAME:CET
DTSTART:20251026T010000
END:STANDARD
BEGIN:DAYLIGHT
TZOFFSETFROM:+0100
TZOFFSETTO:+0200
TZNAME:CEST
DTSTART:20260329T010000
END:DAYLIGHT
BEGIN:STANDARD
TZOFFSETFROM:+0200
TZOFFSETTO:+0100
TZNAME:CET
DTSTART:20261025T010000
END:STANDARD
BEGIN:DAYLIGHT
TZOFFSETFROM:+0100
TZOFFSETTO:+0200
TZNAME:CEST
DTSTART:20270328T010000
END:DAYLIGHT
BEGIN:STANDARD
TZOFFSETFROM:+0200
TZOFFSETTO:+0100
TZNAME:CET
DTSTART:20271031T010000
END:STANDARD
END:VTIMEZONE
BEGIN:VEVENT
DTSTART;TZID=Europe/Berlin:20260123T170000
DTEND;TZID=Europe/Berlin:20260125T130000
DTSTAMP:20260422T050526
CREATED:20260113T070850Z
LAST-MODIFIED:20260113T070850Z
UID:10008112-1769187600-1769346000@www.evangelisationsteam.de
SUMMARY:Vater-Kind Metallbaukastentage Langenfeld (NRW)
DESCRIPTION:Wenn Vä­ter mit ih­ren Kin­dern bau­en und da­zu noch von Je­sus hö­ren\, wird es ein wun­der­schö­ner Tag.
URL:https://www.evangelisationsteam.de/termin/vater-kind-metallbaukastentage-langenfeld-nrw/
ATTACH;FMTTYPE=image/heic:https://www.evangelisationsteam.de/wp-content/uploads/2025/09/IMG_6153-scaled.jpg
END:VEVENT
END:VCALENDAR