BEGIN:VCALENDAR
VERSION:2.0
PRODID:-//evangelisationsteam.de - ECPv6.15.20//NONSGML v1.0//EN
CALSCALE:GREGORIAN
METHOD:PUBLISH
X-ORIGINAL-URL:https://www.evangelisationsteam.de
X-WR-CALDESC:Veranstaltungen für evangelisationsteam.de
REFRESH-INTERVAL;VALUE=DURATION:PT1H
X-Robots-Tag:noindex
X-PUBLISHED-TTL:PT1H
BEGIN:VTIMEZONE
TZID:UTC
BEGIN:STANDARD
TZOFFSETFROM:+0000
TZOFFSETTO:+0000
TZNAME:UTC
DTSTART:20170101T000000
END:STANDARD
END:VTIMEZONE
BEGIN:VEVENT
DTSTART;TZID=UTC:20190623T100000
DTEND;TZID=UTC:20190623T110000
DTSTAMP:20260420T175353
CREATED:20190305T104224Z
LAST-MODIFIED:20190305T104224Z
UID:10001607-1561284000-1561287600@www.evangelisationsteam.de
SUMMARY:GOTTESDIENST
DESCRIPTION:GUNTRAM WURST
URL:https://www.evangelisationsteam.de/termin/gottesdienst-79/
LOCATION:Ge­mein­de­saal der FEG Borna\, Altstätter Gasse 4\, Borna\, Sachsen\, 04552\, Deutschland
ORGANIZER;CN="Freie Evangelische Gemeinde Borna":MAILTO:feg-borna@web.de
END:VEVENT
BEGIN:VEVENT
DTSTART;TZID=UTC:20180930T100000
DTEND;TZID=UTC:20180930T110000
DTSTAMP:20260420T175353
CREATED:20180705T045041Z
LAST-MODIFIED:20180705T045041Z
UID:10000822-1538301600-1538305200@www.evangelisationsteam.de
SUMMARY:GOTTESDIENST FEG BORNA
DESCRIPTION:GUNTRAM WURST
URL:https://www.evangelisationsteam.de/termin/gottesdienst-65/
LOCATION:Ge­mein­de­saal der FEG Borna\, Altstätter Gasse 4\, Borna\, Sachsen\, 04552\, Deutschland
ORGANIZER;CN="Freie Evangelische Gemeinde Borna":MAILTO:feg-borna@web.de
END:VEVENT
END:VCALENDAR