BEGIN:VCALENDAR
VERSION:2.0
PRODID:-//evangelisationsteam.de - ECPv6.15.20//NONSGML v1.0//EN
CALSCALE:GREGORIAN
METHOD:PUBLISH
X-WR-CALNAME:evangelisationsteam.de
X-ORIGINAL-URL:https://www.evangelisationsteam.de
X-WR-CALDESC:Veranstaltungen für evangelisationsteam.de
REFRESH-INTERVAL;VALUE=DURATION:PT1H
X-Robots-Tag:noindex
X-PUBLISHED-TTL:PT1H
BEGIN:VTIMEZONE
TZID:UTC
BEGIN:STANDARD
TZOFFSETFROM:+0000
TZOFFSETTO:+0000
TZNAME:UTC
DTSTART:20140101T000000
END:STANDARD
END:VTIMEZONE
BEGIN:VEVENT
DTSTART;VALUE=DATE:20150917
DTEND;VALUE=DATE:20150920
DTSTAMP:20260420T005721
CREATED:20150917T054639Z
LAST-MODIFIED:20150917T054639Z
UID:10000354-1442448000-1442707199@www.evangelisationsteam.de
SUMMARY:LEGO Tage\, Jahnsdorf
DESCRIPTION:Le­go Ta­ge in Jahns­dorf bei der Lan­des­kirch­li­chen Gemeinschaft\, \nje­weils von 15.30 Uhr – 18.00 Uhr \nMi­cha­el Kaufmann
URL:https://www.evangelisationsteam.de/termin/lego-tage-jahnsdorf/
LOCATION:Ge­mein­schafts­haus der LKG\, Bergstraße 1\, Jahnsdorf\, 09387
END:VEVENT
BEGIN:VEVENT
DTSTART;VALUE=DATE:20150917
DTEND;VALUE=DATE:20150920
DTSTAMP:20260420T005721
CREATED:20150917T054639Z
LAST-MODIFIED:20150917T054639Z
UID:10000356-1442448000-1442707199@www.evangelisationsteam.de
SUMMARY:LEGO Tage\, Jahnsdorf
DESCRIPTION:Le­go Ta­ge in Jahns­dorf bei der Lan­des­kirch­li­chen Gemeinschaft\, \nje­weils von 15.30 Uhr – 18.00 Uhr \nMi­cha­el Kaufmann
URL:https://www.evangelisationsteam.de/termin/lego-tage-jahnsdorf-2/
LOCATION:Ge­mein­schafts­haus der LKG\, Bergstraße 1\, Jahnsdorf\, 09387
END:VEVENT
BEGIN:VEVENT
DTSTART;VALUE=DATE:20150917
DTEND;VALUE=DATE:20150920
DTSTAMP:20260420T005721
CREATED:20150917T054639Z
LAST-MODIFIED:20150917T054639Z
UID:10000357-1442448000-1442707199@www.evangelisationsteam.de
SUMMARY:LEGO Tage\, Jahnsdorf
DESCRIPTION:Le­go Ta­ge in Jahns­dorf bei der Lan­des­kirch­li­chen Gemeinschaft\, \nje­weils von 15.30 Uhr – 18.00 Uhr \nMi­cha­el Kaufmann
URL:https://www.evangelisationsteam.de/termin/lego-tage-jahnsdorf-3/
LOCATION:Ge­mein­schafts­haus der LKG\, Bergstraße 1\, Jahnsdorf\, 09387
END:VEVENT
END:VCALENDAR