BEGIN:VCALENDAR
VERSION:2.0
PRODID:-//evangelisationsteam.de - ECPv6.15.20//NONSGML v1.0//EN
CALSCALE:GREGORIAN
METHOD:PUBLISH
X-WR-CALNAME:evangelisationsteam.de
X-ORIGINAL-URL:https://www.evangelisationsteam.de
X-WR-CALDESC:Veranstaltungen für evangelisationsteam.de
REFRESH-INTERVAL;VALUE=DURATION:PT1H
X-Robots-Tag:noindex
X-PUBLISHED-TTL:PT1H
BEGIN:VTIMEZONE
TZID:UTC
BEGIN:STANDARD
TZOFFSETFROM:+0000
TZOFFSETTO:+0000
TZNAME:UTC
DTSTART:20150101T000000
END:STANDARD
END:VTIMEZONE
BEGIN:VEVENT
DTSTART;TZID=UTC:20160122T190000
DTEND;TZID=UTC:20160122T210000
DTSTAMP:20260423T010906
CREATED:20160115T094914Z
LAST-MODIFIED:20160115T094914Z
UID:10000887-1453489200-1453496400@www.evangelisationsteam.de
SUMMARY:Landeskirchliche Gemeinschaft Rodewisch
DESCRIPTION:Vor­be­rei­tung Evangelisationswoche \nMit­ar­bei­ter­schu­lung \nMi­cha­el Kaufmann
URL:https://www.evangelisationsteam.de/termin/landeskirchliche-gemeinschaft-rodewisch-3/
LOCATION:LKG Ro­de­wisch\, Jahnstraße 10 b\, Rodewisch\, 08228
ORGANIZER;CN="LKG Rodewisch":MAILTO:moeckel.joachim@web.de
END:VEVENT
BEGIN:VEVENT
DTSTART;TZID=UTC:20160122T190000
DTEND;TZID=UTC:20160122T210000
DTSTAMP:20260423T010906
CREATED:20160115T094914Z
LAST-MODIFIED:20160115T094914Z
UID:10000891-1453489200-1453496400@www.evangelisationsteam.de
SUMMARY:Landeskirchliche Gemeinschaft Rodewisch
DESCRIPTION:Vor­be­rei­tung Evangelisationswoche \nMit­ar­bei­ter­schu­lung \nMi­cha­el Kaufmann
URL:https://www.evangelisationsteam.de/termin/landeskirchliche-gemeinschaft-rodewisch/
LOCATION:LKG Ro­de­wisch\, Jahnstraße 10 b\, Rodewisch\, 08228
ORGANIZER;CN="LKG Rodewisch":MAILTO:moeckel.joachim@web.de
END:VEVENT
BEGIN:VEVENT
DTSTART;TZID=UTC:20160122T190000
DTEND;TZID=UTC:20160122T210000
DTSTAMP:20260423T010906
CREATED:20160115T094914Z
LAST-MODIFIED:20160115T094914Z
UID:10000900-1453489200-1453496400@www.evangelisationsteam.de
SUMMARY:Landeskirchliche Gemeinschaft Rodewisch
DESCRIPTION:Vor­be­rei­tung Evangelisationswoche \nMit­ar­bei­ter­schu­lung \nMi­cha­el Kaufmann
URL:https://www.evangelisationsteam.de/termin/landeskirchliche-gemeinschaft-rodewisch-2/
LOCATION:LKG Ro­de­wisch\, Jahnstraße 10 b\, Rodewisch\, 08228
ORGANIZER;CN="LKG Rodewisch":MAILTO:moeckel.joachim@web.de
END:VEVENT
END:VCALENDAR