BEGIN:VCALENDAR
VERSION:2.0
PRODID:-//evangelisationsteam.de - ECPv6.15.20//NONSGML v1.0//EN
CALSCALE:GREGORIAN
METHOD:PUBLISH
X-WR-CALNAME:evangelisationsteam.de
X-ORIGINAL-URL:https://www.evangelisationsteam.de
X-WR-CALDESC:Veranstaltungen für evangelisationsteam.de
REFRESH-INTERVAL;VALUE=DURATION:PT1H
X-Robots-Tag:noindex
X-PUBLISHED-TTL:PT1H
BEGIN:VTIMEZONE
TZID:UTC
BEGIN:STANDARD
TZOFFSETFROM:+0000
TZOFFSETTO:+0000
TZNAME:UTC
DTSTART:20160101T000000
END:STANDARD
END:VTIMEZONE
BEGIN:VEVENT
DTSTART;VALUE=DATE:20171022
DTEND;VALUE=DATE:20171023
DTSTAMP:20260421T110338
CREATED:20170601T064234Z
LAST-MODIFIED:20170601T064234Z
UID:10001282-1508630400-1508716799@www.evangelisationsteam.de
SUMMARY:GEMEINSCHAFTSTAG
DESCRIPTION:DR. CHRISTA-MARIA STEINBERG
URL:https://www.evangelisationsteam.de/termin/gemeinschaftstag/
LOCATION:KÖNIGSHAIN-WIEDERAU\, 09306
END:VEVENT
END:VCALENDAR