BEGIN:VCALENDAR
VERSION:2.0
PRODID:-//evangelisationsteam.de - ECPv6.15.20//NONSGML v1.0//EN
CALSCALE:GREGORIAN
METHOD:PUBLISH
X-ORIGINAL-URL:https://www.evangelisationsteam.de
X-WR-CALDESC:Veranstaltungen für evangelisationsteam.de
REFRESH-INTERVAL;VALUE=DURATION:PT1H
X-Robots-Tag:noindex
X-PUBLISHED-TTL:PT1H
BEGIN:VTIMEZONE
TZID:Europe/Berlin
BEGIN:DAYLIGHT
TZOFFSETFROM:+0100
TZOFFSETTO:+0200
TZNAME:CEST
DTSTART:20220327T010000
END:DAYLIGHT
BEGIN:STANDARD
TZOFFSETFROM:+0200
TZOFFSETTO:+0100
TZNAME:CET
DTSTART:20221030T010000
END:STANDARD
BEGIN:DAYLIGHT
TZOFFSETFROM:+0100
TZOFFSETTO:+0200
TZNAME:CEST
DTSTART:20230326T010000
END:DAYLIGHT
BEGIN:STANDARD
TZOFFSETFROM:+0200
TZOFFSETTO:+0100
TZNAME:CET
DTSTART:20231029T010000
END:STANDARD
BEGIN:DAYLIGHT
TZOFFSETFROM:+0100
TZOFFSETTO:+0200
TZNAME:CEST
DTSTART:20240331T010000
END:DAYLIGHT
BEGIN:STANDARD
TZOFFSETFROM:+0200
TZOFFSETTO:+0100
TZNAME:CET
DTSTART:20241027T010000
END:STANDARD
BEGIN:DAYLIGHT
TZOFFSETFROM:+0100
TZOFFSETTO:+0200
TZNAME:CEST
DTSTART:20250330T010000
END:DAYLIGHT
BEGIN:STANDARD
TZOFFSETFROM:+0200
TZOFFSETTO:+0100
TZNAME:CET
DTSTART:20251026T010000
END:STANDARD
BEGIN:DAYLIGHT
TZOFFSETFROM:+0100
TZOFFSETTO:+0200
TZNAME:CEST
DTSTART:20260329T010000
END:DAYLIGHT
BEGIN:STANDARD
TZOFFSETFROM:+0200
TZOFFSETTO:+0100
TZNAME:CET
DTSTART:20261025T010000
END:STANDARD
END:VTIMEZONE
BEGIN:VTIMEZONE
TZID:UTC
BEGIN:STANDARD
TZOFFSETFROM:+0000
TZOFFSETTO:+0000
TZNAME:UTC
DTSTART:20180101T000000
END:STANDARD
END:VTIMEZONE
BEGIN:VEVENT
DTSTART;TZID=Europe/Berlin:20250319T143000
DTEND;TZID=Europe/Berlin:20250319T170000
DTSTAMP:20260421T164032
CREATED:20250127T081915Z
LAST-MODIFIED:20250127T081945Z
UID:10006010-1742394600-1742403600@www.evangelisationsteam.de
SUMMARY:Seniorenkreis
DESCRIPTION:DR. CHRISTA-MARIA STEINBERG
URL:https://www.evangelisationsteam.de/termin/seniorenkreis-16/
LOCATION:AUERBACH/​V.\, Rathenaustr. 5\, AUERBACH / V.\, 08209\, Germany
ATTACH;FMTTYPE=image/jpeg:https://www.evangelisationsteam.de/wp-content/uploads/2024/03/Steinberg-23-von-68-edited.jpg
END:VEVENT
BEGIN:VEVENT
DTSTART;TZID=Europe/Berlin:20240904T153000
DTEND;TZID=Europe/Berlin:20240904T170000
DTSTAMP:20260421T164032
CREATED:20240429T104130Z
LAST-MODIFIED:20240429T104130Z
UID:10005448-1725463800-1725469200@www.evangelisationsteam.de
SUMMARY:DEIN TREFF
DESCRIPTION:DR. CHRISTA-MARIA STEINBERG
URL:https://www.evangelisationsteam.de/termin/dein-treff/
LOCATION:AUERBACH/​V.\, Rathenaustr. 5\, AUERBACH / V.\, 08209\, Germany
ATTACH;FMTTYPE=image/jpeg:https://www.evangelisationsteam.de/wp-content/uploads/2024/03/Steinberg-23-von-68-edited.jpg
END:VEVENT
BEGIN:VEVENT
DTSTART;TZID=Europe/Berlin:20230212T100000
DTEND;TZID=Europe/Berlin:20230212T113000
DTSTAMP:20260421T164032
CREATED:20221025T141540Z
LAST-MODIFIED:20221025T141540Z
UID:10002074-1676196000-1676201400@www.evangelisationsteam.de
SUMMARY:Gottesdienst
DESCRIPTION:DR. CHRISTA-MARIA STEINBERG
URL:https://www.evangelisationsteam.de/termin/gottesdienst-176/
LOCATION:AUERBACH/​V.\, Rathenaustr. 5\, AUERBACH / V.\, 08209\, Germany
ATTACH;FMTTYPE=image/jpeg:https://www.evangelisationsteam.de/wp-content/uploads/2021/07/Steinberg-23-von-68.jpg
END:VEVENT
BEGIN:VEVENT
DTSTART;TZID=UTC:20190330T193000
DTEND;TZID=UTC:20190330T210000
DTSTAMP:20260421T164032
CREATED:20190202T102837Z
LAST-MODIFIED:20190202T102837Z
UID:10001585-1553974200-1553979600@www.evangelisationsteam.de
SUMMARY:OFFENER ABEND
DESCRIPTION:DR. CHRISTA-MARIA STEINBERG
URL:https://www.evangelisationsteam.de/termin/offener-abend-14/
LOCATION:AUERBACH/​V.\, Rathenaustr. 5\, AUERBACH / V.\, 08209\, Germany
END:VEVENT
END:VCALENDAR