BEGIN:VCALENDAR
VERSION:2.0
PRODID:-//evangelisationsteam.de - ECPv6.15.20//NONSGML v1.0//EN
CALSCALE:GREGORIAN
METHOD:PUBLISH
X-ORIGINAL-URL:https://www.evangelisationsteam.de
X-WR-CALDESC:Veranstaltungen für evangelisationsteam.de
REFRESH-INTERVAL;VALUE=DURATION:PT1H
X-Robots-Tag:noindex
X-PUBLISHED-TTL:PT1H
BEGIN:VTIMEZONE
TZID:Europe/Berlin
BEGIN:DAYLIGHT
TZOFFSETFROM:+0100
TZOFFSETTO:+0200
TZNAME:CEST
DTSTART:20210328T010000
END:DAYLIGHT
BEGIN:STANDARD
TZOFFSETFROM:+0200
TZOFFSETTO:+0100
TZNAME:CET
DTSTART:20211031T010000
END:STANDARD
BEGIN:DAYLIGHT
TZOFFSETFROM:+0100
TZOFFSETTO:+0200
TZNAME:CEST
DTSTART:20220327T010000
END:DAYLIGHT
BEGIN:STANDARD
TZOFFSETFROM:+0200
TZOFFSETTO:+0100
TZNAME:CET
DTSTART:20221030T010000
END:STANDARD
BEGIN:DAYLIGHT
TZOFFSETFROM:+0100
TZOFFSETTO:+0200
TZNAME:CEST
DTSTART:20230326T010000
END:DAYLIGHT
BEGIN:STANDARD
TZOFFSETFROM:+0200
TZOFFSETTO:+0100
TZNAME:CET
DTSTART:20231029T010000
END:STANDARD
BEGIN:DAYLIGHT
TZOFFSETFROM:+0100
TZOFFSETTO:+0200
TZNAME:CEST
DTSTART:20240331T010000
END:DAYLIGHT
BEGIN:STANDARD
TZOFFSETFROM:+0200
TZOFFSETTO:+0100
TZNAME:CET
DTSTART:20241027T010000
END:STANDARD
BEGIN:DAYLIGHT
TZOFFSETFROM:+0100
TZOFFSETTO:+0200
TZNAME:CEST
DTSTART:20250330T010000
END:DAYLIGHT
BEGIN:STANDARD
TZOFFSETFROM:+0200
TZOFFSETTO:+0100
TZNAME:CET
DTSTART:20251026T010000
END:STANDARD
BEGIN:DAYLIGHT
TZOFFSETFROM:+0100
TZOFFSETTO:+0200
TZNAME:CEST
DTSTART:20260329T010000
END:DAYLIGHT
BEGIN:STANDARD
TZOFFSETFROM:+0200
TZOFFSETTO:+0100
TZNAME:CET
DTSTART:20261025T010000
END:STANDARD
END:VTIMEZONE
BEGIN:VTIMEZONE
TZID:UTC
BEGIN:STANDARD
TZOFFSETFROM:+0000
TZOFFSETTO:+0000
TZNAME:UTC
DTSTART:20180101T000000
END:STANDARD
END:VTIMEZONE
BEGIN:VEVENT
DTSTART;TZID=Europe/Berlin:20250518T100000
DTEND;TZID=Europe/Berlin:20250518T113000
DTSTAMP:20260419T225746
CREATED:20250515T080907Z
LAST-MODIFIED:20250515T080907Z
UID:10006434-1747562400-1747567800@www.evangelisationsteam.de
SUMMARY:Gottesdienst in Wilhermsdorf
DESCRIPTION:
URL:https://www.evangelisationsteam.de/termin/gottesdienst-in-wilhermsdorf/
LOCATION:BIBELGEMEINDE WILHERMSDORF\, Gerberstr. 19 A\, WILHERMSDORF\, 91452
ATTACH;FMTTYPE=image/jpeg:https://www.evangelisationsteam.de/wp-content/uploads/2025/01/Verkuendigung_013-scaled.jpg
END:VEVENT
BEGIN:VEVENT
DTSTART;TZID=Europe/Berlin:20231015T193000
DTEND;TZID=Europe/Berlin:20231015T210000
DTSTAMP:20260419T225746
CREATED:20230719T073059Z
LAST-MODIFIED:20230719T073059Z
UID:10004142-1697398200-1697403600@www.evangelisationsteam.de
SUMMARY:EVANGELISATION
DESCRIPTION:LUTZ SCHEUFLER
URL:https://www.evangelisationsteam.de/termin/evangelisation-78/2023-10-15/
LOCATION:BIBELGEMEINDE WILHERMSDORF\, Gerberstr. 19 A\, WILHERMSDORF\, 91452
ATTACH;FMTTYPE=image/jpeg:https://www.evangelisationsteam.de/wp-content/uploads/2022/06/2022-Scheufler.jpg
END:VEVENT
BEGIN:VEVENT
DTSTART;TZID=Europe/Berlin:20231014T193000
DTEND;TZID=Europe/Berlin:20231014T210000
DTSTAMP:20260419T225746
CREATED:20230719T073059Z
LAST-MODIFIED:20230719T073059Z
UID:10004141-1697311800-1697317200@www.evangelisationsteam.de
SUMMARY:EVANGELISATION
DESCRIPTION:LUTZ SCHEUFLER
URL:https://www.evangelisationsteam.de/termin/evangelisation-78/2023-10-14/
LOCATION:BIBELGEMEINDE WILHERMSDORF\, Gerberstr. 19 A\, WILHERMSDORF\, 91452
ATTACH;FMTTYPE=image/jpeg:https://www.evangelisationsteam.de/wp-content/uploads/2022/06/2022-Scheufler.jpg
END:VEVENT
BEGIN:VEVENT
DTSTART;TZID=Europe/Berlin:20231013T193000
DTEND;TZID=Europe/Berlin:20231013T210000
DTSTAMP:20260419T225746
CREATED:20230719T073059Z
LAST-MODIFIED:20230719T073059Z
UID:10004140-1697225400-1697230800@www.evangelisationsteam.de
SUMMARY:EVANGELISATION
DESCRIPTION:LUTZ SCHEUFLER
URL:https://www.evangelisationsteam.de/termin/evangelisation-78/2023-10-13/
LOCATION:BIBELGEMEINDE WILHERMSDORF\, Gerberstr. 19 A\, WILHERMSDORF\, 91452
ATTACH;FMTTYPE=image/jpeg:https://www.evangelisationsteam.de/wp-content/uploads/2022/06/2022-Scheufler.jpg
END:VEVENT
BEGIN:VEVENT
DTSTART;TZID=Europe/Berlin:20221023T100000
DTEND;TZID=Europe/Berlin:20221023T113000
DTSTAMP:20260419T225746
CREATED:20220719T134624Z
LAST-MODIFIED:20220719T134624Z
UID:10001326-1666519200-1666524600@www.evangelisationsteam.de
SUMMARY:EVANGELISATION
DESCRIPTION:LUTZ SCHEUFLER
URL:https://www.evangelisationsteam.de/termin/evangelisation-74/
LOCATION:BIBELGEMEINDE WILHERMSDORF\, Gerberstr. 19 A\, WILHERMSDORF\, 91452
ATTACH;FMTTYPE=image/jpeg:https://www.evangelisationsteam.de/wp-content/uploads/2022/07/Lutz2.jpeg
END:VEVENT
BEGIN:VEVENT
DTSTART;TZID=Europe/Berlin:20221022T193000
DTEND;TZID=Europe/Berlin:20221022T204500
DTSTAMP:20260419T225746
CREATED:20220719T134526Z
LAST-MODIFIED:20220719T134526Z
UID:10001324-1666467000-1666471500@www.evangelisationsteam.de
SUMMARY:EVANGELISATION
DESCRIPTION:LUTZ SCHEUFLER
URL:https://www.evangelisationsteam.de/termin/evangelisation-73/2022-10-22/
LOCATION:BIBELGEMEINDE WILHERMSDORF\, Gerberstr. 19 A\, WILHERMSDORF\, 91452
ATTACH;FMTTYPE=image/jpeg:https://www.evangelisationsteam.de/wp-content/uploads/2022/07/Lutz2.jpeg
END:VEVENT
BEGIN:VEVENT
DTSTART;TZID=Europe/Berlin:20221021T193000
DTEND;TZID=Europe/Berlin:20221021T204500
DTSTAMP:20260419T225746
CREATED:20220719T134526Z
LAST-MODIFIED:20220719T134526Z
UID:10001323-1666380600-1666385100@www.evangelisationsteam.de
SUMMARY:EVANGELISATION
DESCRIPTION:LUTZ SCHEUFLER
URL:https://www.evangelisationsteam.de/termin/evangelisation-73/2022-10-21/
LOCATION:BIBELGEMEINDE WILHERMSDORF\, Gerberstr. 19 A\, WILHERMSDORF\, 91452
ATTACH;FMTTYPE=image/jpeg:https://www.evangelisationsteam.de/wp-content/uploads/2022/07/Lutz2.jpeg
END:VEVENT
BEGIN:VEVENT
DTSTART;TZID=Europe/Berlin:20221020T193000
DTEND;TZID=Europe/Berlin:20221020T204500
DTSTAMP:20260419T225746
CREATED:20220719T134526Z
LAST-MODIFIED:20220719T134526Z
UID:10001322-1666294200-1666298700@www.evangelisationsteam.de
SUMMARY:EVANGELISATION
DESCRIPTION:LUTZ SCHEUFLER
URL:https://www.evangelisationsteam.de/termin/evangelisation-73/2022-10-20/
LOCATION:BIBELGEMEINDE WILHERMSDORF\, Gerberstr. 19 A\, WILHERMSDORF\, 91452
ATTACH;FMTTYPE=image/jpeg:https://www.evangelisationsteam.de/wp-content/uploads/2022/07/Lutz2.jpeg
END:VEVENT
BEGIN:VEVENT
DTSTART;TZID=Europe/Berlin:20220925T100000
DTEND;TZID=Europe/Berlin:20220925T113000
DTSTAMP:20260419T225746
CREATED:20220526T093705Z
LAST-MODIFIED:20220526T093705Z
UID:10001997-1664100000-1664105400@www.evangelisationsteam.de
SUMMARY:GOTTESDIENST
DESCRIPTION:LUTZ SCHEUFLER
URL:https://www.evangelisationsteam.de/termin/gottesdienst-160/
LOCATION:BIBELGEMEINDE WILHERMSDORF\, Gerberstr. 19 A\, WILHERMSDORF\, 91452
ATTACH;FMTTYPE=image/jpeg:https://www.evangelisationsteam.de/wp-content/uploads/2020/07/IMG_5519.jpeg
END:VEVENT
BEGIN:VEVENT
DTSTART;TZID=UTC:20191020T100000
DTEND;TZID=UTC:20191020T113000
DTSTAMP:20260419T225746
CREATED:20190814T070203Z
LAST-MODIFIED:20190814T070203Z
UID:10001647-1571565600-1571571000@www.evangelisationsteam.de
SUMMARY:GOTTESDIENST
DESCRIPTION:LUTZ SCHEUFLER
URL:https://www.evangelisationsteam.de/termin/gottesdienst-85/
LOCATION:BIBELGEMEINDE WILHERMSDORF\, Gerberstr. 19 A\, WILHERMSDORF\, 91452
END:VEVENT
BEGIN:VEVENT
DTSTART;TZID=UTC:20191016T193000
DTEND;TZID=UTC:20191019T210000
DTSTAMP:20260419T225746
CREATED:20190814T070101Z
LAST-MODIFIED:20191009T115232Z
UID:10001646-1571254200-1571518800@www.evangelisationsteam.de
SUMMARY:EVANGELISATION
DESCRIPTION:LUTZ SCHEUFLER 
URL:https://www.evangelisationsteam.de/termin/evangelisation-42/
LOCATION:BIBELGEMEINDE WILHERMSDORF\, Gerberstr. 19 A\, WILHERMSDORF\, 91452
END:VEVENT
BEGIN:VEVENT
DTSTART;TZID=UTC:20190428T100000
DTEND;TZID=UTC:20190428T113000
DTSTAMP:20260419T225746
CREATED:20190421T112351Z
LAST-MODIFIED:20190421T112351Z
UID:10000941-1556445600-1556451000@www.evangelisationsteam.de
SUMMARY:Gottesdienst
DESCRIPTION:LUTZ SCHEUFLER
URL:https://www.evangelisationsteam.de/termin/gottesdienst-81/
LOCATION:BIBELGEMEINDE WILHERMSDORF\, Gerberstr. 19 A\, WILHERMSDORF\, 91452
END:VEVENT
END:VCALENDAR