BEGIN:VCALENDAR
VERSION:2.0
PRODID:-//evangelisationsteam.de - ECPv6.15.20//NONSGML v1.0//EN
CALSCALE:GREGORIAN
METHOD:PUBLISH
X-ORIGINAL-URL:https://www.evangelisationsteam.de
X-WR-CALDESC:Veranstaltungen für evangelisationsteam.de
REFRESH-INTERVAL;VALUE=DURATION:PT1H
X-Robots-Tag:noindex
X-PUBLISHED-TTL:PT1H
BEGIN:VTIMEZONE
TZID:UTC
BEGIN:STANDARD
TZOFFSETFROM:+0000
TZOFFSETTO:+0000
TZNAME:UTC
DTSTART:20150101T000000
END:STANDARD
END:VTIMEZONE
BEGIN:VEVENT
DTSTART;TZID=UTC:20161119T173000
DTEND;TZID=UTC:20161119T190000
DTSTAMP:20260420T161034
CREATED:20160829T090058Z
LAST-MODIFIED:20160829T090058Z
UID:10001040-1479576600-1479582000@www.evangelisationsteam.de
SUMMARY:SNC-JUNGENDGOTTESDIENST
DESCRIPTION:LUTZ SCHEUFLER
URL:https://www.evangelisationsteam.de/termin/snc-jungendgottesdienst/
LOCATION:CHRISTUSKIRCHE\, Paul-Keller-Str.	\, FORCHHEIM\, 91301
END:VEVENT
END:VCALENDAR