BEGIN:VCALENDAR
VERSION:2.0
PRODID:-//evangelisationsteam.de - ECPv6.15.20//NONSGML v1.0//EN
CALSCALE:GREGORIAN
METHOD:PUBLISH
X-ORIGINAL-URL:https://www.evangelisationsteam.de
X-WR-CALDESC:Veranstaltungen für evangelisationsteam.de
REFRESH-INTERVAL;VALUE=DURATION:PT1H
X-Robots-Tag:noindex
X-PUBLISHED-TTL:PT1H
BEGIN:VTIMEZONE
TZID:UTC
BEGIN:STANDARD
TZOFFSETFROM:+0000
TZOFFSETTO:+0000
TZNAME:UTC
DTSTART:20170101T000000
END:STANDARD
END:VTIMEZONE
BEGIN:VEVENT
DTSTART;TZID=UTC:20180624T140000
DTEND;TZID=UTC:20180624T160000
DTSTAMP:20260420T234142
CREATED:20180130T193526Z
LAST-MODIFIED:20180130T193526Z
UID:10000738-1529848800-1529856000@www.evangelisationsteam.de
SUMMARY:FESTVERANSTALTUNG
DESCRIPTION:LUTZ SCHEUFLER
URL:https://www.evangelisationsteam.de/termin/festveranstaltung/
LOCATION:DIAKONISSENHAUS AUE\, Schneebergerstr. 98\, AUE\, 08280
END:VEVENT
BEGIN:VEVENT
DTSTART;TZID=UTC:20180624T093000
DTEND;TZID=UTC:20180624T110000
DTSTAMP:20260420T234142
CREATED:20180130T193436Z
LAST-MODIFIED:20180130T193436Z
UID:10000736-1529832600-1529838000@www.evangelisationsteam.de
SUMMARY:GOTTESDIENST
DESCRIPTION:LUTZ SCHEUFLER
URL:https://www.evangelisationsteam.de/termin/gottesdienst-56/
LOCATION:DIAKONISSENHAUS AUE\, Schneebergerstr. 98\, AUE\, 08280
END:VEVENT
BEGIN:VEVENT
DTSTART;TZID=UTC:20180623T193000
DTEND;TZID=UTC:20180623T210000
DTSTAMP:20260420T234142
CREATED:20180130T193333Z
LAST-MODIFIED:20180130T193333Z
UID:10001417-1529782200-1529787600@www.evangelisationsteam.de
SUMMARY:KONZERT
DESCRIPTION:LUTZ SCHEUFLER \nPIANO: RONNY NEUMANN
URL:https://www.evangelisationsteam.de/termin/konzert-12/
LOCATION:DIAKONISSENHAUS AUE\, Schneebergerstr. 98\, AUE\, 08280
END:VEVENT
END:VCALENDAR