BEGIN:VCALENDAR
VERSION:2.0
PRODID:-//evangelisationsteam.de - ECPv6.15.20//NONSGML v1.0//EN
CALSCALE:GREGORIAN
METHOD:PUBLISH
X-WR-CALNAME:evangelisationsteam.de
X-ORIGINAL-URL:https://www.evangelisationsteam.de
X-WR-CALDESC:Veranstaltungen für evangelisationsteam.de
REFRESH-INTERVAL;VALUE=DURATION:PT1H
X-Robots-Tag:noindex
X-PUBLISHED-TTL:PT1H
BEGIN:VTIMEZONE
TZID:Europe/Berlin
BEGIN:DAYLIGHT
TZOFFSETFROM:+0100
TZOFFSETTO:+0200
TZNAME:CEST
DTSTART:20190331T010000
END:DAYLIGHT
BEGIN:STANDARD
TZOFFSETFROM:+0200
TZOFFSETTO:+0100
TZNAME:CET
DTSTART:20191027T010000
END:STANDARD
BEGIN:DAYLIGHT
TZOFFSETFROM:+0100
TZOFFSETTO:+0200
TZNAME:CEST
DTSTART:20200329T010000
END:DAYLIGHT
BEGIN:STANDARD
TZOFFSETFROM:+0200
TZOFFSETTO:+0100
TZNAME:CET
DTSTART:20201025T010000
END:STANDARD
BEGIN:DAYLIGHT
TZOFFSETFROM:+0100
TZOFFSETTO:+0200
TZNAME:CEST
DTSTART:20210328T010000
END:DAYLIGHT
BEGIN:STANDARD
TZOFFSETFROM:+0200
TZOFFSETTO:+0100
TZNAME:CET
DTSTART:20211031T010000
END:STANDARD
END:VTIMEZONE
BEGIN:VTIMEZONE
TZID:UTC
BEGIN:STANDARD
TZOFFSETFROM:+0000
TZOFFSETTO:+0000
TZNAME:UTC
DTSTART:20170101T000000
END:STANDARD
END:VTIMEZONE
BEGIN:VEVENT
DTSTART;TZID=Europe/Berlin:20200612T193000
DTEND;TZID=Europe/Berlin:20200612T210000
DTSTAMP:20260420T181501
CREATED:20200528T075831Z
LAST-MODIFIED:20200528T080125Z
UID:10001740-1591990200-1591995600@www.evangelisationsteam.de
SUMMARY:GospelMagic Treuen
DESCRIPTION:Ein­fach Unglaublich-Treuen
URL:https://www.evangelisationsteam.de/termin/gospelmagic-treuen/
LOCATION:Ev.-Luth. Kir­che Treuen\, Pfarrstraße 4\, Treuen\, 08233\, Deutschland
ATTACH;FMTTYPE=application/pdf:https://www.evangelisationsteam.de/wp-content/uploads/2020/05/Einfach-Unglaublich-Treuen-1.pdf
END:VEVENT
BEGIN:VEVENT
DTSTART;TZID=UTC:20180429T093000
DTEND;TZID=UTC:20180429T110000
DTSTAMP:20260420T181501
CREATED:20180412T084052Z
LAST-MODIFIED:20180412T084052Z
UID:10001453-1524994200-1524999600@www.evangelisationsteam.de
SUMMARY:Abschlussgottesdienst zur Bibelwoche in Treuen
DESCRIPTION:
URL:https://www.evangelisationsteam.de/termin/abschlussgottesdienst-zur-bibelwoche-in-treuen/
LOCATION:Ev.-Luth. Kir­che Treuen\, Pfarrstraße 4\, Treuen\, 08233\, Deutschland
END:VEVENT
END:VCALENDAR