BEGIN:VCALENDAR
VERSION:2.0
PRODID:-//evangelisationsteam.de - ECPv6.15.20//NONSGML v1.0//EN
CALSCALE:GREGORIAN
METHOD:PUBLISH
X-WR-CALNAME:evangelisationsteam.de
X-ORIGINAL-URL:https://www.evangelisationsteam.de
X-WR-CALDESC:Veranstaltungen für evangelisationsteam.de
REFRESH-INTERVAL;VALUE=DURATION:PT1H
X-Robots-Tag:noindex
X-PUBLISHED-TTL:PT1H
BEGIN:VTIMEZONE
TZID:UTC
BEGIN:STANDARD
TZOFFSETFROM:+0000
TZOFFSETTO:+0000
TZNAME:UTC
DTSTART:20180101T000000
END:STANDARD
END:VTIMEZONE
BEGIN:VEVENT
DTSTART;TZID=UTC:20191108T190000
DTEND;TZID=UTC:20191108T203000
DTSTAMP:20260420T172150
CREATED:20190821T101129Z
LAST-MODIFIED:20190821T101129Z
UID:10001670-1573239600-1573245000@www.evangelisationsteam.de
SUMMARY:EVANGELISATIONSABEND
DESCRIPTION:GUNTRAM WURST
URL:https://www.evangelisationsteam.de/termin/evangelisationsabend/
LOCATION:Ev.-meth. Frie­dens­kir­che Zwönitz\, Robert-Koch-Straße 1\, Zwönitz\, 08297\, Deutschland
ORGANIZER;CN="Ev.-meth. Friedenskirche Zw%C3%B6nitz":MAILTO:info@emk-zwoenitztal.de
END:VEVENT
END:VCALENDAR