BEGIN:VCALENDAR
VERSION:2.0
PRODID:-//evangelisationsteam.de - ECPv6.15.20//NONSGML v1.0//EN
CALSCALE:GREGORIAN
METHOD:PUBLISH
X-ORIGINAL-URL:https://www.evangelisationsteam.de
X-WR-CALDESC:Veranstaltungen für evangelisationsteam.de
REFRESH-INTERVAL;VALUE=DURATION:PT1H
X-Robots-Tag:noindex
X-PUBLISHED-TTL:PT1H
BEGIN:VTIMEZONE
TZID:UTC
BEGIN:STANDARD
TZOFFSETFROM:+0000
TZOFFSETTO:+0000
TZNAME:UTC
DTSTART:20160101T000000
END:STANDARD
END:VTIMEZONE
BEGIN:VEVENT
DTSTART;TZID=UTC:20180206T190000
DTEND;TZID=UTC:20180206T203000
DTSTAMP:20260419T145547
CREATED:20171120T114731Z
LAST-MODIFIED:20171120T114731Z
UID:10001374-1517943600-1517949000@www.evangelisationsteam.de
SUMMARY:Elternabend
DESCRIPTION:DR. CHRISTA-MARIA STEINBERG
URL:https://www.evangelisationsteam.de/termin/elternabend-8/
LOCATION:EV. SCHULE\, Gersdorf\, 09355
END:VEVENT
BEGIN:VEVENT
DTSTART;TZID=UTC:20171128T190000
DTEND;TZID=UTC:20171128T213000
DTSTAMP:20260419T145547
CREATED:20170902T085223Z
LAST-MODIFIED:20170902T085223Z
UID:10000679-1511895600-1511904600@www.evangelisationsteam.de
SUMMARY:ELTERNABEND
DESCRIPTION:DR. CHRISTA-MARIA STEINBERG
URL:https://www.evangelisationsteam.de/termin/elternabend-7/
LOCATION:EV. SCHULE\, Gersdorf\, 09355
END:VEVENT
BEGIN:VEVENT
DTSTART;TZID=UTC:20170919T190000
DTEND;TZID=UTC:20170919T203000
DTSTAMP:20260419T145547
CREATED:20170902T083714Z
LAST-MODIFIED:20170902T083714Z
UID:10000664-1505847600-1505853000@www.evangelisationsteam.de
SUMMARY:ELTERNABEND
DESCRIPTION:DR. CHRISTA-MARIA STEINBERG
URL:https://www.evangelisationsteam.de/termin/elternabend-6/
LOCATION:EV. SCHULE\, Gersdorf\, 09355
END:VEVENT
END:VCALENDAR