BEGIN:VCALENDAR
VERSION:2.0
PRODID:-//evangelisationsteam.de - ECPv6.15.20//NONSGML v1.0//EN
CALSCALE:GREGORIAN
METHOD:PUBLISH
X-ORIGINAL-URL:https://www.evangelisationsteam.de
X-WR-CALDESC:Veranstaltungen für evangelisationsteam.de
REFRESH-INTERVAL;VALUE=DURATION:PT1H
X-Robots-Tag:noindex
X-PUBLISHED-TTL:PT1H
BEGIN:VTIMEZONE
TZID:Europe/Berlin
BEGIN:DAYLIGHT
TZOFFSETFROM:+0100
TZOFFSETTO:+0200
TZNAME:CEST
DTSTART:20240331T010000
END:DAYLIGHT
BEGIN:STANDARD
TZOFFSETFROM:+0200
TZOFFSETTO:+0100
TZNAME:CET
DTSTART:20241027T010000
END:STANDARD
BEGIN:DAYLIGHT
TZOFFSETFROM:+0100
TZOFFSETTO:+0200
TZNAME:CEST
DTSTART:20250330T010000
END:DAYLIGHT
BEGIN:STANDARD
TZOFFSETFROM:+0200
TZOFFSETTO:+0100
TZNAME:CET
DTSTART:20251026T010000
END:STANDARD
BEGIN:DAYLIGHT
TZOFFSETFROM:+0100
TZOFFSETTO:+0200
TZNAME:CEST
DTSTART:20260329T010000
END:DAYLIGHT
BEGIN:STANDARD
TZOFFSETFROM:+0200
TZOFFSETTO:+0100
TZNAME:CET
DTSTART:20261025T010000
END:STANDARD
END:VTIMEZONE
BEGIN:VEVENT
DTSTART;TZID=Europe/Berlin:20250511T100000
DTEND;TZID=Europe/Berlin:20250511T113000
DTSTAMP:20260421T041002
CREATED:20250123T132617Z
LAST-MODIFIED:20250321T165735Z
UID:10005991-1746957600-1746963000@www.evangelisationsteam.de
SUMMARY:Evangelisation
DESCRIPTION:LUTZ SCHEUFLER
URL:https://www.evangelisationsteam.de/termin/evangelisation-91/2025-05-11/
LOCATION:FEG UTZENSTORF\, Landshutstrasse 61\, Utzenstorf\, 3427\, Switzerland
ATTACH;FMTTYPE=image/jpeg:https://www.evangelisationsteam.de/wp-content/uploads/2025/01/SCHEUFLER-L.jpg
END:VEVENT
BEGIN:VEVENT
DTSTART;TZID=Europe/Berlin:20250510T200000
DTEND;TZID=Europe/Berlin:20250510T213000
DTSTAMP:20260421T041002
CREATED:20250123T132617Z
LAST-MODIFIED:20250321T165735Z
UID:10005990-1746907200-1746912600@www.evangelisationsteam.de
SUMMARY:Evangelisation
DESCRIPTION:LUTZ SCHEUFLER
URL:https://www.evangelisationsteam.de/termin/evangelisation-91/2025-05-10/
LOCATION:FEG UTZENSTORF\, Landshutstrasse 61\, Utzenstorf\, 3427\, Switzerland
ATTACH;FMTTYPE=image/jpeg:https://www.evangelisationsteam.de/wp-content/uploads/2025/01/SCHEUFLER-L.jpg
END:VEVENT
BEGIN:VEVENT
DTSTART;TZID=Europe/Berlin:20250509T200000
DTEND;TZID=Europe/Berlin:20250509T213000
DTSTAMP:20260421T041002
CREATED:20250123T132617Z
LAST-MODIFIED:20250321T165735Z
UID:10005989-1746820800-1746826200@www.evangelisationsteam.de
SUMMARY:Evangelisation
DESCRIPTION:LUTZ SCHEUFLER
URL:https://www.evangelisationsteam.de/termin/evangelisation-91/2025-05-09/
LOCATION:FEG UTZENSTORF\, Landshutstrasse 61\, Utzenstorf\, 3427\, Switzerland
ATTACH;FMTTYPE=image/jpeg:https://www.evangelisationsteam.de/wp-content/uploads/2025/01/SCHEUFLER-L.jpg
END:VEVENT
BEGIN:VEVENT
DTSTART;TZID=Europe/Berlin:20250508T200000
DTEND;TZID=Europe/Berlin:20250508T210000
DTSTAMP:20260421T041002
CREATED:20250123T132617Z
LAST-MODIFIED:20250321T165735Z
UID:10005988-1746734400-1746738000@www.evangelisationsteam.de
SUMMARY:Evangelisation
DESCRIPTION:LUTZ SCHEUFLER
URL:https://www.evangelisationsteam.de/termin/evangelisation-91/2025-05-08/
LOCATION:FEG UTZENSTORF\, Landshutstrasse 61\, Utzenstorf\, 3427\, Switzerland
ATTACH;FMTTYPE=image/jpeg:https://www.evangelisationsteam.de/wp-content/uploads/2025/01/SCHEUFLER-L.jpg
END:VEVENT
BEGIN:VEVENT
DTSTART;TZID=Europe/Berlin:20250507T200000
DTEND;TZID=Europe/Berlin:20250507T213000
DTSTAMP:20260421T041002
CREATED:20250123T132617Z
LAST-MODIFIED:20250321T165735Z
UID:10005987-1746648000-1746653400@www.evangelisationsteam.de
SUMMARY:Evangelisation
DESCRIPTION:LUTZ SCHEUFLER
URL:https://www.evangelisationsteam.de/termin/evangelisation-91/2025-05-07/
LOCATION:FEG UTZENSTORF\, Landshutstrasse 61\, Utzenstorf\, 3427\, Switzerland
ATTACH;FMTTYPE=image/jpeg:https://www.evangelisationsteam.de/wp-content/uploads/2025/01/SCHEUFLER-L.jpg
END:VEVENT
BEGIN:VEVENT
DTSTART;TZID=Europe/Berlin:20250406T163000
DTEND;TZID=Europe/Berlin:20250406T180000
DTSTAMP:20260421T041002
CREATED:20241122T180532Z
LAST-MODIFIED:20250221T112009Z
UID:10005927-1743957000-1743962400@www.evangelisationsteam.de
SUMMARY:Gottesdienst
DESCRIPTION:LUTZ SCHEUFLER
URL:https://www.evangelisationsteam.de/termin/gottesdienst-242/
LOCATION:FEG UTZENSTORF\, Landshutstrasse 61\, Utzenstorf\, 3427\, Switzerland
ATTACH;FMTTYPE=image/jpeg:https://www.evangelisationsteam.de/wp-content/uploads/2022/06/Lutz-Scheufler.jpg
END:VEVENT
END:VCALENDAR