BEGIN:VCALENDAR
VERSION:2.0
PRODID:-//evangelisationsteam.de - ECPv6.15.20//NONSGML v1.0//EN
CALSCALE:GREGORIAN
METHOD:PUBLISH
X-WR-CALNAME:evangelisationsteam.de
X-ORIGINAL-URL:https://www.evangelisationsteam.de
X-WR-CALDESC:Veranstaltungen für evangelisationsteam.de
REFRESH-INTERVAL;VALUE=DURATION:PT1H
X-Robots-Tag:noindex
X-PUBLISHED-TTL:PT1H
BEGIN:VTIMEZONE
TZID:UTC
BEGIN:STANDARD
TZOFFSETFROM:+0000
TZOFFSETTO:+0000
TZNAME:UTC
DTSTART:20140101T000000
END:STANDARD
END:VTIMEZONE
BEGIN:VEVENT
DTSTART;TZID=UTC:20151013T193000
DTEND;TZID=UTC:20151013T210000
DTSTAMP:20260419T175452
CREATED:20150622T050549Z
LAST-MODIFIED:20150622T050549Z
UID:10000517-1444764600-1444770000@www.evangelisationsteam.de
SUMMARY:FRAUENKREIS
DESCRIPTION:DR. CHRISTA-MARIA STEINBERG
URL:https://www.evangelisationsteam.de/termin/frauenkreis-3/
LOCATION:Ge­mein­de­haus\, Pestalozzistr.11\, Neukirchen\, 08459
END:VEVENT
BEGIN:VEVENT
DTSTART;TZID=UTC:20151013T193000
DTEND;TZID=UTC:20151013T210000
DTSTAMP:20260419T175452
CREATED:20150622T050549Z
LAST-MODIFIED:20150622T050549Z
UID:10000513-1444764600-1444770000@www.evangelisationsteam.de
SUMMARY:FRAUENKREIS
DESCRIPTION:DR. CHRISTA-MARIA STEINBERG
URL:https://www.evangelisationsteam.de/termin/frauenkreis-3-3/
LOCATION:Ge­mein­de­haus\, Pestalozzistr.11\, Neukirchen\, 08459
END:VEVENT
BEGIN:VEVENT
DTSTART;TZID=UTC:20151013T193000
DTEND;TZID=UTC:20151013T210000
DTSTAMP:20260419T175452
CREATED:20150622T050549Z
LAST-MODIFIED:20150622T050549Z
UID:10000515-1444764600-1444770000@www.evangelisationsteam.de
SUMMARY:FRAUENKREIS
DESCRIPTION:DR. CHRISTA-MARIA STEINBERG
URL:https://www.evangelisationsteam.de/termin/frauenkreis-3-2/
LOCATION:Ge­mein­de­haus\, Pestalozzistr.11\, Neukirchen\, 08459
END:VEVENT
END:VCALENDAR