BEGIN:VCALENDAR
VERSION:2.0
PRODID:-//evangelisationsteam.de - ECPv6.15.20//NONSGML v1.0//EN
CALSCALE:GREGORIAN
METHOD:PUBLISH
X-WR-CALNAME:evangelisationsteam.de
X-ORIGINAL-URL:https://www.evangelisationsteam.de
X-WR-CALDESC:Veranstaltungen für evangelisationsteam.de
REFRESH-INTERVAL;VALUE=DURATION:PT1H
X-Robots-Tag:noindex
X-PUBLISHED-TTL:PT1H
BEGIN:VTIMEZONE
TZID:Europe/Berlin
BEGIN:DAYLIGHT
TZOFFSETFROM:+0100
TZOFFSETTO:+0200
TZNAME:CEST
DTSTART:20230326T010000
END:DAYLIGHT
BEGIN:STANDARD
TZOFFSETFROM:+0200
TZOFFSETTO:+0100
TZNAME:CET
DTSTART:20231029T010000
END:STANDARD
BEGIN:DAYLIGHT
TZOFFSETFROM:+0100
TZOFFSETTO:+0200
TZNAME:CEST
DTSTART:20240331T010000
END:DAYLIGHT
BEGIN:STANDARD
TZOFFSETFROM:+0200
TZOFFSETTO:+0100
TZNAME:CET
DTSTART:20241027T010000
END:STANDARD
BEGIN:DAYLIGHT
TZOFFSETFROM:+0100
TZOFFSETTO:+0200
TZNAME:CEST
DTSTART:20250330T010000
END:DAYLIGHT
BEGIN:STANDARD
TZOFFSETFROM:+0200
TZOFFSETTO:+0100
TZNAME:CET
DTSTART:20251026T010000
END:STANDARD
BEGIN:DAYLIGHT
TZOFFSETFROM:+0100
TZOFFSETTO:+0200
TZNAME:CEST
DTSTART:20260329T010000
END:DAYLIGHT
BEGIN:STANDARD
TZOFFSETFROM:+0200
TZOFFSETTO:+0100
TZNAME:CET
DTSTART:20261025T010000
END:STANDARD
END:VTIMEZONE
BEGIN:VTIMEZONE
TZID:UTC
BEGIN:STANDARD
TZOFFSETFROM:+0000
TZOFFSETTO:+0000
TZNAME:UTC
DTSTART:20210101T000000
END:STANDARD
END:VTIMEZONE
BEGIN:VEVENT
DTSTART;TZID=Europe/Berlin:20251018T083000
DTEND;TZID=Europe/Berlin:20251018T120000
DTSTAMP:20260421T054615
CREATED:20250901T162656Z
LAST-MODIFIED:20250901T162656Z
UID:10008021-1760776200-1760788800@www.evangelisationsteam.de
SUMMARY:Frauenfrühstück | Jahnsdorf
DESCRIPTION:Dr. Chris­ta-Ma­ria Steinberg
URL:https://www.evangelisationsteam.de/termin/frauenfruehstueck-jahnsdorf/
LOCATION:Pfarr­haus Jahnsdorf\, Meinersdorfer Straße 4\, Jahnsdorf\, 09387
ATTACH;FMTTYPE=image/jpeg:https://www.evangelisationsteam.de/wp-content/uploads/2024/03/Steinberg-23-von-68-edited.jpg
END:VEVENT
BEGIN:VEVENT
DTSTART;TZID=Europe/Berlin:20240312T193000
DTEND;TZID=Europe/Berlin:20240312T203000
DTSTAMP:20260421T054615
CREATED:20231227T125252Z
LAST-MODIFIED:20231227T125252Z
UID:10005000-1710271800-1710275400@www.evangelisationsteam.de
SUMMARY:BIBELWOCHENABEND
DESCRIPTION:GUNTRAM WURST
URL:https://www.evangelisationsteam.de/termin/bibelwochenabend-2/
LOCATION:Pfarr­haus Jahnsdorf\, Meinersdorfer Straße 4\, Jahnsdorf\, 09387
ATTACH;FMTTYPE=image/jpeg:https://www.evangelisationsteam.de/wp-content/uploads/2023/03/IMG_1234-scaled.jpg
ORGANIZER;CN="Ev.-Luth. Kirchgemeinde Jahnsdorf":MAILTO:kg.jahnsdorf@evlks.de
END:VEVENT
BEGIN:VEVENT
DTSTART;TZID=UTC:20221105T093000
DTEND;TZID=UTC:20221105T153000
DTSTAMP:20260421T054615
CREATED:20220823T104839Z
LAST-MODIFIED:20221007T120406Z
UID:10001348-1667640600-1667662200@www.evangelisationsteam.de
SUMMARY:SEMINAR PERSÖNLICHE EVANGELISATION
DESCRIPTION:GUNTRAM WURST
URL:https://www.evangelisationsteam.de/termin/seminar-persoenliche-evangelisation-12/
LOCATION:Pfarr­haus Jahnsdorf\, Meinersdorfer Straße 4\, Jahnsdorf\, 09387
ATTACH;FMTTYPE=image/jpeg:https://www.evangelisationsteam.de/wp-content/uploads/2021/05/P1080711.jpg
ORGANIZER;CN="Ev. Allianz Jahnsdorf":MAILTO:kg.jahnsdorf@evlks.de
END:VEVENT
BEGIN:VEVENT
DTSTART;TZID=UTC:20221104T190000
DTEND;TZID=UTC:20221104T213000
DTSTAMP:20260421T054615
CREATED:20220823T104533Z
LAST-MODIFIED:20221007T120251Z
UID:10001346-1667588400-1667597400@www.evangelisationsteam.de
SUMMARY:SEMINAR PERSÖNLICHE EVANGELISATION
DESCRIPTION:GUNTRAM WURST
URL:https://www.evangelisationsteam.de/termin/seminar-persoenliche-evangelisation-11/
LOCATION:Pfarr­haus Jahnsdorf\, Meinersdorfer Straße 4\, Jahnsdorf\, 09387
ATTACH;FMTTYPE=image/jpeg:https://www.evangelisationsteam.de/wp-content/uploads/2021/06/P1080537-2-scaled.jpg
ORGANIZER;CN="Ev. Allianz Jahnsdorf":MAILTO:kg.jahnsdorf@evlks.de
END:VEVENT
END:VCALENDAR