BEGIN:VCALENDAR
VERSION:2.0
PRODID:-//evangelisationsteam.de - ECPv6.15.20//NONSGML v1.0//EN
CALSCALE:GREGORIAN
METHOD:PUBLISH
X-ORIGINAL-URL:https://www.evangelisationsteam.de
X-WR-CALDESC:Veranstaltungen für evangelisationsteam.de
REFRESH-INTERVAL;VALUE=DURATION:PT1H
X-Robots-Tag:noindex
X-PUBLISHED-TTL:PT1H
BEGIN:VTIMEZONE
TZID:UTC
BEGIN:STANDARD
TZOFFSETFROM:+0000
TZOFFSETTO:+0000
TZNAME:UTC
DTSTART:20170101T000000
END:STANDARD
END:VTIMEZONE
BEGIN:VEVENT
DTSTART;TZID=UTC:20180428T090000
DTEND;TZID=UTC:20180428T113000
DTSTAMP:20260426T051950
CREATED:20180403T131000Z
LAST-MODIFIED:20180403T131000Z
UID:10000764-1524906000-1524915000@www.evangelisationsteam.de
SUMMARY:FRAUENFRÜSTÜCK
DESCRIPTION:DR. CHRISTA-MARIA STEINBERG
URL:https://www.evangelisationsteam.de/termin/frauenfruehstueck-17/
LOCATION:GEMEINDEHAUS LICHTENSTEIN\, Poststr. 11\, LICHTENSTEIN\, 09350
END:VEVENT
END:VCALENDAR